BEGIN:VCALENDAR
VERSION:2.0
PRODID:-//Kuopion kaupunginkirjasto - ECPv6.15.20//NONSGML v1.0//EN
CALSCALE:GREGORIAN
METHOD:PUBLISH
X-WR-CALNAME:Kuopion kaupunginkirjasto
X-ORIGINAL-URL:https://kuopionkirjasto.fi
X-WR-CALDESC:Tapahtumat Kuopion kaupunginkirjasto
REFRESH-INTERVAL;VALUE=DURATION:PT1H
X-Robots-Tag:noindex
X-PUBLISHED-TTL:PT1H
BEGIN:VTIMEZONE
TZID:Europe/Helsinki
BEGIN:DAYLIGHT
TZOFFSETFROM:+0200
TZOFFSETTO:+0300
TZNAME:EEST
DTSTART:20220327T010000
END:DAYLIGHT
BEGIN:STANDARD
TZOFFSETFROM:+0300
TZOFFSETTO:+0200
TZNAME:EET
DTSTART:20221030T010000
END:STANDARD
BEGIN:DAYLIGHT
TZOFFSETFROM:+0200
TZOFFSETTO:+0300
TZNAME:EEST
DTSTART:20230326T010000
END:DAYLIGHT
BEGIN:STANDARD
TZOFFSETFROM:+0300
TZOFFSETTO:+0200
TZNAME:EET
DTSTART:20231029T010000
END:STANDARD
BEGIN:DAYLIGHT
TZOFFSETFROM:+0200
TZOFFSETTO:+0300
TZNAME:EEST
DTSTART:20240331T010000
END:DAYLIGHT
BEGIN:STANDARD
TZOFFSETFROM:+0300
TZOFFSETTO:+0200
TZNAME:EET
DTSTART:20241027T010000
END:STANDARD
END:VTIMEZONE
BEGIN:VEVENT
DTSTART;TZID=Europe/Helsinki:20230424T090000
DTEND;TZID=Europe/Helsinki:20230505T150000
DTSTAMP:20260420T112546
CREATED:20230425T100031Z
LAST-MODIFIED:20230425T100217Z
UID:10001175-1682326800-1683298800@kuopionkirjasto.fi
SUMMARY:Esikoululaiset pehmoilee
DESCRIPTION:Vehmersalmen kirjastossa näytteillä esikoululaisten valmistamia pehmoystäviä  24.4.–5.5.23. \nTervetuloa ihastelemaan!
URL:https://kuopionkirjasto.fi/event/esikoululaiset-pehmoilee/
LOCATION:Vehmersalmen kirjasto\, Vehmersalmenkatu 27\, Kuopio\, 71310\, Suomi
CATEGORIES:Kaikki tapahtumat,Näyttelyt
END:VEVENT
BEGIN:VEVENT
DTSTART;TZID=Europe/Helsinki:20230502T000000
DTEND;TZID=Europe/Helsinki:20230514T000000
DTSTAMP:20260420T112546
CREATED:20220722T051416Z
LAST-MODIFIED:20220930T062817Z
UID:10000785-1682985600-1684022400@kuopionkirjasto.fi
SUMMARY:Pohjois-Savon Opiston vuosinäyttely
DESCRIPTION:Pohjois-Savon Opiston vuosinäyttely
URL:https://kuopionkirjasto.fi/event/pohjois-savon-opiston-vuosinayttely/
LOCATION:Pääkirjasto\, Maaherrankatu 12\, Kuopio\, 70100\, Suomi
CATEGORIES:Kaikki tapahtumat,Näyttelyt
END:VEVENT
BEGIN:VEVENT
DTSTART;VALUE=DATE:20230503
DTEND;VALUE=DATE:20230601
DTSTAMP:20260420T112546
CREATED:20230503T053909Z
LAST-MODIFIED:20230503T053909Z
UID:10001179-1683072000-1685577599@kuopionkirjasto.fi
SUMMARY:Kansalaisopiston piirustus- ja maalausryhmän teoksia vuodelta 2022-2023
DESCRIPTION:Tuusniemen kirjastolla on esillä toukokuun ajan kansalaisopiston piirustus- ja maalausryhmän teoksia vuodelta 2022-2023. \nTervetuloa tutustumaan näyttelyyn!
URL:https://kuopionkirjasto.fi/event/kansalaisopiston-piirustus-ja-maalausryhman-teoksia-vuodelta-2022-2023/
LOCATION:Tuusniemen kirjasto\, Keskitie 34-38\, Tuusniemi\, 71201\, Suomi
CATEGORIES:Kaikki tapahtumat,Näyttelyt
END:VEVENT
BEGIN:VEVENT
DTSTART;TZID=Europe/Helsinki:20230503T100000
DTEND;TZID=Europe/Helsinki:20230531T160000
DTSTAMP:20260420T112546
CREATED:20230503T054654Z
LAST-MODIFIED:20230503T071634Z
UID:10001180-1683108000-1685548800@kuopionkirjasto.fi
SUMMARY:Kansalaisopiston kuvataidepiirin maalauksia
DESCRIPTION:Riistaveden kirjastossa on toukokuun ajan esillä kansalaisopiston kuvataidepiirin maalauksia.  \nTervetuloa ihastelemaan näyttelyä!
URL:https://kuopionkirjasto.fi/event/kansalaisopiston-kuvataidepiirin-maalauksia/
LOCATION:Riistaveden kirjasto\, Koulutie 12 B\, Riistavesi\, 71160
CATEGORIES:Kaikki tapahtumat,Näyttelyt
GEO:62.91494;28°08'52.7"E
X-APPLE-STRUCTURED-LOCATION;VALUE=URI;X-ADDRESS=Riistaveden kirjasto Koulutie 12 B Riistavesi 71160;X-APPLE-RADIUS=500;X-TITLE=Koulutie 12 B:geo:28°08'52.7"E,62.91494
END:VEVENT
BEGIN:VEVENT
DTSTART;TZID=Europe/Helsinki:20230503T163000
DTEND;TZID=Europe/Helsinki:20230503T190000
DTSTAMP:20260420T112546
CREATED:20230427T065523Z
LAST-MODIFIED:20230427T065523Z
UID:10001178-1683131400-1683140400@kuopionkirjasto.fi
SUMMARY:Kantin kestävä keskiviikko: Pukupaja ja Aappolan pojat
DESCRIPTION:Toukokuun Kantin kestävässä keskiviikossa 3.5. klo 16.30-19.00 on vuorossa pukupaja ja musiikkiterapeuttinen tuokio. Tapahtumapaikkana Kuopion museon monitoimitila.  \nTervetuloa korjauspajaan\, jossa harjoitellaan tällä kertaa korjaamaan rikkinäisiä puvuntakkeja ja -housuja ompelukoneella tai käsin. Teemasta huolimatta tilaisuudessa ei ole pukupakko\, vaan myös muunlaisissa vaatteissa saa ilmestyä paikalle ja aivan kaikkea voi tulla korjaamaan. Jaamme ohjeita ja neuvomme jokaiselle taitojen mukaisen korjaustyylin. Korjaaminen kannattaa aina! \nPajaan voi tulla ilman ennakkoilmoittautumista oman aikataulun mukaan korjattavan vaatteen kanssa ja ryhtyä toimeen\, kun korjauspajassa on tilaa. Paikan päältä löytyy kangaspaloja ja lankoja paikkaamiseen\, mutta tuo myös omia materiaaleja ja vaihtovetoketju tarvittaessa. \nOmpeluseurat-esityssarjassa vuorossa on tällä kertaa AAPPOLAN POJAT kello 17.00. Aappolan poikien noin 20 minuutin mittainen esitys on musiikkiterapeuttinen tuokio\, joka antaa todisteet musiikin ihmeellisestä voimasta ja kääntää suupielet ylöspäin\, ”jos nyt ei koko loppuelämäksi\, niin ainakin loppuillaksi”. https://www.mikajuusela.com/esitykset/aappolan-pojat \nTule korjaamaan pukukoodia ja arkea kestävämmäksi yhdessä taiteen äärellä kirjaston kirjavinkkien tahdittamana! \n \nKantin kestävä keskiviikko järjestetään joka kuun ensimmäinen keskiviikko klo 16.30 alkaen Kantissa Kuopion museon monitoimi- ja työpajatilassa. Luennot ja tekeminen vuorottelevat! Joka toinen kerta on Kestävä perintö -luento\, jonka päätteeksi aiheesta keskustellaan vielä yhdessä. Joka toinen kerta OMPELUSEURAT\, jolloin jokaisella on mahdollisuus tulla korjaamaan omia rikkinäisiä vaatteitaan. Jokaiselle kerralle on oma teema – paikalla ohjaajia neuvomassa ja kannustamassa. Lisäksi työskentelyn lomassa päästään nauttimaan ekologisuutta ja luontosuhdetta käsittelevästä elävästä taiteesta. \nKuopion kaupunginkirjaston asiantuntijat ovat koostaneet myös jokaiselle kerralle vinkkilistan\, jonka avulla kirjastosta voi lainata lisää aihetta käsittelevää kirjallisuutta. Tapahtumiin on vapaa pääsy.
URL:https://kuopionkirjasto.fi/event/kantin-kestava-keskiviikko-pukupaja-ja-aappolan-pojat/
LOCATION:Kuopion museon monitoimi- ja työpajatila\, Museokatu 1\, Kuopio\, 70100\, Suomi
CATEGORIES:Kaikki tapahtumat,Muut tapahtumat
END:VEVENT
BEGIN:VEVENT
DTSTART;TZID=Europe/Helsinki:20230503T170000
DTEND;TZID=Europe/Helsinki:20230503T173000
DTSTAMP:20260420T112546
CREATED:20230418T092335Z
LAST-MODIFIED:20230418T092335Z
UID:10001164-1683133200-1683135000@kuopionkirjasto.fi
SUMMARY:Sinun orkesterisi kylässä: Jynkän kirjasto
DESCRIPTION:Kuopion kaupunginorkesterin jousikokoonpano jalkautuu huhti-toukokuussa Sinun orkesterisi kylässä -kiertueelle Kuopion lähikirjastoihin. Kauniista jousimusiikista pääsee nauttimaan maksutta Puijonlaakson\, Neulamäen\, Jynkän ja Pyörön lähikirjastossa. Kaupunginorkesterin jousikokoonpanossa soittavat Adrian Ibanez-Resjan\, Eeva Vesimäki\, Anfisa Troitskaia ja Andrey Efimovsky. \nPuijonlaakson ja Neulamäen kirjastoissa esiintyy duo Anfisa Troitskaia / alttoviulu ja Andrey Efimovsky / sello ohjelmistossaan Bachin\, Mozartin ja Beethovenin kaunista jousimusiikkia. Jynkän ja Pyörön kirjastoissa taas tunnelmoi jousikvartetti Adrian Ibanez-Resjan / viulu\, Eeva Vesimäki / viulu\, Anfisa Troitskaia / alttoviulu ja Andrey Efimovsky / sello. He soittavat mm. Sibeliuksen ja Elgarin tunnettuja säveliä sekä Gardelin ja Piazzollan tangoja. \nKuopion kaupunginorkesterin jousiyhtyeen minikonsertit lähikirjastoissa:\nke 19.4. klo 17 Puijonlaakson lähikirjasto\nti 25.4. klo 17 Neulamäen lähikirjasto\nke 3.5. klo 17 Jynkän lähikirjasto\nti 9.5. klo 17 Pyörön lähikirjasto  \nMinikonserttien kesto on n. 20–30 minuuttia. Vapaa pääsy.\nTervetuloa! \nLähikirjastokonsertit ovat osa orkesterin yleisötyötä\, jonka myötä pyritään tuomaan musiikkia osaksi kuntalaisten arkea myös konserttisalin ulkopuolella.
URL:https://kuopionkirjasto.fi/event/sinun-orkesterisi-kylassa-jynkan-kirjasto/
LOCATION:Jynkän kirjasto\, Maitotie 2\, Kuopio\, 70780\, Suomi
CATEGORIES:Kaikki tapahtumat,Musiikki
END:VEVENT
END:VCALENDAR