BEGIN:VCALENDAR
VERSION:2.0
PRODID:-//Kuopion kaupunginkirjasto - ECPv6.15.20//NONSGML v1.0//EN
CALSCALE:GREGORIAN
METHOD:PUBLISH
X-WR-CALNAME:Kuopion kaupunginkirjasto
X-ORIGINAL-URL:https://kuopionkirjasto.fi
X-WR-CALDESC:Tapahtumat Kuopion kaupunginkirjasto
REFRESH-INTERVAL;VALUE=DURATION:PT1H
X-Robots-Tag:noindex
X-PUBLISHED-TTL:PT1H
BEGIN:VTIMEZONE
TZID:Europe/Helsinki
BEGIN:DAYLIGHT
TZOFFSETFROM:+0200
TZOFFSETTO:+0300
TZNAME:EEST
DTSTART:20220327T010000
END:DAYLIGHT
BEGIN:STANDARD
TZOFFSETFROM:+0300
TZOFFSETTO:+0200
TZNAME:EET
DTSTART:20221030T010000
END:STANDARD
BEGIN:DAYLIGHT
TZOFFSETFROM:+0200
TZOFFSETTO:+0300
TZNAME:EEST
DTSTART:20230326T010000
END:DAYLIGHT
BEGIN:STANDARD
TZOFFSETFROM:+0300
TZOFFSETTO:+0200
TZNAME:EET
DTSTART:20231029T010000
END:STANDARD
BEGIN:DAYLIGHT
TZOFFSETFROM:+0200
TZOFFSETTO:+0300
TZNAME:EEST
DTSTART:20240331T010000
END:DAYLIGHT
BEGIN:STANDARD
TZOFFSETFROM:+0300
TZOFFSETTO:+0200
TZNAME:EET
DTSTART:20241027T010000
END:STANDARD
END:VTIMEZONE
BEGIN:VEVENT
DTSTART;VALUE=DATE:20230503
DTEND;VALUE=DATE:20230601
DTSTAMP:20260420T112549
CREATED:20230503T053909Z
LAST-MODIFIED:20230503T053909Z
UID:10001179-1683072000-1685577599@kuopionkirjasto.fi
SUMMARY:Kansalaisopiston piirustus- ja maalausryhmän teoksia vuodelta 2022-2023
DESCRIPTION:Tuusniemen kirjastolla on esillä toukokuun ajan kansalaisopiston piirustus- ja maalausryhmän teoksia vuodelta 2022-2023. \nTervetuloa tutustumaan näyttelyyn!
URL:https://kuopionkirjasto.fi/event/kansalaisopiston-piirustus-ja-maalausryhman-teoksia-vuodelta-2022-2023/
LOCATION:Tuusniemen kirjasto\, Keskitie 34-38\, Tuusniemi\, 71201\, Suomi
CATEGORIES:Kaikki tapahtumat,Näyttelyt
END:VEVENT
BEGIN:VEVENT
DTSTART;TZID=Europe/Helsinki:20230503T100000
DTEND;TZID=Europe/Helsinki:20230531T160000
DTSTAMP:20260420T112549
CREATED:20230503T054654Z
LAST-MODIFIED:20230503T071634Z
UID:10001180-1683108000-1685548800@kuopionkirjasto.fi
SUMMARY:Kansalaisopiston kuvataidepiirin maalauksia
DESCRIPTION:Riistaveden kirjastossa on toukokuun ajan esillä kansalaisopiston kuvataidepiirin maalauksia.  \nTervetuloa ihastelemaan näyttelyä!
URL:https://kuopionkirjasto.fi/event/kansalaisopiston-kuvataidepiirin-maalauksia/
LOCATION:Riistaveden kirjasto\, Koulutie 12 B\, Riistavesi\, 71160
CATEGORIES:Kaikki tapahtumat,Näyttelyt
GEO:62.91494;28°08'52.7"E
X-APPLE-STRUCTURED-LOCATION;VALUE=URI;X-ADDRESS=Riistaveden kirjasto Koulutie 12 B Riistavesi 71160;X-APPLE-RADIUS=500;X-TITLE=Koulutie 12 B:geo:28°08'52.7"E,62.91494
END:VEVENT
BEGIN:VEVENT
DTSTART;TZID=Europe/Helsinki:20230524T100000
DTEND;TZID=Europe/Helsinki:20230524T110000
DTSTAMP:20260420T112549
CREATED:20230509T094519Z
LAST-MODIFIED:20230509T094519Z
UID:10001187-1684922400-1684926000@kuopionkirjasto.fi
SUMMARY:Luupin alla -keskustelutilaisuus Jynkän kirjastossa
DESCRIPTION:Kaikille avoin Luupin alla -keskustelutilaisuus Jynkän kirjastossa keskiviikkona 24.5.2023 klo 10. Aiheena Kuopion kehitys.  \nTule mukaan avoimeen keskusteluun\, jossa kaikki pääsevät ilmaisemaan näkemyksiään käsiteltävän aiheen tiimoilta. Tilaisuus alkaa lyhyellä alustuksella ja teemaan johdattelulla\, minkä jälkeen areena on kaikille vapaa. \nAsiantuntijavieraana kehittämispäällikkö Katri Hiltunen ja keskustelua vetämässä Hannu Harjunheimo. \nTervetuloa! \nTilaisuuden järjestävät Jynkän lähikirjasto ja Kuopion kaupunginkirjaston Demokratiatyön askelkuvioita kirjastossa -hanke. \n \n 
URL:https://kuopionkirjasto.fi/event/luupin-alla-keskustelutilaisuus-jynkan-kirjastossa-2/
LOCATION:Jynkän kirjasto\, Maitotie 2\, Kuopio\, 70780\, Suomi
CATEGORIES:Kaikki tapahtumat,Muut tapahtumat
END:VEVENT
BEGIN:VEVENT
DTSTART;TZID=Europe/Helsinki:20230524T100000
DTEND;TZID=Europe/Helsinki:20230524T183000
DTSTAMP:20260420T112549
CREATED:20230503T071238Z
LAST-MODIFIED:20230516T072156Z
UID:10001182-1684922400-1684953000@kuopionkirjasto.fi
SUMMARY:Poistobasaari - kirjojen poistomyyntitapahtuma pääkirjastolla
DESCRIPTION:Kirjojen poistomyyntitapahtuma pääkirjaston ala-aulassa 23.–24.5. klo 10–18.30 tai niin kauan kuin myytävää riittää. \nTervetuloa tekemään löytöjä!
URL:https://kuopionkirjasto.fi/event/poistobasaari-kirjojen-poistomyyntitapahtuma-paakirjastolla/2023-05-24/
LOCATION:Pääkirjasto\, Maaherrankatu 12\, Kuopio\, 70100\, Suomi
CATEGORIES:Kaikki tapahtumat,Muut tapahtumat
END:VEVENT
END:VCALENDAR