BEGIN:VCALENDAR
VERSION:2.0
PRODID:-//Kuopion kaupunginkirjasto - ECPv6.15.20//NONSGML v1.0//EN
CALSCALE:GREGORIAN
METHOD:PUBLISH
X-WR-CALNAME:Kuopion kaupunginkirjasto
X-ORIGINAL-URL:https://kuopionkirjasto.fi
X-WR-CALDESC:Tapahtumat Kuopion kaupunginkirjasto
REFRESH-INTERVAL;VALUE=DURATION:PT1H
X-Robots-Tag:noindex
X-PUBLISHED-TTL:PT1H
BEGIN:VTIMEZONE
TZID:Europe/Helsinki
BEGIN:DAYLIGHT
TZOFFSETFROM:+0200
TZOFFSETTO:+0300
TZNAME:EEST
DTSTART:20220327T010000
END:DAYLIGHT
BEGIN:STANDARD
TZOFFSETFROM:+0300
TZOFFSETTO:+0200
TZNAME:EET
DTSTART:20221030T010000
END:STANDARD
BEGIN:DAYLIGHT
TZOFFSETFROM:+0200
TZOFFSETTO:+0300
TZNAME:EEST
DTSTART:20230326T010000
END:DAYLIGHT
BEGIN:STANDARD
TZOFFSETFROM:+0300
TZOFFSETTO:+0200
TZNAME:EET
DTSTART:20231029T010000
END:STANDARD
BEGIN:DAYLIGHT
TZOFFSETFROM:+0200
TZOFFSETTO:+0300
TZNAME:EEST
DTSTART:20240331T010000
END:DAYLIGHT
BEGIN:STANDARD
TZOFFSETFROM:+0300
TZOFFSETTO:+0200
TZNAME:EET
DTSTART:20241027T010000
END:STANDARD
END:VTIMEZONE
BEGIN:VEVENT
DTSTART;VALUE=DATE:20230503
DTEND;VALUE=DATE:20230601
DTSTAMP:20260420T112547
CREATED:20230503T053909Z
LAST-MODIFIED:20230503T053909Z
UID:10001179-1683072000-1685577599@kuopionkirjasto.fi
SUMMARY:Kansalaisopiston piirustus- ja maalausryhmän teoksia vuodelta 2022-2023
DESCRIPTION:Tuusniemen kirjastolla on esillä toukokuun ajan kansalaisopiston piirustus- ja maalausryhmän teoksia vuodelta 2022-2023. \nTervetuloa tutustumaan näyttelyyn!
URL:https://kuopionkirjasto.fi/event/kansalaisopiston-piirustus-ja-maalausryhman-teoksia-vuodelta-2022-2023/
LOCATION:Tuusniemen kirjasto\, Keskitie 34-38\, Tuusniemi\, 71201\, Suomi
CATEGORIES:Kaikki tapahtumat,Näyttelyt
END:VEVENT
BEGIN:VEVENT
DTSTART;TZID=Europe/Helsinki:20230503T100000
DTEND;TZID=Europe/Helsinki:20230531T160000
DTSTAMP:20260420T112547
CREATED:20230503T054654Z
LAST-MODIFIED:20230503T071634Z
UID:10001180-1683108000-1685548800@kuopionkirjasto.fi
SUMMARY:Kansalaisopiston kuvataidepiirin maalauksia
DESCRIPTION:Riistaveden kirjastossa on toukokuun ajan esillä kansalaisopiston kuvataidepiirin maalauksia.  \nTervetuloa ihastelemaan näyttelyä!
URL:https://kuopionkirjasto.fi/event/kansalaisopiston-kuvataidepiirin-maalauksia/
LOCATION:Riistaveden kirjasto\, Koulutie 12 B\, Riistavesi\, 71160
CATEGORIES:Kaikki tapahtumat,Näyttelyt
GEO:62.91494;28°08'52.7"E
X-APPLE-STRUCTURED-LOCATION;VALUE=URI;X-ADDRESS=Riistaveden kirjasto Koulutie 12 B Riistavesi 71160;X-APPLE-RADIUS=500;X-TITLE=Koulutie 12 B:geo:28°08'52.7"E,62.91494
END:VEVENT
BEGIN:VEVENT
DTSTART;TZID=Europe/Helsinki:20230526T100000
DTEND;TZID=Europe/Helsinki:20230527T160000
DTSTAMP:20260420T112547
CREATED:20230510T123254Z
LAST-MODIFIED:20230510T123254Z
UID:10001191-1685095200-1685203200@kuopionkirjasto.fi
SUMMARY:Aikamatka muotoiluun – Nuorten Muotoiluakatemian näyttely
DESCRIPTION:Kuopion Muotoiluakatemian nuorille suunnattua toimintaa esitellään näyttelyssä ja virtuaalinäyttelynä Muotoiluakatemian\nverkkosivuilla. Muotoiluakatemiassa pääset eri ryhmien ja työpajojen kautta aikamatkalle muotoiluun – muotoile\, luo ja opi uutta! \nNäyttely on osa Nuori kulttuuri -festivaalin ohjelmaa. Tutustu ohjelmatarjontaan EVENTOS -sovelluksessa PIN -koodilla 7676.
URL:https://kuopionkirjasto.fi/event/aikamatka-muotoiluun-nuorten-muotoiluakatemian-nayttely/
LOCATION:Pääkirjasto\, Maaherrankatu 12\, Kuopio\, 70100\, Suomi
CATEGORIES:Kaikki tapahtumat,Näyttelyt
END:VEVENT
BEGIN:VEVENT
DTSTART;TZID=Europe/Helsinki:20230527T100000
DTEND;TZID=Europe/Helsinki:20230527T160000
DTSTAMP:20260420T112547
CREATED:20230510T123457Z
LAST-MODIFIED:20230510T123457Z
UID:10001192-1685181600-1685203200@kuopionkirjasto.fi
SUMMARY:Meidän näyttely with Hatsalan koulun 9E
DESCRIPTION:Moi! Ollaan Hatsalan Klassillisen koulun 9e –luokka ja tässä on meidän näyttely! Me ollaan kuvataideluokka ja tykätään tehdä kaikkee erilaista taidetta. Meidän vahvuuksia on aika monella nimenomaan tarkan tekemisessä\, mutta parhaiten osaamisemme tulee esille\, kun jokainen saa tehdä sitä missä itse on hyvä. Ollaan monipuolinen\, sekä taitava porukka ja ollaan iloisia\, että pääsette nyt näkemään meidän töitä tässä loistokkaassa näyttelyssä! Toivottavasti nautitte! \nTaiteilijatapaaminen lauantaina 27.5. klo:14.30-16.00
URL:https://kuopionkirjasto.fi/event/meidan-nayttely-with-hatsalan-koulun-9e/
LOCATION:Pääkirjasto\, Maaherrankatu 12\, Kuopio\, 70100\, Suomi
CATEGORIES:Kaikki tapahtumat,Lapset ja nuoret,Näyttelyt
END:VEVENT
BEGIN:VEVENT
DTSTART;TZID=Europe/Helsinki:20230527T110000
DTEND;TZID=Europe/Helsinki:20230527T160000
DTSTAMP:20260420T112547
CREATED:20230510T122214Z
LAST-MODIFIED:20230524T085108Z
UID:10001190-1685185200-1685203200@kuopionkirjasto.fi
SUMMARY:Nuori kulttuuri -festivaali kaupunginkirjastolla
DESCRIPTION:Tervetuloa osallistumaan Nuori kulttuuri -festivaalin tapahtumiin Kuopion pääkirjastolle! \nFestivaaliohjelman löydät kätevästi EVENTOS -sovelluksesta PIN -koodilla 7676. \n  \nLa 27.5. klo 11 – 16 Minicon-tapahtuma with Kazecon ja Nekocon \nNekoconin edustuspöydän löydät kirjaston ensimmäisen kerroksen aulasta klo 11.00-16.00. \nLa 27.5. klo 11 – 16 Nekoconin polaroid-kuvauspiste \nPolaroid-pisteellä voit kuvauttaa ja itsesi ja ystäväsi Nekoconin kuvausseinän edessä.  Pisteen löydät ensimmäisestä kerroksesta lastenosaston ja aulan välistä klo 11.00-16.00. \nLa 27.5. klo 11 – 16 Origami- ja viuhkatyöpaja\nKohtaamo (1. krs) \nTyöpaja sopii kaikenikäisille askartelijoille ja viuhkan tekemiseen menee noin 10-15 minuuttia. Samassa pajassa voit taitella myös origameja Kazeconin johdolla. \nLa 27.5. klo 12 – 15 Sarjakuvapaja & hahmogalleria with Sanataidekoulu Aapeli\nKohtaamo (1. krs) \nTyöpajassa laaditaan lyhyelle sarjakuvalle käsikirjoitusluonnos ja hahmogalleria pienten sanataidetehtävien opastuksella. Ja sitten piirretään! Ohjaajana toimii Sanataideohjaaja Riikka Viinikanoja. \nLa 27.5. klo 13 – 15 Nekoconin valokuvauspiste \nLastenosaston takaosassa sijaitsevasta kokoustilasta löydät myös Nekoconin valokuvauspisteen klo 13.00-15.00. Kuvauspisteelle voit tulla joko yksin tai ystävien kanssa. Kuvat tulevat tapahtuman jälkeen ladattaviksi ja siitä ilmoitetaan Nekoconin someissa. \nLa 27.5. klo 13 – 14 Kazeconin kimonoluento \nLuentoa pääset kuuntelemaan ensimmäisen kerroksen luentosalissa. \n  \n  \n  \n 
URL:https://kuopionkirjasto.fi/event/nuori-kulttuuri-festivaali-kaupunginkirjastolla-2/
LOCATION:Pääkirjasto\, Maaherrankatu 12\, Kuopio\, 70100\, Suomi
CATEGORIES:Kaikki tapahtumat,Lapset ja nuoret
END:VEVENT
END:VCALENDAR