BEGIN:VCALENDAR
VERSION:2.0
PRODID:-//Kuopion kaupunginkirjasto - ECPv6.15.20//NONSGML v1.0//EN
CALSCALE:GREGORIAN
METHOD:PUBLISH
X-ORIGINAL-URL:https://kuopionkirjasto.fi
X-WR-CALDESC:Tapahtumat Kuopion kaupunginkirjasto
REFRESH-INTERVAL;VALUE=DURATION:PT1H
X-Robots-Tag:noindex
X-PUBLISHED-TTL:PT1H
BEGIN:VTIMEZONE
TZID:Europe/Helsinki
BEGIN:DAYLIGHT
TZOFFSETFROM:+0200
TZOFFSETTO:+0300
TZNAME:EEST
DTSTART:20220327T010000
END:DAYLIGHT
BEGIN:STANDARD
TZOFFSETFROM:+0300
TZOFFSETTO:+0200
TZNAME:EET
DTSTART:20221030T010000
END:STANDARD
BEGIN:DAYLIGHT
TZOFFSETFROM:+0200
TZOFFSETTO:+0300
TZNAME:EEST
DTSTART:20230326T010000
END:DAYLIGHT
BEGIN:STANDARD
TZOFFSETFROM:+0300
TZOFFSETTO:+0200
TZNAME:EET
DTSTART:20231029T010000
END:STANDARD
BEGIN:DAYLIGHT
TZOFFSETFROM:+0200
TZOFFSETTO:+0300
TZNAME:EEST
DTSTART:20240331T010000
END:DAYLIGHT
BEGIN:STANDARD
TZOFFSETFROM:+0300
TZOFFSETTO:+0200
TZNAME:EET
DTSTART:20241027T010000
END:STANDARD
END:VTIMEZONE
BEGIN:VEVENT
DTSTART;TZID=Europe/Helsinki:20230705T130000
DTEND;TZID=Europe/Helsinki:20230814T190000
DTSTAMP:20260420T061930
CREATED:20230705T130936Z
LAST-MODIFIED:20230705T131037Z
UID:10001220-1688562000-1692039600@kuopionkirjasto.fi
SUMMARY:Vanhojen valokuvien näyttely
DESCRIPTION:Vehmersalmen kirjastossa vanhojen valokuvien näyttely sekä henkilötunnistusta vanhoista kuvista. \nKotiseutuyhdistyksen historiaryhmän järjestämä näyttely on avoinna 14.8. saakka kirjaston aukioloaikoina ma 13-19\,  ti 9-15\, ke 13-19\, to 12-16 ja pe 9-15. \nTervetuloa! \n \n 
URL:https://kuopionkirjasto.fi/event/vanhojen-valokuvien-nayttely/
LOCATION:Vehmersalmen kirjasto\, Vehmersalmenkatu 27\, Kuopio\, 71310\, Suomi
CATEGORIES:Kaikki tapahtumat,Näyttelyt
END:VEVENT
BEGIN:VEVENT
DTSTART;TZID=Europe/Helsinki:20230803T180000
DTEND;TZID=Europe/Helsinki:20230803T190000
DTSTAMP:20260420T061930
CREATED:20230721T093303Z
LAST-MODIFIED:20230721T093420Z
UID:10001280-1691085600-1691089200@kuopionkirjasto.fi
SUMMARY:Kehonhallinnan asiantuntija Marja Putkisto vieraana Nilsiän kirjastossa
DESCRIPTION:Kirja joka muuttaa elämäsi. Palaudu\, uudistu. \nKehonhallinnan asiantuntija Marja Putkisto esittelee uutta kirjaansa Palaudu 5 viikossa Nilsiän kirjastossa torstaina 3.8.2023 klo 18-19. \nTervetuloa kuuntelemaan ja tapaamaan Marjaa. \nTilaisuus on maksuton. \nPutkiston muun tuotannon löydät verkkokirjastosta.
URL:https://kuopionkirjasto.fi/event/kehonhallinnan-asiantuntija-marja-putkisto-vieraana-nilsian-kirjastossa/
LOCATION:Nilsiän kirjasto\, Ukko-Paavontie 15\, Nilsiä\, 73300\, Suomi
CATEGORIES:Kaikki tapahtumat,Kaikki tapahtumat - kirjallisuus,Kirjallisuus,Muut tapahtumat
END:VEVENT
END:VCALENDAR