BEGIN:VCALENDAR
VERSION:2.0
PRODID:-//Kuopion kaupunginkirjasto - ECPv6.15.20//NONSGML v1.0//EN
CALSCALE:GREGORIAN
METHOD:PUBLISH
X-WR-CALNAME:Kuopion kaupunginkirjasto
X-ORIGINAL-URL:https://kuopionkirjasto.fi
X-WR-CALDESC:Tapahtumat Kuopion kaupunginkirjasto
REFRESH-INTERVAL;VALUE=DURATION:PT1H
X-Robots-Tag:noindex
X-PUBLISHED-TTL:PT1H
BEGIN:VTIMEZONE
TZID:Europe/Helsinki
BEGIN:DAYLIGHT
TZOFFSETFROM:+0200
TZOFFSETTO:+0300
TZNAME:EEST
DTSTART:20220327T010000
END:DAYLIGHT
BEGIN:STANDARD
TZOFFSETFROM:+0300
TZOFFSETTO:+0200
TZNAME:EET
DTSTART:20221030T010000
END:STANDARD
BEGIN:DAYLIGHT
TZOFFSETFROM:+0200
TZOFFSETTO:+0300
TZNAME:EEST
DTSTART:20230326T010000
END:DAYLIGHT
BEGIN:STANDARD
TZOFFSETFROM:+0300
TZOFFSETTO:+0200
TZNAME:EET
DTSTART:20231029T010000
END:STANDARD
BEGIN:DAYLIGHT
TZOFFSETFROM:+0200
TZOFFSETTO:+0300
TZNAME:EEST
DTSTART:20240331T010000
END:DAYLIGHT
BEGIN:STANDARD
TZOFFSETFROM:+0300
TZOFFSETTO:+0200
TZNAME:EET
DTSTART:20241027T010000
END:STANDARD
END:VTIMEZONE
BEGIN:VEVENT
DTSTART;TZID=Europe/Helsinki:20230830T091500
DTEND;TZID=Europe/Helsinki:20230830T094500
DTSTAMP:20260420T020216
CREATED:20230721T061436Z
LAST-MODIFIED:20230721T061436Z
UID:10001275-1693386900-1693388700@kuopionkirjasto.fi
SUMMARY:Kirjastohetket Pyörön kirjastossa
DESCRIPTION:Tervetuloa lasten kirjastohetkiin Pyörön kirjastoon! Kirjastohetket on ensisijaisesti tarkoitettu ilmoitetuille ikäryhmille. Hetket ovat maksuttomia. \nYhteistyössä Sanataidekoulu Aapeli.
URL:https://kuopionkirjasto.fi/event/kirjastohetket-pyoron-kirjastossa/2023-08-30/
LOCATION:Pyörön kirjasto\, Jalkasenkatu 3\, Kuopio\, 70820\, Suomi
CATEGORIES:Kaikki tapahtumat,Lapset ja nuoret
END:VEVENT
BEGIN:VEVENT
DTSTART;TZID=Europe/Helsinki:20230830T180000
DTEND;TZID=Europe/Helsinki:20230830T190000
DTSTAMP:20260420T020216
CREATED:20230724T061624Z
LAST-MODIFIED:20230724T061624Z
UID:10001281-1693418400-1693422000@kuopionkirjasto.fi
SUMMARY:Nilsiän kirjaston lukupiiri
DESCRIPTION:Nilsiän kirjaston lukupiirin syksyn ensimmäinen kokoontuminen on ke 30.8. klo 18. \nTuo ensimmäiselle kerralle mukanasi joku kesällä lukemasi kirja tai lempikirjasi. \nMuut kokoontumiset ja teokset sovitaan yhdessä. \nTervetuloa!
URL:https://kuopionkirjasto.fi/event/nilsian-kirjaston-lukupiiri/
LOCATION:Nilsiän kirjasto\, Ukko-Paavontie 15\, Nilsiä\, 73300\, Suomi
CATEGORIES:Kaikki tapahtumat,Kaikki tapahtumat - kirjallisuus,Kirjallisuus
END:VEVENT
END:VCALENDAR