BEGIN:VCALENDAR
VERSION:2.0
PRODID:-//Kuopion kaupunginkirjasto - ECPv6.15.20//NONSGML v1.0//EN
CALSCALE:GREGORIAN
METHOD:PUBLISH
X-WR-CALNAME:Kuopion kaupunginkirjasto
X-ORIGINAL-URL:https://kuopionkirjasto.fi
X-WR-CALDESC:Tapahtumat Kuopion kaupunginkirjasto
REFRESH-INTERVAL;VALUE=DURATION:PT1H
X-Robots-Tag:noindex
X-PUBLISHED-TTL:PT1H
BEGIN:VTIMEZONE
TZID:Europe/Helsinki
BEGIN:DAYLIGHT
TZOFFSETFROM:+0200
TZOFFSETTO:+0300
TZNAME:EEST
DTSTART:20220327T010000
END:DAYLIGHT
BEGIN:STANDARD
TZOFFSETFROM:+0300
TZOFFSETTO:+0200
TZNAME:EET
DTSTART:20221030T010000
END:STANDARD
BEGIN:DAYLIGHT
TZOFFSETFROM:+0200
TZOFFSETTO:+0300
TZNAME:EEST
DTSTART:20230326T010000
END:DAYLIGHT
BEGIN:STANDARD
TZOFFSETFROM:+0300
TZOFFSETTO:+0200
TZNAME:EET
DTSTART:20231029T010000
END:STANDARD
BEGIN:DAYLIGHT
TZOFFSETFROM:+0200
TZOFFSETTO:+0300
TZNAME:EEST
DTSTART:20240331T010000
END:DAYLIGHT
BEGIN:STANDARD
TZOFFSETFROM:+0300
TZOFFSETTO:+0200
TZNAME:EET
DTSTART:20241027T010000
END:STANDARD
END:VTIMEZONE
BEGIN:VEVENT
DTSTART;TZID=Europe/Helsinki:20230906T100000
DTEND;TZID=Europe/Helsinki:20230906T103000
DTSTAMP:20260420T014334
CREATED:20230804T062720Z
LAST-MODIFIED:20231026T095712Z
UID:10001313-1693994400-1693996200@kuopionkirjasto.fi
SUMMARY:Pääkirjaston satutunnit syksyllä 2023
DESCRIPTION:Satutunnit pidetään lasten- ja nuortenosastolla keskiviikkoisin klo 10. Satutunti kestää n. puoli tuntia ja se sopii  3-7 -vuotiaille. Kerran kuussa satutunti on tukiviitottu. \nHUOM! Syyskuun satutunnit pidetään pääkirjaston kokoussalissa\, 1. krs. \nEi ennakkoilmoittautumista. Tervetuloa! \nLisätiedot sähköpostilla lastenosasto.kirjasto@kuopio.fi tai numerosta 044 7182 321. \n 
URL:https://kuopionkirjasto.fi/event/paakirjaston-satutunnit-syksylla-2023/2023-09-06/
LOCATION:Pääkirjasto\, Maaherrankatu 12\, Kuopio\, 70100\, Suomi
CATEGORIES:Kaikki tapahtumat,Lapset ja nuoret
END:VEVENT
BEGIN:VEVENT
DTSTART;TZID=Europe/Helsinki:20230906T163000
DTEND;TZID=Europe/Helsinki:20230906T190000
DTSTAMP:20260420T014334
CREATED:20230824T062116Z
LAST-MODIFIED:20230824T062116Z
UID:10001351-1694017800-1694026800@kuopionkirjasto.fi
SUMMARY:Kantin kestävä keskiviikko: Vetoketjun vaihtotalkoot\, OMPELUSEURAT
DESCRIPTION:Kantin kestävä keskiviikko -tapahtumasarjan seuraava kerta OMPELUSEURAT: Vetoketjun vaihtotalkoot on 6.9. klo 16.30-19.00 Kuopion museon\nmonitoimitilassa. Luentokerroilla eri aihepiirien asiantuntijat tarjoavat vinkkejä ja neuvontaa kestävämpien ratkaisujen ja ilmastotekojen toteuttamiseen. OMPELUSEURAT tuovat omalla vuorollaan paikalle ompelukoneet ja ammattitaitoisia ohjaajia\, jolloin jokaisella on mahdollisuus tulla korjaamaan omia rikkinäisiä vaatteitaan. Lisäksi Kuopion kaupunginkirjaston asiantuntijat koostavat vinkkilistan\, jonka avulla kirjastosta voi lainata lisää kutakin aihetta käsittelevää kirjallisuutta. \nSYYSKAUDEN 2023 TULEVA OHJELMA\n\n6.9. klo 16.30-19 OMPELUSEURAT: Vetoketjun vaihtotalkoot.\n\n4.10. klo 16.30-18 Intendentti Pekka Kankkunen: Kuinka säilytät valokuvasi jälkipolville.\n\n11.10. klo 16.30-19 OMPELUSEURAT: Parsintapaja.\n\n1.11. klo 16.30-19 OMPELUSEURAT: Farkunpaikkaus.\n\n13.12. klo 16.30-18 Ilmastokeskustelu.\n\n(Ohjelmamuutokset ja täydennykset mahdollisia!) \nTapahtumat museon monitoimitilassa\, vapaa pääsy. Luentosisällöt striimataan Kuopion museon Youtube-kanavalle. \nKantti – tiedon ja tarinoiden kortteli on tiedon\, tarinoiden ja ihmisten avoin kohtaamispaikka\, joka yhdistää pääkirjaston ja Kuopion museon. Kantti-yhteistyönä toteutetaan Kantin kestävä keskiviikko -tapahtumasarjaa\, jossa vuorottelevat OMPELUSEURAT omilla korjausompelupajoillaan sekä museon ja kirjaston tuottamat\, kestävään kehitykseen liittyvät teemaillat.
URL:https://kuopionkirjasto.fi/event/kantin-kestava-keskiviikko-vetoketjun-vaihtotalkoot-ompeluseurat/
LOCATION:Kuopion museon monitoimi- ja työpajatila\, Museokatu 1\, Kuopio\, 70100\, Suomi
CATEGORIES:Kaikki tapahtumat,Muut tapahtumat
END:VEVENT
BEGIN:VEVENT
DTSTART;TZID=Europe/Helsinki:20230906T173000
DTEND;TZID=Europe/Helsinki:20230906T181500
DTSTAMP:20260420T014334
CREATED:20230605T110716Z
LAST-MODIFIED:20230605T120804Z
UID:10001208-1694021400-1694024100@kuopionkirjasto.fi
SUMMARY:Kirjastokeikalla: Jone Peckarinin Wanhat laulut -kiertue
DESCRIPTION:Jone Peckarinin Wanhat laulut -kiertue keskiviikkona 6.9. klo 17.30 pääkirjaston ylälavalla. \nKuopiolainen muusikko ja lauluntekijä Jone Peckarin esittää vanhoja suomalaisia lauluja. Esitysten lomassa on myös tilaa laulujen ja niiden esittäjien muistelulle ja keskustelulle. \nTapahtuman kesto noin 45 min.\nVapaa pääsy! \n \n 
URL:https://kuopionkirjasto.fi/event/jone-peckarinin-wanhat-laulut-kiertue/
LOCATION:Pääkirjasto\, Maaherrankatu 12\, Kuopio\, 70100\, Suomi
CATEGORIES:Kaikki tapahtumat,Musiikki
END:VEVENT
BEGIN:VEVENT
DTSTART;TZID=Europe/Helsinki:20230906T173000
DTEND;TZID=Europe/Helsinki:20230906T183000
DTSTAMP:20260420T014334
CREATED:20230811T061405Z
LAST-MODIFIED:20230811T061405Z
UID:10001335-1694021400-1694025000@kuopionkirjasto.fi
SUMMARY:Pyörön kirjaston lukupiiri
DESCRIPTION:Pyörön kirjaston lukupiiri\nSyksy 2023 \nKe 6.9.\nJori Reijula: Lattesamurai \nKe 4.10.\nRansom Riggs: Neiti Peregrinen koti eriskummallisille lapsille \nKe 1.11.\nKatariina Vuori: Kasvun paikka \nKe 13.12.\nRichard Osman: Torstain murhakerho \nKokoonnumme yllä mainittuina päivinä klo 17.30–18.30 Pyörön kirjastossa.\nTervetuloa mukaan!
URL:https://kuopionkirjasto.fi/event/pyoron-kirjaston-lukupiiri-2/2023-09-06/
LOCATION:Pyörön kirjasto\, Jalkasenkatu 3\, Kuopio\, 70820\, Suomi
CATEGORIES:Kaikki tapahtumat,Kirjallisuus
END:VEVENT
BEGIN:VEVENT
DTSTART;TZID=Europe/Helsinki:20230906T173000
DTEND;TZID=Europe/Helsinki:20230906T190000
DTSTAMP:20260420T014334
CREATED:20230821T063505Z
LAST-MODIFIED:20230829T055220Z
UID:10001348-1694021400-1694026800@kuopionkirjasto.fi
SUMMARY:Icasos-kustantamon kirjanjulkistustilaisuus
DESCRIPTION:Icasos-kustantamon kirjanjulkistustilaisuus keskiviikkona 6.9.2023 klo 17.30 pääkirjaston kokoussalissa. Tilaisuutta voi seurata myös etänä livestriimissä Kuopion kaupunginkirjaston Facebook-sivulla. \nMukana neljä kirjailijaa ja kuvittaja: \n\nJ P Koskinen: Hugo ja hirmuinen ihmisbakteeri\, kuvittanut Pasi Leinonen (lastenkirja)\nLeo Makkonen: Mogadishun taksiasema (runokokoelma)\nKirsi Pehkonen: 24 joulutarinaa (jouluisia novelleja)\nMarja-Leena Tiainen: Jäämeren vettä\, Laatokan laineita (Kinnaslahti-sarjan kolmas osa)\n\nTekijöitä haastattelee kustantaja Tatu-Pekka Kekäläinen. \nVapaa pääsy. Järjestäjinä Icasos-kustantamo ja Kuopion kaupunginkirjasto.
URL:https://kuopionkirjasto.fi/event/icasos-kustantamon-kirjanjulkistustilaisuus/
LOCATION:Pääkirjasto\, Maaherrankatu 12\, Kuopio\, 70100\, Suomi
CATEGORIES:Kaikki tapahtumat,Kirjallisuus
END:VEVENT
END:VCALENDAR