BEGIN:VCALENDAR
VERSION:2.0
PRODID:-//Kuopion kaupunginkirjasto - ECPv6.15.20//NONSGML v1.0//EN
CALSCALE:GREGORIAN
METHOD:PUBLISH
X-WR-CALNAME:Kuopion kaupunginkirjasto
X-ORIGINAL-URL:https://kuopionkirjasto.fi
X-WR-CALDESC:Tapahtumat Kuopion kaupunginkirjasto
REFRESH-INTERVAL;VALUE=DURATION:PT1H
X-Robots-Tag:noindex
X-PUBLISHED-TTL:PT1H
BEGIN:VTIMEZONE
TZID:Europe/Helsinki
BEGIN:DAYLIGHT
TZOFFSETFROM:+0200
TZOFFSETTO:+0300
TZNAME:EEST
DTSTART:20220327T010000
END:DAYLIGHT
BEGIN:STANDARD
TZOFFSETFROM:+0300
TZOFFSETTO:+0200
TZNAME:EET
DTSTART:20221030T010000
END:STANDARD
BEGIN:DAYLIGHT
TZOFFSETFROM:+0200
TZOFFSETTO:+0300
TZNAME:EEST
DTSTART:20230326T010000
END:DAYLIGHT
BEGIN:STANDARD
TZOFFSETFROM:+0300
TZOFFSETTO:+0200
TZNAME:EET
DTSTART:20231029T010000
END:STANDARD
BEGIN:DAYLIGHT
TZOFFSETFROM:+0200
TZOFFSETTO:+0300
TZNAME:EEST
DTSTART:20240331T010000
END:DAYLIGHT
BEGIN:STANDARD
TZOFFSETFROM:+0300
TZOFFSETTO:+0200
TZNAME:EET
DTSTART:20241027T010000
END:STANDARD
END:VTIMEZONE
BEGIN:VEVENT
DTSTART;TZID=Europe/Helsinki:20230921T170000
DTEND;TZID=Europe/Helsinki:20230921T180000
DTSTAMP:20260420T014334
CREATED:20230802T093016Z
LAST-MODIFIED:20230802T093016Z
UID:10001307-1695315600-1695319200@kuopionkirjasto.fi
SUMMARY:Svenska klubben
DESCRIPTION:Haluaisitko puhua ruotsia\, mutta et tiedä\, kenen kanssa?\nKom med i Svenska klubben!\n \nKuopion kaupunginkirjaston ja Pohjola-Nordenin Svenska klubben on ruotsinkielinen keskustelukerho kaikentasoisille puhujille. Kokoonnumme noin joka toinen viikko pääkirjaston Kohtaamo-tilassa (1. kerros) klo 17. \nKokoontumiskerrat syyskaudella: \nTO 7.9. klo 17\nTO 21.9. klo 17\nMA 9.10. klo 17\nMA 23.10. klo 17\nMA 6.11. klo 17\nMA 20.11. klo 17\nMA 4.12. klo 17 \nTervetuloa mukaan!
URL:https://kuopionkirjasto.fi/event/svenska-klubben/2023-09-21/
LOCATION:Pääkirjasto\, Maaherrankatu 12\, Kuopio\, 70100\, Suomi
CATEGORIES:Kaikki tapahtumat,Muut tapahtumat
END:VEVENT
END:VCALENDAR