BEGIN:VCALENDAR
VERSION:2.0
PRODID:-//Kuopion kaupunginkirjasto - ECPv6.15.20//NONSGML v1.0//EN
CALSCALE:GREGORIAN
METHOD:PUBLISH
X-ORIGINAL-URL:https://kuopionkirjasto.fi
X-WR-CALDESC:Tapahtumat Kuopion kaupunginkirjasto
REFRESH-INTERVAL;VALUE=DURATION:PT1H
X-Robots-Tag:noindex
X-PUBLISHED-TTL:PT1H
BEGIN:VTIMEZONE
TZID:Europe/Helsinki
BEGIN:DAYLIGHT
TZOFFSETFROM:+0200
TZOFFSETTO:+0300
TZNAME:EEST
DTSTART:20220327T010000
END:DAYLIGHT
BEGIN:STANDARD
TZOFFSETFROM:+0300
TZOFFSETTO:+0200
TZNAME:EET
DTSTART:20221030T010000
END:STANDARD
BEGIN:DAYLIGHT
TZOFFSETFROM:+0200
TZOFFSETTO:+0300
TZNAME:EEST
DTSTART:20230326T010000
END:DAYLIGHT
BEGIN:STANDARD
TZOFFSETFROM:+0300
TZOFFSETTO:+0200
TZNAME:EET
DTSTART:20231029T010000
END:STANDARD
BEGIN:DAYLIGHT
TZOFFSETFROM:+0200
TZOFFSETTO:+0300
TZNAME:EEST
DTSTART:20240331T010000
END:DAYLIGHT
BEGIN:STANDARD
TZOFFSETFROM:+0300
TZOFFSETTO:+0200
TZNAME:EET
DTSTART:20241027T010000
END:STANDARD
END:VTIMEZONE
BEGIN:VEVENT
DTSTART;TZID=Europe/Helsinki:20231004T100000
DTEND;TZID=Europe/Helsinki:20231004T103000
DTSTAMP:20260419T201110
CREATED:20230804T062720Z
LAST-MODIFIED:20231026T095712Z
UID:10001317-1696413600-1696415400@kuopionkirjasto.fi
SUMMARY:Pääkirjaston satutunnit syksyllä 2023
DESCRIPTION:Satutunnit pidetään lasten- ja nuortenosastolla keskiviikkoisin klo 10. Satutunti kestää n. puoli tuntia ja se sopii  3-7 -vuotiaille. Kerran kuussa satutunti on tukiviitottu. \nHUOM! Syyskuun satutunnit pidetään pääkirjaston kokoussalissa\, 1. krs. \nEi ennakkoilmoittautumista. Tervetuloa! \nLisätiedot sähköpostilla lastenosasto.kirjasto@kuopio.fi tai numerosta 044 7182 321. \n 
URL:https://kuopionkirjasto.fi/event/paakirjaston-satutunnit-syksylla-2023/2023-10-04/
LOCATION:Pääkirjasto\, Maaherrankatu 12\, Kuopio\, 70100\, Suomi
CATEGORIES:Kaikki tapahtumat,Lapset ja nuoret
END:VEVENT
BEGIN:VEVENT
DTSTART;TZID=Europe/Helsinki:20231004T170000
DTEND;TZID=Europe/Helsinki:20231004T180000
DTSTAMP:20260419T201110
CREATED:20230705T073030Z
LAST-MODIFIED:20230823T100706Z
UID:10001212-1696438800-1696442400@kuopionkirjasto.fi
SUMMARY:Elävä äänikirja
DESCRIPTION:Kaipaatko lepoa päivän rientojen jälkeen?\nTule kuuntelemaan ääneenluettua kirjallisuutta\, käsityön kanssa tai ilman!\nTilaisuudessa luetaan erilaisia\, lyhyitä tekstejä. \nPaikka: Pääkirjasto\, Kohtaamo (Museokadun sisäänkäynnin vieressä)\nAika: Klo 17 alkaen \nto 24.8. | ke 4.10. | ke 1.11. | ke 13.12. \nKirjasto tarjoaa osallistujille iltateen. Jos kätesi kaipaavat tekemistä\, paikan päältä löydät värityskuvia ja helppoja virkkuutöitä. \nTervetuloa! \n \n 
URL:https://kuopionkirjasto.fi/event/elava-aanikirja/2023-10-04/
LOCATION:Pääkirjasto\, Maaherrankatu 12\, Kuopio\, 70100\, Suomi
CATEGORIES:Kaikki tapahtumat,Kaikki tapahtumat - kirjallisuus,Kirjallisuus
END:VEVENT
BEGIN:VEVENT
DTSTART;TZID=Europe/Helsinki:20231004T173000
DTEND;TZID=Europe/Helsinki:20231004T183000
DTSTAMP:20260419T201110
CREATED:20230811T061405Z
LAST-MODIFIED:20230811T061405Z
UID:10001336-1696440600-1696444200@kuopionkirjasto.fi
SUMMARY:Pyörön kirjaston lukupiiri
DESCRIPTION:Pyörön kirjaston lukupiiri\nSyksy 2023 \nKe 6.9.\nJori Reijula: Lattesamurai \nKe 4.10.\nRansom Riggs: Neiti Peregrinen koti eriskummallisille lapsille \nKe 1.11.\nKatariina Vuori: Kasvun paikka \nKe 13.12.\nRichard Osman: Torstain murhakerho \nKokoonnumme yllä mainittuina päivinä klo 17.30–18.30 Pyörön kirjastossa.\nTervetuloa mukaan!
URL:https://kuopionkirjasto.fi/event/pyoron-kirjaston-lukupiiri-2/2023-10-04/
LOCATION:Pyörön kirjasto\, Jalkasenkatu 3\, Kuopio\, 70820\, Suomi
CATEGORIES:Kaikki tapahtumat,Kirjallisuus
END:VEVENT
END:VCALENDAR