BEGIN:VCALENDAR
VERSION:2.0
PRODID:-//Kuopion kaupunginkirjasto - ECPv6.15.20//NONSGML v1.0//EN
CALSCALE:GREGORIAN
METHOD:PUBLISH
X-WR-CALNAME:Kuopion kaupunginkirjasto
X-ORIGINAL-URL:https://kuopionkirjasto.fi
X-WR-CALDESC:Tapahtumat Kuopion kaupunginkirjasto
REFRESH-INTERVAL;VALUE=DURATION:PT1H
X-Robots-Tag:noindex
X-PUBLISHED-TTL:PT1H
BEGIN:VTIMEZONE
TZID:Europe/Helsinki
BEGIN:DAYLIGHT
TZOFFSETFROM:+0200
TZOFFSETTO:+0300
TZNAME:EEST
DTSTART:20220327T010000
END:DAYLIGHT
BEGIN:STANDARD
TZOFFSETFROM:+0300
TZOFFSETTO:+0200
TZNAME:EET
DTSTART:20221030T010000
END:STANDARD
BEGIN:DAYLIGHT
TZOFFSETFROM:+0200
TZOFFSETTO:+0300
TZNAME:EEST
DTSTART:20230326T010000
END:DAYLIGHT
BEGIN:STANDARD
TZOFFSETFROM:+0300
TZOFFSETTO:+0200
TZNAME:EET
DTSTART:20231029T010000
END:STANDARD
BEGIN:DAYLIGHT
TZOFFSETFROM:+0200
TZOFFSETTO:+0300
TZNAME:EEST
DTSTART:20240331T010000
END:DAYLIGHT
BEGIN:STANDARD
TZOFFSETFROM:+0300
TZOFFSETTO:+0200
TZNAME:EET
DTSTART:20241027T010000
END:STANDARD
END:VTIMEZONE
BEGIN:VEVENT
DTSTART;TZID=Europe/Helsinki:20231006T080000
DTEND;TZID=Europe/Helsinki:20231028T150000
DTSTAMP:20260419T220247
CREATED:20231006T085904Z
LAST-MODIFIED:20231006T085904Z
UID:10001390-1696579200-1698505200@kuopionkirjasto.fi
SUMMARY:Tuusniemen kirjaston näyttelyitä lokakuussa
DESCRIPTION:Ritva Salon Veikeät virkatut koirat\nesillä 30.9.–28.10.2023.\nHahmot perustuvat Kerry Lordin samannimiseen kirjaan. \nLisäksi Tuusniemen alakoulun 3.–4.-luokkalaisten kuviskerholaisten taidetta\nnäytteillä lokakuun ajan. \nTervetuloa!
URL:https://kuopionkirjasto.fi/event/tuusniemen-kirjaston-nayttelyita-lokakuussa/
LOCATION:Tuusniemen kirjasto\, Keskitie 34-38\, Tuusniemi\, 71201\, Suomi
CATEGORIES:Kaikki tapahtumat,Näyttelyt
END:VEVENT
BEGIN:VEVENT
DTSTART;TZID=Europe/Helsinki:20231016T080000
DTEND;TZID=Europe/Helsinki:20231029T160000
DTSTAMP:20260419T220247
CREATED:20230630T100855Z
LAST-MODIFIED:20230630T100855Z
UID:10001209-1697443200-1698595200@kuopionkirjasto.fi
SUMMARY:Mylly 2023 -vuosinäyttely
DESCRIPTION:MYLLY 2023 -vuosinäyttely\nLuovien alojen yhdistys Pro Mylly ry
URL:https://kuopionkirjasto.fi/event/mylly-2023-vuosinayttely/
LOCATION:Pääkirjasto\, Maaherrankatu 12\, Kuopio\, 70100\, Suomi
CATEGORIES:Kaikki tapahtumat,Näyttelyt
END:VEVENT
BEGIN:VEVENT
DTSTART;TZID=Europe/Helsinki:20231018T080000
DTEND;TZID=Europe/Helsinki:20231018T190000
DTSTAMP:20260419T220247
CREATED:20231005T115348Z
LAST-MODIFIED:20231006T094630Z
UID:10001388-1697616000-1697655600@kuopionkirjasto.fi
SUMMARY:Harry Potter -tapahtuman ohjelmaa
DESCRIPTION:Tervetuloa Harry Potter -tapahtumiin Kuopion pääkirjastolle! \nke 18.10. ja to 19.10. klo 8 – 19 omatoimisesti \nlasten – ja nuortenosastolla\, 1. krs: \n\nitsenäistä askartelua\nloitsupaja\nitsenäinen Potter -visa\n\naikuistenosastolla\, 2. krs: \n\nIhmeotukset ja taikaolennot -aineistonäyttely\nPotter-visa\nTaika-ammattitesti\nSauvalupahakemus\n\n  \n 
URL:https://kuopionkirjasto.fi/event/harry-potter-viikon-tapahtumia/2023-10-18/
LOCATION:Pääkirjasto\, Maaherrankatu 12\, Kuopio\, 70100\, Suomi
CATEGORIES:Kaikki tapahtumat,Lapset ja nuoret,Muut tapahtumat
END:VEVENT
BEGIN:VEVENT
DTSTART;TZID=Europe/Helsinki:20231018T100000
DTEND;TZID=Europe/Helsinki:20231018T103000
DTSTAMP:20260419T220247
CREATED:20230804T062720Z
LAST-MODIFIED:20231026T095712Z
UID:10001319-1697623200-1697625000@kuopionkirjasto.fi
SUMMARY:Pääkirjaston satutunnit syksyllä 2023
DESCRIPTION:Satutunnit pidetään lasten- ja nuortenosastolla keskiviikkoisin klo 10. Satutunti kestää n. puoli tuntia ja se sopii  3-7 -vuotiaille. Kerran kuussa satutunti on tukiviitottu. \nHUOM! Syyskuun satutunnit pidetään pääkirjaston kokoussalissa\, 1. krs. \nEi ennakkoilmoittautumista. Tervetuloa! \nLisätiedot sähköpostilla lastenosasto.kirjasto@kuopio.fi tai numerosta 044 7182 321. \n 
URL:https://kuopionkirjasto.fi/event/paakirjaston-satutunnit-syksylla-2023/2023-10-18/
LOCATION:Pääkirjasto\, Maaherrankatu 12\, Kuopio\, 70100\, Suomi
CATEGORIES:Kaikki tapahtumat,Lapset ja nuoret
END:VEVENT
BEGIN:VEVENT
DTSTART;TZID=Europe/Helsinki:20231018T100000
DTEND;TZID=Europe/Helsinki:20231018T120000
DTSTAMP:20260419T220247
CREATED:20231005T113016Z
LAST-MODIFIED:20231006T094808Z
UID:10001384-1697623200-1697630400@kuopionkirjasto.fi
SUMMARY:Harry Potter -tapahtuma tupalajittelu
DESCRIPTION:Tervetuloa Harry Potter -tapahtumaan Kuopion pääkirjastolle! \nTupalajittelu lasten- ja nuortenosastolla\, 1. krs: \nke 18.10. klo 10 – 12 \nto 19.10 klo 13 – 15
URL:https://kuopionkirjasto.fi/event/harry-potter-tapahtuma-tupalajittelu/2023-10-18/
LOCATION:Pääkirjasto\, Maaherrankatu 12\, Kuopio\, 70100\, Suomi
CATEGORIES:Kaikki tapahtumat,Lapset ja nuoret
END:VEVENT
BEGIN:VEVENT
DTSTART;TZID=Europe/Helsinki:20231018T120000
DTEND;TZID=Europe/Helsinki:20231018T160000
DTSTAMP:20260419T220247
CREATED:20231016T124332Z
LAST-MODIFIED:20231016T125057Z
UID:10001397-1697630400-1697644800@kuopionkirjasto.fi
SUMMARY:Taikasauvoja ja loitsuja -työpaja Maaningan kirjastolla
DESCRIPTION:Tule keskiviikkona 18.10. Maaningan kirjastoon tekemään oma taikasauva ja loitsuja Harry Potterin hengessä! \nTyöpajaan voivat osallistua kaikenikäiset.\nTapahtuman järjestää Lastenkulttuurikeskus Lastu yhteistyössä Maaningan kirjaston kanssa. \nTervetuloa! \n \n \n  \n  \n 
URL:https://kuopionkirjasto.fi/event/taikasauvoja-ja-loitsuja-tyopaja-maaninka/
LOCATION:Maaningan kirjasto\, Keskusraitti 3\, Maaninka\, 71750\, Suomi
CATEGORIES:Kaikki tapahtumat,Lapset ja nuoret
END:VEVENT
BEGIN:VEVENT
DTSTART;TZID=Europe/Helsinki:20231018T150000
DTEND;TZID=Europe/Helsinki:20231018T183000
DTSTAMP:20260419T220247
CREATED:20230720T092842Z
LAST-MODIFIED:20230725T092448Z
UID:10001271-1697641200-1697653800@kuopionkirjasto.fi
SUMMARY:Lautapeli-illat 15-200-vuotiaille
DESCRIPTION:Syksyllä pääkirjastolla lautapelaillaan yhdessä useamman kerran! Lautapeli-ilta on tarkoitettu kaikille 15-200-vuotiaille\, ja se pidetään syksyllä neljä kertaa vaihtuvin teemoin.  \nAjankohdat ja teemat:  \npe 25.8. klo 15-18.30 (2. kerroksen kirjahalli)\nPakopelit (peli-ilta osana Taiteiden yön tapahtumia) \nke 20.9. klo 15-18.30 (2. kerros\, lavan luona)\nKorttipelit\nKorteilla pelattavia pelejä laidasta laitaan. \nke 18.10. klo 15-18.30 (2. kerros\, lavan luona)\nHarry Potter- ja fantasiapelit (peli-ilta osana pääkirjaston Harry Potter -tapahtumaa) \nke 8.11. klo 15-18.30 (2. kerros\, lavan luona)\nKaikenlaiset pelit\, ei teemaa! (peli-ilta osana Peliviikon tapahtumia) \nTule viettämään hauskaa peli-iltaa kirjastoon mukavassa seurassa! Voit osallistua yksin tai yhdessä kavereiden kanssa. Tutustu teemanmukaisiin peleihin tai valitse jokin muu esillä olevista peleistä. Henkilökuntaa on mukana opastamassa ja pelailemassa. \nTervetuloa!
URL:https://kuopionkirjasto.fi/event/lautapeli-illat-15-200-vuotiaille/2023-10-18/
LOCATION:Pääkirjasto\, Maaherrankatu 12\, Kuopio\, 70100\, Suomi
CATEGORIES:Kaikki tapahtumat,Lapset ja nuoret,Muut tapahtumat
END:VEVENT
BEGIN:VEVENT
DTSTART;TZID=Europe/Helsinki:20231018T150000
DTEND;TZID=Europe/Helsinki:20231018T183000
DTSTAMP:20260419T220247
CREATED:20231005T113641Z
LAST-MODIFIED:20231006T094741Z
UID:10001386-1697641200-1697653800@kuopionkirjasto.fi
SUMMARY:Harry Potter -tapahtuma lautapeli-ilta
DESCRIPTION:Tervetuloa Harry Potter -tapahtumaan Kuopion pääkirjastolle! \nke 18.10. klo 15 – 18.30 Lautapeli -ilta 15 – 200 -vuotiaille\, teemana Harry Potter- ja fantasiapelit \nPeli-ilta järjestetään pääkirjaston 2. kerroksessa aikuistenosastolla.
URL:https://kuopionkirjasto.fi/event/harry-potter-tapahtuma-lautapeli-ilta/
LOCATION:Pääkirjasto\, Maaherrankatu 12\, Kuopio\, 70100\, Suomi
CATEGORIES:Lapset ja nuoret,Muut tapahtumat
END:VEVENT
END:VCALENDAR