BEGIN:VCALENDAR
VERSION:2.0
PRODID:-//Kuopion kaupunginkirjasto - ECPv6.15.20//NONSGML v1.0//EN
CALSCALE:GREGORIAN
METHOD:PUBLISH
X-ORIGINAL-URL:https://kuopionkirjasto.fi
X-WR-CALDESC:Tapahtumat Kuopion kaupunginkirjasto
REFRESH-INTERVAL;VALUE=DURATION:PT1H
X-Robots-Tag:noindex
X-PUBLISHED-TTL:PT1H
BEGIN:VTIMEZONE
TZID:Europe/Helsinki
BEGIN:DAYLIGHT
TZOFFSETFROM:+0200
TZOFFSETTO:+0300
TZNAME:EEST
DTSTART:20220327T010000
END:DAYLIGHT
BEGIN:STANDARD
TZOFFSETFROM:+0300
TZOFFSETTO:+0200
TZNAME:EET
DTSTART:20221030T010000
END:STANDARD
BEGIN:DAYLIGHT
TZOFFSETFROM:+0200
TZOFFSETTO:+0300
TZNAME:EEST
DTSTART:20230326T010000
END:DAYLIGHT
BEGIN:STANDARD
TZOFFSETFROM:+0300
TZOFFSETTO:+0200
TZNAME:EET
DTSTART:20231029T010000
END:STANDARD
BEGIN:DAYLIGHT
TZOFFSETFROM:+0200
TZOFFSETTO:+0300
TZNAME:EEST
DTSTART:20240331T010000
END:DAYLIGHT
BEGIN:STANDARD
TZOFFSETFROM:+0300
TZOFFSETTO:+0200
TZNAME:EET
DTSTART:20241027T010000
END:STANDARD
END:VTIMEZONE
BEGIN:VEVENT
DTSTART;TZID=Europe/Helsinki:20231006T080000
DTEND;TZID=Europe/Helsinki:20231028T150000
DTSTAMP:20260419T201108
CREATED:20231006T085904Z
LAST-MODIFIED:20231006T085904Z
UID:10001390-1696579200-1698505200@kuopionkirjasto.fi
SUMMARY:Tuusniemen kirjaston näyttelyitä lokakuussa
DESCRIPTION:Ritva Salon Veikeät virkatut koirat\nesillä 30.9.–28.10.2023.\nHahmot perustuvat Kerry Lordin samannimiseen kirjaan. \nLisäksi Tuusniemen alakoulun 3.–4.-luokkalaisten kuviskerholaisten taidetta\nnäytteillä lokakuun ajan. \nTervetuloa!
URL:https://kuopionkirjasto.fi/event/tuusniemen-kirjaston-nayttelyita-lokakuussa/
LOCATION:Tuusniemen kirjasto\, Keskitie 34-38\, Tuusniemi\, 71201\, Suomi
CATEGORIES:Kaikki tapahtumat,Näyttelyt
END:VEVENT
BEGIN:VEVENT
DTSTART;TZID=Europe/Helsinki:20231016T080000
DTEND;TZID=Europe/Helsinki:20231029T160000
DTSTAMP:20260419T201108
CREATED:20230630T100855Z
LAST-MODIFIED:20230630T100855Z
UID:10001209-1697443200-1698595200@kuopionkirjasto.fi
SUMMARY:Mylly 2023 -vuosinäyttely
DESCRIPTION:MYLLY 2023 -vuosinäyttely\nLuovien alojen yhdistys Pro Mylly ry
URL:https://kuopionkirjasto.fi/event/mylly-2023-vuosinayttely/
LOCATION:Pääkirjasto\, Maaherrankatu 12\, Kuopio\, 70100\, Suomi
CATEGORIES:Kaikki tapahtumat,Näyttelyt
END:VEVENT
BEGIN:VEVENT
DTSTART;TZID=Europe/Helsinki:20231019T080000
DTEND;TZID=Europe/Helsinki:20231019T190000
DTSTAMP:20260419T201108
CREATED:20231005T115348Z
LAST-MODIFIED:20231006T094630Z
UID:10001389-1697702400-1697742000@kuopionkirjasto.fi
SUMMARY:Harry Potter -tapahtuman ohjelmaa
DESCRIPTION:Tervetuloa Harry Potter -tapahtumiin Kuopion pääkirjastolle! \nke 18.10. ja to 19.10. klo 8 – 19 omatoimisesti \nlasten – ja nuortenosastolla\, 1. krs: \n\nitsenäistä askartelua\nloitsupaja\nitsenäinen Potter -visa\n\naikuistenosastolla\, 2. krs: \n\nIhmeotukset ja taikaolennot -aineistonäyttely\nPotter-visa\nTaika-ammattitesti\nSauvalupahakemus\n\n  \n 
URL:https://kuopionkirjasto.fi/event/harry-potter-viikon-tapahtumia/2023-10-19/
LOCATION:Pääkirjasto\, Maaherrankatu 12\, Kuopio\, 70100\, Suomi
CATEGORIES:Kaikki tapahtumat,Lapset ja nuoret,Muut tapahtumat
END:VEVENT
BEGIN:VEVENT
DTSTART;TZID=Europe/Helsinki:20231019T120000
DTEND;TZID=Europe/Helsinki:20231019T160000
DTSTAMP:20260419T201108
CREATED:20231003T104905Z
LAST-MODIFIED:20231016T125232Z
UID:10001380-1697716800-1697731200@kuopionkirjasto.fi
SUMMARY:Taikasauvoja ja loitsuja -työpaja Vehmersalmen kirjastolla
DESCRIPTION:Tule torstaina 19.10. Vehmersalmen kirjastoon tekemään oma taikasauva ja loitsuja Harry Potterin hengessä! \nTyöpajaan voivat osallistua kaikenikäiset.\nTapahtuman järjestää Lastenkulttuurikeskus Lastu yhteistyössä Vehmersalmen kirjaston kanssa. \nTervetuloa! \n \n \n  \n  \n 
URL:https://kuopionkirjasto.fi/event/taikasauvoja-ja-loitsuja-tyopaja-vehmersalmi/
LOCATION:Vehmersalmen kirjasto\, Vehmersalmenkatu 27\, Kuopio\, 71310\, Suomi
CATEGORIES:Kaikki tapahtumat,Lapset ja nuoret
END:VEVENT
BEGIN:VEVENT
DTSTART;TZID=Europe/Helsinki:20231019T130000
DTEND;TZID=Europe/Helsinki:20231019T150000
DTSTAMP:20260419T201108
CREATED:20230710T083911Z
LAST-MODIFIED:20230710T084958Z
UID:10001238-1697720400-1697727600@kuopionkirjasto.fi
SUMMARY:Kirja- ja elokuvapiiri
DESCRIPTION:Kirja- ja elokuvapiirissä keskustellaan ensin kirjasta\, minkä jälkeen seuraavalla kokoontumiskerralla katsotaan kirjaan pohjautuva elokuva. \n\n\n\n\nKokoontuminen alla ilmoitettuina päivinä klo 13 pääkirjaston koulutustilassa (lastenosaston perällä) \n\n\n\n\n\n\n\nTo 12.10.\nDelia Owens: Suon villi laulu \nTo 19.10.\nSuon villi laulu -elokuvan katsominen ja vertaileva keskustelu \n\n\n\n\n\n\nTo 30.11.\nKathryn Stockett: Piiat \n\n\n\n\n\n\nTo 7.12.\nPiiat-elokuvan katsominen ja vertaileva keskustelu
URL:https://kuopionkirjasto.fi/event/kirja-ja-elokuvapiiri/2023-10-19/
LOCATION:Pääkirjasto\, Maaherrankatu 12\, Kuopio\, 70100\, Suomi
CATEGORIES:Kaikki tapahtumat,Kaikki tapahtumat - kirjallisuus,Kirjallisuus
END:VEVENT
BEGIN:VEVENT
DTSTART;TZID=Europe/Helsinki:20231019T130000
DTEND;TZID=Europe/Helsinki:20231019T150000
DTSTAMP:20260419T201108
CREATED:20231005T113016Z
LAST-MODIFIED:20231006T094808Z
UID:10001385-1697720400-1697727600@kuopionkirjasto.fi
SUMMARY:Harry Potter -tapahtuma tupalajittelu
DESCRIPTION:Tervetuloa Harry Potter -tapahtumaan Kuopion pääkirjastolle! \nTupalajittelu lasten- ja nuortenosastolla\, 1. krs: \nke 18.10. klo 10 – 12 \nto 19.10 klo 13 – 15
URL:https://kuopionkirjasto.fi/event/harry-potter-tapahtuma-tupalajittelu/2023-10-19/
LOCATION:Pääkirjasto\, Maaherrankatu 12\, Kuopio\, 70100\, Suomi
CATEGORIES:Kaikki tapahtumat,Lapset ja nuoret
END:VEVENT
BEGIN:VEVENT
DTSTART;TZID=Europe/Helsinki:20231019T153000
DTEND;TZID=Europe/Helsinki:20231019T180000
DTSTAMP:20260419T201108
CREATED:20231005T114624Z
LAST-MODIFIED:20231012T111839Z
UID:10001387-1697729400-1697738400@kuopionkirjasto.fi
SUMMARY:Harry Potter -tapahtuma elokuvanäytös
DESCRIPTION:Tervetuloa Harry Potter -tapahtumaan Kuopion pääkirjastolle! \nTo 19.10. klo 15.30 Harry Potter -elokuvanäytös kokoussalissa\, 1 krs. Katsellaan elokuva Harry Potter ja viisasten kivi. Elokuvan ikärajasuositus on K-12 ja täysi-ikäisen seurassa K-9. Elokuvan kesto on 2h 26 min. \nElokuvaa voi tulla katselemaan myös omien naposteltavien kanssa ja halutessa aiheenmukaisesti pukeutuneena. \nVapaa pääsy!
URL:https://kuopionkirjasto.fi/event/harry-potter-tapahtuma-elokuvanaytos/
LOCATION:Pääkirjasto\, Maaherrankatu 12\, Kuopio\, 70100\, Suomi
CATEGORIES:Kaikki tapahtumat,Lapset ja nuoret,Muut tapahtumat
END:VEVENT
END:VCALENDAR