BEGIN:VCALENDAR
VERSION:2.0
PRODID:-//Kuopion kaupunginkirjasto - ECPv6.15.20//NONSGML v1.0//EN
CALSCALE:GREGORIAN
METHOD:PUBLISH
X-ORIGINAL-URL:https://kuopionkirjasto.fi
X-WR-CALDESC:Tapahtumat Kuopion kaupunginkirjasto
REFRESH-INTERVAL;VALUE=DURATION:PT1H
X-Robots-Tag:noindex
X-PUBLISHED-TTL:PT1H
BEGIN:VTIMEZONE
TZID:Europe/Helsinki
BEGIN:DAYLIGHT
TZOFFSETFROM:+0200
TZOFFSETTO:+0300
TZNAME:EEST
DTSTART:20220327T010000
END:DAYLIGHT
BEGIN:STANDARD
TZOFFSETFROM:+0300
TZOFFSETTO:+0200
TZNAME:EET
DTSTART:20221030T010000
END:STANDARD
BEGIN:DAYLIGHT
TZOFFSETFROM:+0200
TZOFFSETTO:+0300
TZNAME:EEST
DTSTART:20230326T010000
END:DAYLIGHT
BEGIN:STANDARD
TZOFFSETFROM:+0300
TZOFFSETTO:+0200
TZNAME:EET
DTSTART:20231029T010000
END:STANDARD
BEGIN:DAYLIGHT
TZOFFSETFROM:+0200
TZOFFSETTO:+0300
TZNAME:EEST
DTSTART:20240331T010000
END:DAYLIGHT
BEGIN:STANDARD
TZOFFSETFROM:+0300
TZOFFSETTO:+0200
TZNAME:EET
DTSTART:20241027T010000
END:STANDARD
END:VTIMEZONE
BEGIN:VEVENT
DTSTART;TZID=Europe/Helsinki:20231031T140000
DTEND;TZID=Europe/Helsinki:20231031T143000
DTSTAMP:20260419T182317
CREATED:20231011T074313Z
LAST-MODIFIED:20231011T080102Z
UID:10001392-1698760800-1698762600@kuopionkirjasto.fi
SUMMARY:Pienet Teot -esityksiä pääkirjastolla
DESCRIPTION:Pienet Teot koostuu Savonia-AMK:n ensimmäisen vuoden musiikkipedagogiikan ja tanssinopettajaopiskelijoiden yhteisistä pienoisesityksistä. Teoksia nähdään pääkirjaston asiakastiloissa tiistaina 31.10.2023 klo 14 ja klo 15. \nPienten Tekojen ohjaavina lehtoreina toimivat Savonia-AMK:n Mari Koistinen\, Jukka Onttonen ja Johanna Partio. Tapahtumat ovat osa kirjaston Oppia ja iloa musiikista -hanketta\, jossa yhteistyössä on mukana Savonia-AMK.
URL:https://kuopionkirjasto.fi/event/pienet-teot-esityksia-paakirjastolla/2023-10-31/1/
LOCATION:Pääkirjasto\, Maaherrankatu 12\, Kuopio\, 70100\, Suomi
CATEGORIES:Kaikki tapahtumat,Musiikki,Muut tapahtumat
END:VEVENT
BEGIN:VEVENT
DTSTART;TZID=Europe/Helsinki:20231031T150000
DTEND;TZID=Europe/Helsinki:20231031T153000
DTSTAMP:20260419T182317
CREATED:20231011T074313Z
LAST-MODIFIED:20231011T080102Z
UID:10001393-1698764400-1698766200@kuopionkirjasto.fi
SUMMARY:Pienet Teot -esityksiä pääkirjastolla
DESCRIPTION:Pienet Teot koostuu Savonia-AMK:n ensimmäisen vuoden musiikkipedagogiikan ja tanssinopettajaopiskelijoiden yhteisistä pienoisesityksistä. Teoksia nähdään pääkirjaston asiakastiloissa tiistaina 31.10.2023 klo 14 ja klo 15. \nPienten Tekojen ohjaavina lehtoreina toimivat Savonia-AMK:n Mari Koistinen\, Jukka Onttonen ja Johanna Partio. Tapahtumat ovat osa kirjaston Oppia ja iloa musiikista -hanketta\, jossa yhteistyössä on mukana Savonia-AMK.
URL:https://kuopionkirjasto.fi/event/pienet-teot-esityksia-paakirjastolla/2023-10-31/2/
LOCATION:Pääkirjasto\, Maaherrankatu 12\, Kuopio\, 70100\, Suomi
CATEGORIES:Kaikki tapahtumat,Musiikki,Muut tapahtumat
END:VEVENT
END:VCALENDAR