BEGIN:VCALENDAR
VERSION:2.0
PRODID:-//Kuopion kaupunginkirjasto - ECPv6.15.20//NONSGML v1.0//EN
CALSCALE:GREGORIAN
METHOD:PUBLISH
X-WR-CALNAME:Kuopion kaupunginkirjasto
X-ORIGINAL-URL:https://kuopionkirjasto.fi
X-WR-CALDESC:Tapahtumat Kuopion kaupunginkirjasto
REFRESH-INTERVAL;VALUE=DURATION:PT1H
X-Robots-Tag:noindex
X-PUBLISHED-TTL:PT1H
BEGIN:VTIMEZONE
TZID:Europe/Helsinki
BEGIN:DAYLIGHT
TZOFFSETFROM:+0200
TZOFFSETTO:+0300
TZNAME:EEST
DTSTART:20220327T010000
END:DAYLIGHT
BEGIN:STANDARD
TZOFFSETFROM:+0300
TZOFFSETTO:+0200
TZNAME:EET
DTSTART:20221030T010000
END:STANDARD
BEGIN:DAYLIGHT
TZOFFSETFROM:+0200
TZOFFSETTO:+0300
TZNAME:EEST
DTSTART:20230326T010000
END:DAYLIGHT
BEGIN:STANDARD
TZOFFSETFROM:+0300
TZOFFSETTO:+0200
TZNAME:EET
DTSTART:20231029T010000
END:STANDARD
BEGIN:DAYLIGHT
TZOFFSETFROM:+0200
TZOFFSETTO:+0300
TZNAME:EEST
DTSTART:20240331T010000
END:DAYLIGHT
BEGIN:STANDARD
TZOFFSETFROM:+0300
TZOFFSETTO:+0200
TZNAME:EET
DTSTART:20241027T010000
END:STANDARD
END:VTIMEZONE
BEGIN:VEVENT
DTSTART;TZID=Europe/Helsinki:20231107T160000
DTEND;TZID=Europe/Helsinki:20231107T173000
DTSTAMP:20260419T182325
CREATED:20230719T101031Z
LAST-MODIFIED:20230719T101031Z
UID:10001263-1699372800-1699378200@kuopionkirjasto.fi
SUMMARY:Jynkän kirjaston lukupiiri
DESCRIPTION:  \nSyksyllä 2023 Jynkän kirjaston lukupiiri kokoontuu tiistaisin klo 16.00–17.30: \n12.9.\nHarper Lee: Kuin surmaisi satakielen \n10.10.\nVesa Haapala: Alexis : elämänkertomus \n7.11.  \nMaria Turtschaninoff: Suomaa \n12.12.\nJoel Haahtela: Yö Whistlerin maalauksessa
URL:https://kuopionkirjasto.fi/event/jynkan-kirjaston-lukupiiri-2/2023-11-07/
LOCATION:Jynkän kirjasto\, Maitotie 2\, Kuopio\, 70780\, Suomi
CATEGORIES:Kaikki tapahtumat,Kaikki tapahtumat - kirjallisuus,Kirjallisuus
END:VEVENT
END:VCALENDAR