BEGIN:VCALENDAR
VERSION:2.0
PRODID:-//Kuopion kaupunginkirjasto - ECPv6.15.20//NONSGML v1.0//EN
CALSCALE:GREGORIAN
METHOD:PUBLISH
X-WR-CALNAME:Kuopion kaupunginkirjasto
X-ORIGINAL-URL:https://kuopionkirjasto.fi
X-WR-CALDESC:Tapahtumat Kuopion kaupunginkirjasto
REFRESH-INTERVAL;VALUE=DURATION:PT1H
X-Robots-Tag:noindex
X-PUBLISHED-TTL:PT1H
BEGIN:VTIMEZONE
TZID:Europe/Helsinki
BEGIN:DAYLIGHT
TZOFFSETFROM:+0200
TZOFFSETTO:+0300
TZNAME:EEST
DTSTART:20220327T010000
END:DAYLIGHT
BEGIN:STANDARD
TZOFFSETFROM:+0300
TZOFFSETTO:+0200
TZNAME:EET
DTSTART:20221030T010000
END:STANDARD
BEGIN:DAYLIGHT
TZOFFSETFROM:+0200
TZOFFSETTO:+0300
TZNAME:EEST
DTSTART:20230326T010000
END:DAYLIGHT
BEGIN:STANDARD
TZOFFSETFROM:+0300
TZOFFSETTO:+0200
TZNAME:EET
DTSTART:20231029T010000
END:STANDARD
BEGIN:DAYLIGHT
TZOFFSETFROM:+0200
TZOFFSETTO:+0300
TZNAME:EEST
DTSTART:20240331T010000
END:DAYLIGHT
BEGIN:STANDARD
TZOFFSETFROM:+0300
TZOFFSETTO:+0200
TZNAME:EET
DTSTART:20241027T010000
END:STANDARD
END:VTIMEZONE
BEGIN:VEVENT
DTSTART;TZID=Europe/Helsinki:20231121T130000
DTEND;TZID=Europe/Helsinki:20231121T170000
DTSTAMP:20260419T182326
CREATED:20231018T103509Z
LAST-MODIFIED:20231018T112452Z
UID:10001402-1700571600-1700586000@kuopionkirjasto.fi
SUMMARY:Hyvä mieli -päivä 2023 pääkirjastolla
DESCRIPTION:Lämpimästi tervetuloa mukaan Hyvä mieli -päivään tiistaina 21.11.2023 klo 13–17 Kuopion pääkirjastolle! Ohjelmassa on tietoiskuja\, esittelypisteitä\, musiikkia ja paneelikeskustelu.\nTarkista mahdolliset muutokset päivän ohjelmasivulta! \nVuoden 2023 Hyvä mieli -päivässä painotetaan valtakunnallisen ehkäisevän päihdetyön viikon teemaa: päihde- ja mielenterveystyö käsi kädessä. \nTietoiskuja kokoussalissa klo 13–16. Tietoiskuja on mahdollista seurata myös striimin välityksellä. Linkki striimiin lisätään ohjelmaan lähempänä tapahtumaa. \n\n13.00: Utelias mieli – iloa hyvän olon huomiseen!\nApulaisrehtori Anna Pohjalainen\, Kuopion kansalaisopisto\n\n\n13.20: Luontoavusteiset palvelut hyvinvoinnin ja kuntoutumisen tukena Projektipäällikkö Karoliina Pitkänen\, Live-säätiö\n\n\n13.40: Skutsi kuulee – nuoren aikuisen luontosuhteen rakentuminen hyvinvoinnin tukemisen avuksi\nAsiantuntija Jenni Rihti\, MTKL\n\n\n14.00: Vanhempien kanssa tehtävä päihdetyö – lapsen saama hyöty Koordinaattori Suvi Kovalainen\, Erityisesti isä -toiminta\nRiina Luttinen\, perhepäihdetyö\, Kuopion ensikotiyhdistys ry\n\n\n14.20: Kun yksi sairastuu\, monen elämä muuttuu – omaisen tunteet ja kokemukset sairauden vuoristoradalla \nToiminnanjohtaja Johanna Björn\, Savon mielenterveysomaiset – FinFami ry\n\n\n14.40: Miksi koulutamme kokemusasiantuntijoita? Ja miksi palvelu on maksullista?\nTeppo Uotinen\, POSAKAT ry\n\n\n15.00: Päihdepalvelusäätiön palvelut tutuiksi \nPäihdetyön johtaja Päivi Valta\, Päihdepalvelusäätiö\n\n\n15.20: Ymmärrä yksinäisyyttä \nprojektipäällikkö Inka Pironetti\, Yksinäisyystyö Pohjois-Savossa -hanke\n\n\n15.40: Luovuus voimavarana\nMinna Vänskä\, Kulttuuripaja Luode\n\nPaneelikeskustelu kokoussalissa klo 16–17 \nMielenterveys- ja päihdepalvelujen ajankohtaisista kysymyksistä keskustelevat: kokemusasiantuntijat\,  kansanedustaja Laura Meriluoto\, Päihdepalvelusäätiön toiminnanjohtaja Pirkko Paakeli-Kurronen\, Mielenterveyden keskusliiton asiantuntija Jenni Rihti ja Pohjois-Savon hyvinvointialueelta aikuispsykiatrian avohoidon ylilääkäri Jarmo Pajula sekä mielenterveys- ja hyvinvointipalvelujen palveluyksikön johtaja Teijamari Laasonen-Balk. \nMusiikkia pääkirjaston 2. kerroksen lavalla \n\nLuoteen Omat soittaa covereita klo 13–13.15 ja 15–15.15\nKuopion kaupunginorkesterin viulisti Soila Häkkinen esiintyy klo 15.45–16\n\n\nEsittelypisteet \nLuonto- ja eläinlähtöinen kuntoutus\, Ensikotiyhdistys\, Kirkkopalvelujen Erityisesti isä –toiminta \, Mielenterveyden keskusliitto ry\, Kuopion asukastoiminta\, Savon mielenterveysomaiset – FinFami ry \, POSAKAT ry\, Turvalinkki ja Päiväntasaaja\, Päihdepalvelusäätiö\, Mielenterveys- ja päihdepalvelu Hemmalaiset\, A-klinikkasäätiö\, Syömishäiriöliitto SYLI ja Mielihyvin Savosta ry. \n\nHyvä mieli -päivän toteutuksessa mukana: \nKuopion kaupunki\, Ensikotiyhdistys\, Live-säätiö\, Kirkkopalvelut\, Mielenterveyden Keskusliitto ry\, Savon mielenterveysomaiset – FinFami ry \, Kuopion kriisikeskus\, POSAKAT ry\, Turvalinkki ja Päiväntasaaja\, Päihdepalvelusäätiö\, Mielenterveys- ja päihdepalvelu Hemmalaiset\, A-klinikkasäätiö\, Syömishäiriöliitto SYLI ja Mielihyvin Savosta ry. \n \n 
URL:https://kuopionkirjasto.fi/event/hyva-mieli-paiva-2023-paakirjastolla/
LOCATION:Pääkirjasto\, Maaherrankatu 12\, Kuopio\, 70100\, Suomi
CATEGORIES:Kaikki tapahtumat,Musiikki,Muut tapahtumat
END:VEVENT
END:VCALENDAR