BEGIN:VCALENDAR
VERSION:2.0
PRODID:-//Kuopion kaupunginkirjasto - ECPv6.15.20//NONSGML v1.0//EN
CALSCALE:GREGORIAN
METHOD:PUBLISH
X-ORIGINAL-URL:https://kuopionkirjasto.fi
X-WR-CALDESC:Tapahtumat Kuopion kaupunginkirjasto
REFRESH-INTERVAL;VALUE=DURATION:PT1H
X-Robots-Tag:noindex
X-PUBLISHED-TTL:PT1H
BEGIN:VTIMEZONE
TZID:Europe/Helsinki
BEGIN:DAYLIGHT
TZOFFSETFROM:+0200
TZOFFSETTO:+0300
TZNAME:EEST
DTSTART:20220327T010000
END:DAYLIGHT
BEGIN:STANDARD
TZOFFSETFROM:+0300
TZOFFSETTO:+0200
TZNAME:EET
DTSTART:20221030T010000
END:STANDARD
BEGIN:DAYLIGHT
TZOFFSETFROM:+0200
TZOFFSETTO:+0300
TZNAME:EEST
DTSTART:20230326T010000
END:DAYLIGHT
BEGIN:STANDARD
TZOFFSETFROM:+0300
TZOFFSETTO:+0200
TZNAME:EET
DTSTART:20231029T010000
END:STANDARD
BEGIN:DAYLIGHT
TZOFFSETFROM:+0200
TZOFFSETTO:+0300
TZNAME:EEST
DTSTART:20240331T010000
END:DAYLIGHT
BEGIN:STANDARD
TZOFFSETFROM:+0300
TZOFFSETTO:+0200
TZNAME:EET
DTSTART:20241027T010000
END:STANDARD
END:VTIMEZONE
BEGIN:VEVENT
DTSTART;TZID=Europe/Helsinki:20231201T080000
DTEND;TZID=Europe/Helsinki:20231223T160000
DTSTAMP:20260419T163607
CREATED:20231130T085044Z
LAST-MODIFIED:20231130T085424Z
UID:10001418-1701417600-1703347200@kuopionkirjasto.fi
SUMMARY:Mysteeripaketit
DESCRIPTION:Tuntuuko että joulu ei saavu ollenkaan? Ei hätää\, kirjastotontut ovat koonneet pääkirjaston lasten- ja nuortenosastolle mysteeripakettien joulukuusen\, jonka oksilta voi käydä lainaamassa mysteeriluettavaa joulunodotusta helpottamaan! Tarkista vain pakettikortin väristä minkä ikäiselle lukijalle teos on tarkoitettu ja lainaa paketti lastenosaston asiakaspalvelusta. Paketit ovat lainattavissa 1. – 23.12.2023. \nMukavaa joulunodotusta kaikille!
URL:https://kuopionkirjasto.fi/event/mysteeripaketit/
LOCATION:Pääkirjasto\, Maaherrankatu 12\, Kuopio\, 70100\, Suomi
CATEGORIES:Kaikki tapahtumat,Lapset ja nuoret
END:VEVENT
BEGIN:VEVENT
DTSTART;TZID=Europe/Helsinki:20231212T160000
DTEND;TZID=Europe/Helsinki:20231212T173000
DTSTAMP:20260419T163607
CREATED:20230719T101031Z
LAST-MODIFIED:20230719T101031Z
UID:10001264-1702396800-1702402200@kuopionkirjasto.fi
SUMMARY:Jynkän kirjaston lukupiiri
DESCRIPTION:  \nSyksyllä 2023 Jynkän kirjaston lukupiiri kokoontuu tiistaisin klo 16.00–17.30: \n12.9.\nHarper Lee: Kuin surmaisi satakielen \n10.10.\nVesa Haapala: Alexis : elämänkertomus \n7.11.  \nMaria Turtschaninoff: Suomaa \n12.12.\nJoel Haahtela: Yö Whistlerin maalauksessa
URL:https://kuopionkirjasto.fi/event/jynkan-kirjaston-lukupiiri-2/2023-12-12/
LOCATION:Jynkän kirjasto\, Maitotie 2\, Kuopio\, 70780\, Suomi
CATEGORIES:Kaikki tapahtumat,Kaikki tapahtumat - kirjallisuus,Kirjallisuus
END:VEVENT
END:VCALENDAR