BEGIN:VCALENDAR
VERSION:2.0
PRODID:-//Kuopion kaupunginkirjasto - ECPv6.15.20//NONSGML v1.0//EN
CALSCALE:GREGORIAN
METHOD:PUBLISH
X-WR-CALNAME:Kuopion kaupunginkirjasto
X-ORIGINAL-URL:https://kuopionkirjasto.fi
X-WR-CALDESC:Tapahtumat Kuopion kaupunginkirjasto
REFRESH-INTERVAL;VALUE=DURATION:PT1H
X-Robots-Tag:noindex
X-PUBLISHED-TTL:PT1H
BEGIN:VTIMEZONE
TZID:Europe/Helsinki
BEGIN:DAYLIGHT
TZOFFSETFROM:+0200
TZOFFSETTO:+0300
TZNAME:EEST
DTSTART:20250330T010000
END:DAYLIGHT
BEGIN:STANDARD
TZOFFSETFROM:+0300
TZOFFSETTO:+0200
TZNAME:EET
DTSTART:20251026T010000
END:STANDARD
BEGIN:DAYLIGHT
TZOFFSETFROM:+0200
TZOFFSETTO:+0300
TZNAME:EEST
DTSTART:20260329T010000
END:DAYLIGHT
BEGIN:STANDARD
TZOFFSETFROM:+0300
TZOFFSETTO:+0200
TZNAME:EET
DTSTART:20261025T010000
END:STANDARD
BEGIN:DAYLIGHT
TZOFFSETFROM:+0200
TZOFFSETTO:+0300
TZNAME:EEST
DTSTART:20270328T010000
END:DAYLIGHT
BEGIN:STANDARD
TZOFFSETFROM:+0300
TZOFFSETTO:+0200
TZNAME:EET
DTSTART:20271031T010000
END:STANDARD
END:VTIMEZONE
BEGIN:VEVENT
DTSTART;TZID=Europe/Helsinki:20260408T090000
DTEND;TZID=Europe/Helsinki:20260424T160000
DTSTAMP:20260424T015026
CREATED:20260406T191005Z
LAST-MODIFIED:20260406T191154Z
UID:10003129-1775638800-1777046400@kuopionkirjasto.fi
SUMMARY:Kuopion kansalaisopiston Innostu ja onnistu -kevätnäyttelyt kirjastopisteissä
DESCRIPTION:Kuopion kansalaisopiston kevätnäyttelyt avautuvat yleisölle huhtikuussa. Tuttuun tapaan näyttely jakautuu eri puolille opiston toimialuetta\, ja se kokoaa yhteen monipuolisen katsauksen kursseilla valmistuneista teoksista. Kuopion kansalaisopiston Innostu ja onnistu -näyttelyt ovat avoinna ympäri toimialuetta huhti-toukokuun aikana laajana näyttelykokonaisuutena. \nNäyttelyt Kuopion kaupunginkirjaston palvelupisteissä: \n\nKevätnäyttely 2026 Karttula – Innostu ja onnistu\n31.3.–8.4.2026\, Karttula\, kirjasto\, Kissakuusentie 20\nKevätnäyttely 2026 Kaavi – Innostu ja onnistu\n2.–17.4.2026\, Kaavi\, kirjasto\, Koulutie 1\nKevätnäyttely 2026 Maaninka – Innostu ja onnistu\n2.–19.4.2026\, Maaninka\, kirjasto\, Keskusraitti 3\nKevätnäyttely 2026 Vehmersalmi – Innostu ja onnistu\n8.–24.4.2026\, Vehmersalmi\, kirjasto\, Vehmersalmenkatu 27\nKevätnäyttely 2026 Juankoski – Innostu ja onnistu\n9.–17.4.2026\, Juankoski\, kirjasto\, Juankoskentie 26
URL:https://kuopionkirjasto.fi/event/kuopion-kansalaisopiston-innostu-ja-onnistu-kevatnayttelyt-kirjastopisteissa/
LOCATION:Useita kirjastopisteitä\, Kuopio
CATEGORIES:Kaikki tapahtumat,Näyttelyt
END:VEVENT
BEGIN:VEVENT
DTSTART;TZID=Europe/Helsinki:20260420T090000
DTEND;TZID=Europe/Helsinki:20260529T160000
DTSTAMP:20260424T015026
CREATED:20260420T100900Z
LAST-MODIFIED:20260420T100900Z
UID:10003140-1776675600-1780070400@kuopionkirjasto.fi
SUMMARY:Kuopion kansalaisopiston piirustus- ja maalausryhmän näyttely
DESCRIPTION:Tuusniemen kirjastolla esillä Kuopion kansalaisopiston piirustus- ja maalausryhmän töitä.\n\nTervetuloa tutustumaan!
URL:https://kuopionkirjasto.fi/event/kuopion-kansalaisopiston-piirustus-ja-maalausryhman-nayttely/
LOCATION:Tuusniemen kirjasto\, Keskitie 34-38\, Tuusniemi\, 71201\, Suomi
CATEGORIES:Kaikki tapahtumat,Näyttelyt
END:VEVENT
BEGIN:VEVENT
DTSTART;TZID=Europe/Helsinki:20260420T100000
DTEND;TZID=Europe/Helsinki:20260430T150000
DTSTAMP:20260424T015026
CREATED:20260114T122045Z
LAST-MODIFIED:20260127T110100Z
UID:10002991-1776679200-1777561200@kuopionkirjasto.fi
SUMMARY:Jälkihuoltonuorten kokemuksia
DESCRIPTION:Yhdessä osallisiksi – Mieliteko 2.0 -hankkeeseen liittyvä näyttely jossa esillä jälkihuollossa olevien nuorten tuottamia maalauksia\, valokuvia\, tekstejä ja videoita. \nNäyttely pyrkii tuomaan näkyväksi jälkihuoltonuorten arkea valoineen ja varjoineen sekä herättämään keskustelua lastensuojelun kehittämiseksi. \nTervetuloa! \n \n  \n 
URL:https://kuopionkirjasto.fi/event/jalkihuoltonuorten-kokemuksia/
LOCATION:Pääkirjasto\, Maaherrankatu 12\, Kuopio\, 70100\, Suomi
CATEGORIES:Kaikki tapahtumat,Näyttelyt
END:VEVENT
BEGIN:VEVENT
DTSTART;TZID=Europe/Helsinki:20260424T093000
DTEND;TZID=Europe/Helsinki:20260424T100000
DTSTAMP:20260424T015026
CREATED:20260107T065036Z
LAST-MODIFIED:20260107T065036Z
UID:10003013-1777023000-1777024800@kuopionkirjasto.fi
SUMMARY:Pyörön kirjaston satuhetket keväällä 2026
DESCRIPTION:Tervetuloa Pyörön kirjaston satuhetkiin: \npe 23.1. klo 9.30 5-7 v.\npe 6.2. klo 9.30 2-4 v.\npe 20.2. klo 9.30 1-3 v.\npe 13.3. klo 9.30 3-5 v.\npe 27.3. klo 9.30 2-4 v.\npe 10.4. klo 9.30 1-3 v.\npe 24.4. klo 9.30 3-5 v.\npe 15.5. klo 9.30 5-7 v.\n\nIlmoita ryhmäsi ja tule ajoissa!\npyoro.kirjasto@kuopio.fi\n0447182345
URL:https://kuopionkirjasto.fi/event/pyoron-kirjaston-satuhetket-kevaalla-2026/2026-04-24/
LOCATION:Pyörön kirjasto\, Jalkasenkatu 3\, Kuopio\, 70820\, Suomi
CATEGORIES:Kaikki tapahtumat,Lapset ja nuoret
END:VEVENT
BEGIN:VEVENT
DTSTART;TZID=Europe/Helsinki:20260424T100000
DTEND;TZID=Europe/Helsinki:20260424T103000
DTSTAMP:20260424T015026
CREATED:20251219T100415Z
LAST-MODIFIED:20251219T100550Z
UID:10002971-1777024800-1777026600@kuopionkirjasto.fi
SUMMARY:Taaperoiden satumuskari pääkirjastolla
DESCRIPTION:Tervetuloa satumuskariin!\nLähde mukaan iloiseen satujen ja musiikin maailmaan pääkirjaston lasten- ja nuortenosaston koulutustilassa klo 10.00 \nPe 23.1.\nPe 27.2.\nPe 20.3.\nPe 24.4. \nSatumuskarit on tarkoitettu taaperoikäisille lapsille yhdessä oman aikuisen kanssa ja niiden kesto on noin  30 min. Mukana hetkessä on laulua\, leikkiä ja rytmisoittimiin tutustumista! Sekä tietenkin hauskaa yhdessä oloa!\nSatumuskaria ohjaa Savonian musiikkipedagogiikan opiskelija Mira Palkeinen. \nIlmoittauduthan tapahtumaan ennakkoon soittamalla: 044 718 2321 \nMukaan mahtuu 10 taaperoa huoltajineen.
URL:https://kuopionkirjasto.fi/event/taaperoiden-satumuskari-paakirjastolla/2026-04-24/
LOCATION:Pääkirjasto\, Maaherrankatu 12\, Kuopio\, 70100\, Suomi
CATEGORIES:Kaikki tapahtumat,Lapset ja nuoret
END:VEVENT
BEGIN:VEVENT
DTSTART;TZID=Europe/Helsinki:20260424T100000
DTEND;TZID=Europe/Helsinki:20260424T110000
DTSTAMP:20260424T015026
CREATED:20260414T114320Z
LAST-MODIFIED:20260420T065912Z
UID:10003136-1777024800-1777028400@kuopionkirjasto.fi
SUMMARY:Muskarituokio Nilsiän kirjastossa
DESCRIPTION:KÖRÖ\, KÖRÖ KIRJASTOON!\nLapsen ja aikuisen yhteinen muskarituokio.\nOta oma aikuinen mukaan ja tule musisoimaan!\n\nNilsiän kirjastolla perjantaina 24.4. klo 10\nMeitä laulattaa Leena Taskinen.\nIkäsuositus 1–3 v.
URL:https://kuopionkirjasto.fi/event/muskarituokio-nilsian-kirjastossa/
LOCATION:Nilsiän kirjasto\, Ukko-Paavontie 15\, Nilsiä\, 73300\, Suomi
CATEGORIES:Kaikki tapahtumat,Lapset ja nuoret
END:VEVENT
BEGIN:VEVENT
DTSTART;TZID=Europe/Helsinki:20260424T160000
DTEND;TZID=Europe/Helsinki:20260424T174500
DTSTAMP:20260424T015026
CREATED:20260217T142607Z
LAST-MODIFIED:20260309T080603Z
UID:10003091-1777046400-1777052700@kuopionkirjasto.fi
SUMMARY:Lukuretriitti pääkirjastolla
DESCRIPTION:Oletko haaveillut kirjastoon jäämisestä sulkemisajan jälkeen? Nyt se onnistuu\, kun järjestämme perjantaina 24.4. lukuretriitin pääkirjaston toisen kerroksen kirjahallissa. Tapahtuma alkaa klo 16\, ulko-ovet avoinna n. klo 16.15. saakka. \nTapahtumaa on luotsaamassa kirja-aktivisti ja -bloggari Aino-Maria Savolainen eli Amma. Amman alustuksen jälkeen retriitissä on yhteinen lukuhetki klo 16.30–17.45. \nTarjolla myös pientä purtavaa. Tapahtumaan on vapaa pääsy kaikille\, ei ennakkoilmoittautumista! \nTervetuloa mukaan!
URL:https://kuopionkirjasto.fi/event/lukuretriitti-paakirjastolla/
LOCATION:Pääkirjaston kirjahalli\, 2. krs\, Maaherrankatu 12\, Kuopio\, 70100\, Suomi
CATEGORIES:Kaikki tapahtumat,Kaikki tapahtumat - kirjallisuus,Kirjallisuus
END:VEVENT
END:VCALENDAR