BEGIN:VCALENDAR
VERSION:2.0
PRODID:-//Kuopion kaupunginkirjasto - ECPv6.15.20//NONSGML v1.0//EN
CALSCALE:GREGORIAN
METHOD:PUBLISH
X-WR-CALNAME:Kuopion kaupunginkirjasto
X-ORIGINAL-URL:https://kuopionkirjasto.fi
X-WR-CALDESC:Tapahtumat Kuopion kaupunginkirjasto
REFRESH-INTERVAL;VALUE=DURATION:PT1H
X-Robots-Tag:noindex
X-PUBLISHED-TTL:PT1H
BEGIN:VTIMEZONE
TZID:Europe/Helsinki
BEGIN:DAYLIGHT
TZOFFSETFROM:+0200
TZOFFSETTO:+0300
TZNAME:EEST
DTSTART:20220327T010000
END:DAYLIGHT
BEGIN:STANDARD
TZOFFSETFROM:+0300
TZOFFSETTO:+0200
TZNAME:EET
DTSTART:20221030T010000
END:STANDARD
BEGIN:DAYLIGHT
TZOFFSETFROM:+0200
TZOFFSETTO:+0300
TZNAME:EEST
DTSTART:20230326T010000
END:DAYLIGHT
BEGIN:STANDARD
TZOFFSETFROM:+0300
TZOFFSETTO:+0200
TZNAME:EET
DTSTART:20231029T010000
END:STANDARD
BEGIN:DAYLIGHT
TZOFFSETFROM:+0200
TZOFFSETTO:+0300
TZNAME:EEST
DTSTART:20240331T010000
END:DAYLIGHT
BEGIN:STANDARD
TZOFFSETFROM:+0300
TZOFFSETTO:+0200
TZNAME:EET
DTSTART:20241027T010000
END:STANDARD
END:VTIMEZONE
BEGIN:VEVENT
DTSTART;TZID=Europe/Helsinki:20230529T080000
DTEND;TZID=Europe/Helsinki:20230604T160000
DTSTAMP:20260420T075829
CREATED:20230322T071345Z
LAST-MODIFIED:20230403T064743Z
UID:10001138-1685347200-1685894400@kuopionkirjasto.fi
SUMMARY:Unity ry:n maalausstudion näyttely
DESCRIPTION:Unity ry:n maalausstudion näyttelyssä esillä oppilaiden maalauksia taidestudiosta.
URL:https://kuopionkirjasto.fi/event/maalausstudion-nayttely/
LOCATION:Pääkirjasto\, Maaherrankatu 12\, Kuopio\, 70100\, Suomi
CATEGORIES:Kaikki tapahtumat,Näyttelyt
END:VEVENT
BEGIN:VEVENT
DTSTART;TZID=Europe/Helsinki:20230605T130000
DTEND;TZID=Europe/Helsinki:20230622T160000
DTSTAMP:20260420T075829
CREATED:20230516T063656Z
LAST-MODIFIED:20230516T063656Z
UID:10001196-1685970000-1687449600@kuopionkirjasto.fi
SUMMARY:Vehmersalmen kirjaston poistokirjamyynti
DESCRIPTION:Vehmersalmen kirjastossa järjestetään poistokirjamyynti 5.–22.6.\, tai siihen asti kuin myytävää riittää. Tervetuloa tekemään löytöjä!
URL:https://kuopionkirjasto.fi/event/vehmersalmen-kirjaston-poistokirjamyynti/
LOCATION:Vehmersalmen kirjasto\, Vehmersalmenkatu 27\, Kuopio\, 71310\, Suomi
CATEGORIES:Kaikki tapahtumat,Muut tapahtumat
END:VEVENT
BEGIN:VEVENT
DTSTART;TZID=Europe/Helsinki:20230607T130000
DTEND;TZID=Europe/Helsinki:20230607T150000
DTSTAMP:20260420T075829
CREATED:20230519T101109Z
LAST-MODIFIED:20230519T101109Z
UID:10001197-1686142800-1686150000@kuopionkirjasto.fi
SUMMARY:Lasten leffahetket kesällä 2023
DESCRIPTION:Tervetuloa Kuopion pääkirjaston kesäisiin lasten leffahetkiin! Leffahetket järjestetään lastenosaston koulutustilassa ja tilaan voimme ottaa enintään 25 henkilöä – saavuthan ajoissa paikalle. \nElokuvien ikärajat ovat joko sallittu tai K -7. Ikärajalliseen näytökseen alle 7 -vuotiaat pääsevät aikuisen saattajan seurassa. Leffahetkiin on vapaa pääsy. \nTarjolla on joka kerralla myös joko elokuviin liittyvää askartelua tai aiheeseen sopivaa luettavaa kotiin lainattavaksi. \nOmat leffaherkut (esim. popcorn tai muu naposteltava) voi tuoda mukaan!
URL:https://kuopionkirjasto.fi/event/lasten-leffahetket-kesalla-2023/2023-06-07/
LOCATION:Pääkirjasto\, Maaherrankatu 12\, Kuopio\, 70100\, Suomi
CATEGORIES:Kaikki tapahtumat,Lapset ja nuoret
END:VEVENT
BEGIN:VEVENT
DTSTART;TZID=Europe/Helsinki:20230608T170000
DTEND;TZID=Europe/Helsinki:20230608T180000
DTSTAMP:20260420T075829
CREATED:20230602T104536Z
LAST-MODIFIED:20230602T104728Z
UID:10001206-1686243600-1686247200@kuopionkirjasto.fi
SUMMARY:Elämässä kiinni -konsertin ensiesitys
DESCRIPTION:  \nNilsiän kirjastossa järjestetään torstaina 8.6.2023 klo 17.00 Elämässä kiinni -konsertin ensiesitys. \n Voitto Valliuksen runokirjaan pohjautuvassa konsertissa kuullaan runouden ja musiikin vuoropuhelua Paula Tapionmäen ja Riitta Hynysen tulkitsemina. \nTilaisuuteen on vapaa pääsy.\nLämpimästi tervetuloa!
URL:https://kuopionkirjasto.fi/event/elamassa-kiinni-konsertin-ensiesitys/
LOCATION:Nilsiän kirjasto\, Ukko-Paavontie 15\, Nilsiä\, 73300\, Suomi
CATEGORIES:Kaikki tapahtumat,Kaikki tapahtumat - kirjallisuus,Kirjallisuus,Musiikki
END:VEVENT
BEGIN:VEVENT
DTSTART;TZID=Europe/Helsinki:20230609T110000
DTEND;TZID=Europe/Helsinki:20230609T120000
DTSTAMP:20260420T075829
CREATED:20230523T102201Z
LAST-MODIFIED:20230523T102201Z
UID:10001205-1686308400-1686312000@kuopionkirjasto.fi
SUMMARY:Luupin alla -keskustelutilaisuus Puijonlaakson kirjastossa
DESCRIPTION:Kaikille avoin Luupin alla -keskustelutilaisuus ajankohtaisista aiheista Puijonlaakson lähikirjastossa perjantaina 9.6.2023 klo 11–12. \nMitkä asiat Puijonlaaksossa puhuttavat? Muutamia niistä nostetaan kirjastolla luupin alle\, avoimeen keskusteluun\, jossa kaikki pääsevät ilmaisemaan näkemyksiään käsiteltävän aiheen tiimoilta. Tilaisuus alkaa lyhyellä alustuksella ja teemaan johdattelulla\, minkä jälkeen areena on kaikille vapaa. \nKeskustelua luotsaa Jukka Kervinen. Tarjolla on kahvia ja pientä purtavaa. \nTervetuloa! \nTilaisuuden järjestävät Puijonlaakson lähikirjasto ja Kuopion kaupunginkirjaston Demokratiatyön askelkuvioita kirjastossa -hanke.
URL:https://kuopionkirjasto.fi/event/luupin-alla-keskustelutilaisuus-puijonlaakson-kirjastossa-3/
LOCATION:Puijonlaakson kirjasto\, Mailatie 2\, Kuopio\, 70200\, Suomi
CATEGORIES:Kaikki tapahtumat,Muut tapahtumat
END:VEVENT
BEGIN:VEVENT
DTSTART;TZID=Europe/Helsinki:20230612T080000
DTEND;TZID=Europe/Helsinki:20230618T160000
DTSTAMP:20260420T075829
CREATED:20230424T122226Z
LAST-MODIFIED:20230424T122226Z
UID:10001174-1686556800-1687104000@kuopionkirjasto.fi
SUMMARY:Rakkausaiheisia maalauksia
DESCRIPTION:Rakkausaiheisia maalauksia (sydäntauluja)\nSusanna Rissanen / Onnivoima
URL:https://kuopionkirjasto.fi/event/rakkausaiheisia-maalauksia/
LOCATION:Pääkirjasto\, Maaherrankatu 12\, Kuopio\, 70100\, Suomi
CATEGORIES:Kaikki tapahtumat,Näyttelyt
END:VEVENT
BEGIN:VEVENT
DTSTART;TZID=Europe/Helsinki:20230614T130000
DTEND;TZID=Europe/Helsinki:20230614T154500
DTSTAMP:20260420T075829
CREATED:20230519T103852Z
LAST-MODIFIED:20230519T113616Z
UID:10001201-1686747600-1686757500@kuopionkirjasto.fi
SUMMARY:Nuorten kesäleffakerho
DESCRIPTION:  \n \nHei  sinä 12-16 vuotias nuori! Eikö ole lomasuunnitelmia? Tule mukaan pääkirjaston nuorten leffakerhoon! Kokoontumisia pidetään kesän aikana yhteensä neljä\, ja jokaisessa pääset katsomaan viihdyttävän ja hauskan elokuvan. Tapaamisissa pääset myös keskustelemaan yhdessä muitten kanssa elokuvista sekä saat leffa- ja kirjavinkkejä. \nIlmoittaudu siis mukaan soittamalla: 044 718 2321 tai sähköpostilla osoitteeseen: lastenosasto.kirjasto@kuopio.fi. Jokaiselle kerralle mukaan mahtuu 15 henkilöä. \nLeffakerhoon saa tuoda omat eväät\, mutta kirjasto myös tarjoaa tapahtumassa pieniä\, vaihtuvia virvokkeita. \n 
URL:https://kuopionkirjasto.fi/event/nuorten-kesaleffakerho/2023-06-14/
LOCATION:Pääkirjasto\, Maaherrankatu 12\, Kuopio\, 70100\, Suomi
CATEGORIES:Kaikki tapahtumat,Lapset ja nuoret
END:VEVENT
BEGIN:VEVENT
DTSTART;TZID=Europe/Helsinki:20230616T103000
DTEND;TZID=Europe/Helsinki:20230616T113000
DTSTAMP:20260420T075829
CREATED:20230515T094549Z
LAST-MODIFIED:20230515T094549Z
UID:10001195-1686911400-1686915000@kuopionkirjasto.fi
SUMMARY:Luupin alla -keskustelutilaisuus\, Neulamäen kirjasto
DESCRIPTION:Kaikille avoin Luupin alla -keskustelutilaisuus ajankohtaisista aiheista Neulamäen lähikirjastossa perjantaina 16.6.2023 klo 10.30–11.30. \nMitkä asiat Neulamäessä puhuttavat? Muutamia niistä nostetaan kirjastolla luupin alle\, avoimeen keskusteluun\, jossa kaikki pääsevät ilmaisemaan näkemyksiään käsiteltävän aiheen tiimoilta. Tilaisuus alkaa lyhyellä alustuksella ja teemaan johdattelulla\, minkä jälkeen areena on kaikille vapaa. \nKeskustelua luotsaa Jukka Kervinen. Tarjolla on kahvia ja pientä purtavaa. Tervetuloa! \nTilaisuuden järjestävät Neulamäen lähikirjasto ja Kuopion kaupunginkirjaston Demokratiatyön askelkuvioita kirjastossa -hanke.
URL:https://kuopionkirjasto.fi/event/luupin-alla-keskustelutilaisuus-neulamaen-kirjasto/
LOCATION:Neulamäen kirjasto\, Juontotie 6\, Kuopio\, 70150\, Suomi
CATEGORIES:Kaikki tapahtumat,Muut tapahtumat
END:VEVENT
BEGIN:VEVENT
DTSTART;TZID=Europe/Helsinki:20230621T130000
DTEND;TZID=Europe/Helsinki:20230621T150000
DTSTAMP:20260420T075829
CREATED:20230519T101109Z
LAST-MODIFIED:20230519T101109Z
UID:10001198-1687352400-1687359600@kuopionkirjasto.fi
SUMMARY:Lasten leffahetket kesällä 2023
DESCRIPTION:Tervetuloa Kuopion pääkirjaston kesäisiin lasten leffahetkiin! Leffahetket järjestetään lastenosaston koulutustilassa ja tilaan voimme ottaa enintään 25 henkilöä – saavuthan ajoissa paikalle. \nElokuvien ikärajat ovat joko sallittu tai K -7. Ikärajalliseen näytökseen alle 7 -vuotiaat pääsevät aikuisen saattajan seurassa. Leffahetkiin on vapaa pääsy. \nTarjolla on joka kerralla myös joko elokuviin liittyvää askartelua tai aiheeseen sopivaa luettavaa kotiin lainattavaksi. \nOmat leffaherkut (esim. popcorn tai muu naposteltava) voi tuoda mukaan!
URL:https://kuopionkirjasto.fi/event/lasten-leffahetket-kesalla-2023/2023-06-21/
LOCATION:Pääkirjasto\, Maaherrankatu 12\, Kuopio\, 70100\, Suomi
CATEGORIES:Kaikki tapahtumat,Lapset ja nuoret
END:VEVENT
BEGIN:VEVENT
DTSTART;TZID=Europe/Helsinki:20230628T130000
DTEND;TZID=Europe/Helsinki:20230628T154500
DTSTAMP:20260420T075829
CREATED:20230519T103852Z
LAST-MODIFIED:20230519T113616Z
UID:10001202-1687957200-1687967100@kuopionkirjasto.fi
SUMMARY:Nuorten kesäleffakerho
DESCRIPTION:  \n \nHei  sinä 12-16 vuotias nuori! Eikö ole lomasuunnitelmia? Tule mukaan pääkirjaston nuorten leffakerhoon! Kokoontumisia pidetään kesän aikana yhteensä neljä\, ja jokaisessa pääset katsomaan viihdyttävän ja hauskan elokuvan. Tapaamisissa pääset myös keskustelemaan yhdessä muitten kanssa elokuvista sekä saat leffa- ja kirjavinkkejä. \nIlmoittaudu siis mukaan soittamalla: 044 718 2321 tai sähköpostilla osoitteeseen: lastenosasto.kirjasto@kuopio.fi. Jokaiselle kerralle mukaan mahtuu 15 henkilöä. \nLeffakerhoon saa tuoda omat eväät\, mutta kirjasto myös tarjoaa tapahtumassa pieniä\, vaihtuvia virvokkeita. \n 
URL:https://kuopionkirjasto.fi/event/nuorten-kesaleffakerho/2023-06-28/
LOCATION:Pääkirjasto\, Maaherrankatu 12\, Kuopio\, 70100\, Suomi
CATEGORIES:Kaikki tapahtumat,Lapset ja nuoret
END:VEVENT
END:VCALENDAR