BEGIN:VCALENDAR
VERSION:2.0
PRODID:-//Kuopion kaupunginkirjasto - ECPv6.15.20//NONSGML v1.0//EN
CALSCALE:GREGORIAN
METHOD:PUBLISH
X-ORIGINAL-URL:https://kuopionkirjasto.fi
X-WR-CALDESC:Tapahtumat Kuopion kaupunginkirjasto
REFRESH-INTERVAL;VALUE=DURATION:PT1H
X-Robots-Tag:noindex
X-PUBLISHED-TTL:PT1H
BEGIN:VTIMEZONE
TZID:Europe/Helsinki
BEGIN:DAYLIGHT
TZOFFSETFROM:+0200
TZOFFSETTO:+0300
TZNAME:EEST
DTSTART:20220327T010000
END:DAYLIGHT
BEGIN:STANDARD
TZOFFSETFROM:+0300
TZOFFSETTO:+0200
TZNAME:EET
DTSTART:20221030T010000
END:STANDARD
BEGIN:DAYLIGHT
TZOFFSETFROM:+0200
TZOFFSETTO:+0300
TZNAME:EEST
DTSTART:20230326T010000
END:DAYLIGHT
BEGIN:STANDARD
TZOFFSETFROM:+0300
TZOFFSETTO:+0200
TZNAME:EET
DTSTART:20231029T010000
END:STANDARD
BEGIN:DAYLIGHT
TZOFFSETFROM:+0200
TZOFFSETTO:+0300
TZNAME:EEST
DTSTART:20240331T010000
END:DAYLIGHT
BEGIN:STANDARD
TZOFFSETFROM:+0300
TZOFFSETTO:+0200
TZNAME:EET
DTSTART:20241027T010000
END:STANDARD
END:VTIMEZONE
BEGIN:VEVENT
DTSTART;TZID=Europe/Helsinki:20230419T170000
DTEND;TZID=Europe/Helsinki:20230419T180000
DTSTAMP:20260420T111318
CREATED:20230403T092731Z
LAST-MODIFIED:20230403T092731Z
UID:10001143-1681923600-1681927200@kuopionkirjasto.fi
SUMMARY:Kirjailija Jouni Tossavainen Jynkän kirjastossa
DESCRIPTION:Kirjailija Jouni Tossavainen vierailee Jynkän kirjastossa 19.4.2023 klo 17.00 alkaen. \nTervetuloa kuulolle!
URL:https://kuopionkirjasto.fi/event/kirjailija-jouni-tossavainen-jynkan-kirjastossa/
LOCATION:Jynkän kirjasto\, Maitotie 2\, Kuopio\, 70780\, Suomi
CATEGORIES:Kaikki tapahtumat,Kirjallisuus
END:VEVENT
BEGIN:VEVENT
DTSTART;TZID=Europe/Helsinki:20230419T170000
DTEND;TZID=Europe/Helsinki:20230419T173000
DTSTAMP:20260420T111318
CREATED:20230417T144152Z
LAST-MODIFIED:20230417T144152Z
UID:10001161-1681923600-1681925400@kuopionkirjasto.fi
SUMMARY:Sinun orkesterisi kylässä: Puijonlaakson kirjasto
DESCRIPTION:  \nKuopion kaupunginorkesterin jousikokoonpano jalkautuu huhti-toukokuussa Sinun orkesterisi kylässä -kiertueelle Kuopion lähikirjastoihin. Kauniista jousimusiikista pääsee nauttimaan maksutta Puijonlaakson\, Neulamäen\, Jynkän ja Pyörön lähikirjastossa. Kaupunginorkesterin jousikokoonpanossa soittavat Adrian Ibanez-Resjan\, Eeva Vesimäki\, Anfisa Troitskaia ja Andrey Efimovsky. \nPuijonlaakson ja Neulamäen kirjastoissa esiintyy duo Anfisa Troitskaia / alttoviulu ja Andrey Efimovsky / sello ohjelmistossaan Bachin\, Mozartin ja Beethovenin kaunista jousimusiikkia. Jynkän ja Pyörön kirjastoissa taas tunnelmoi jousikvartetti Adrian Ibanez-Resjan / viulu\, Eeva Vesimäki / viulu\, Anfisa Troitskaia / alttoviulu ja Andrey Efimovsky / sello. He soittavat mm. Sibeliuksen ja Elgarin tunnettuja säveliä sekä Gardelin ja Piazzollan tangoja. \nKuopion kaupunginorkesterin jousiyhtyeen minikonsertit lähikirjastoissa:\nke 19.4. klo 17 Puijonlaakson lähikirjasto\nti 25.4. klo 17 Neulamäen lähikirjasto\nke 3.5. klo 17 Jynkän lähikirjasto\nti 9.5. klo 17 Pyörön lähikirjasto  \nMinikonserttien kesto on n. 20–30 minuuttia. Vapaa pääsy. \nTervetuloa! \nKuopion kaupunginorkesterille on tärkeää olla osallisena kuntalaisten hyvinvoinnin ja saavutettavuuden edistämisessä. Lähikirjastokonsertit ovat osa orkesterin yleisötyötä\, jonka myötä pyritään tuomaan musiikkia osaksi kuntalaisten arkea myös konserttisalin ulkopuolella.
URL:https://kuopionkirjasto.fi/event/sinun-orkesterisi-kylassa-puijonlaakson-kirjasto/
LOCATION:Puijonlaakson kirjasto\, Mailatie 2\, Kuopio\, 70200\, Suomi
CATEGORIES:Kaikki tapahtumat,Musiikki
END:VEVENT
BEGIN:VEVENT
DTSTART;TZID=Europe/Helsinki:20230418T180000
DTEND;TZID=Europe/Helsinki:20230418T183000
DTSTAMP:20260420T111318
CREATED:20230313T105815Z
LAST-MODIFIED:20230313T110116Z
UID:10001129-1681840800-1681842600@kuopionkirjasto.fi
SUMMARY:Kirjastokeikalla : Lauluyhtye Pikantti
DESCRIPTION:Kevättä ja sadetta – Lauluyhtye Pikantti kirjastokeikalla \n\n\nTule nauttimaan tiistai-illan konsertista pääkirjaston ylälavan ääreen!\nLavalla nähdään Lauluyhtye Pikantti uuden ohjelmiston sävelissä. Luvassa on lauluja sateesta ja keväästä 4-5-äänisesti. Miltä kuulostaa svengaava sovitus Suvivirrestä? Entä a cappella -sovitus Singing in the Rainistä? \nTule kuuntelemaan ja nauttimaan kevään tulosta! Tämän konsertin jälkeen meillä kaikilla on pilkahdus kevättä rinnassa. \nYhteistyössä Kuopion kaupunginkirjasto & Kuopion kansalaisopisto \nPS. Pikantti etsii jälleen syksyllä uusia laulajia riveihinsä. Nyt on hyvä aika tulla kuulostelemaan\, olisiko tässä tuleva kuoroperheesi!
URL:https://kuopionkirjasto.fi/event/kirjastokeikalla-lauluyhtye-pikantti/
LOCATION:Pääkirjasto\, Maaherrankatu 12\, Kuopio\, 70100\, Suomi
CATEGORIES:Kaikki tapahtumat,Musiikki
END:VEVENT
BEGIN:VEVENT
DTSTART;TZID=Europe/Helsinki:20230418T090000
DTEND;TZID=Europe/Helsinki:20230502T150000
DTSTAMP:20260420T111318
CREATED:20230413T075123Z
LAST-MODIFIED:20230425T100148Z
UID:10001157-1681808400-1683039600@kuopionkirjasto.fi
SUMMARY:Kuopion kansalaisopiston lasten käsityöpiirin töitä
DESCRIPTION:Vehmersalmen kirjastossa esillä kansalaisopiston lasten (7–12 v.) käsityöpiirin näyttely 18.–25.4. \nNäyttelyyn voi käydä vapaasti tutustumassa Vehmersalmen kirjaston aukioloaikoina.\nTervetuloa!
URL:https://kuopionkirjasto.fi/event/kuopion-kansalaisopiston-lasten-kasityopiirin-toita-esilla/
LOCATION:Vehmersalmen kirjasto\, Vehmersalmenkatu 27\, Kuopio\, 71310\, Suomi
CATEGORIES:Kaikki tapahtumat,Näyttelyt
END:VEVENT
BEGIN:VEVENT
DTSTART;TZID=Europe/Helsinki:20230417T100000
DTEND;TZID=Europe/Helsinki:20230423T160000
DTSTAMP:20260420T111318
CREATED:20230117T090642Z
LAST-MODIFIED:20230117T090642Z
UID:10001086-1681725600-1682265600@kuopionkirjasto.fi
SUMMARY:LUODEN V
DESCRIPTION:LUODEN V -näyttelyssä esillä Kulttuuripaja Luoteen toimintaan osallistujien luovia töitä.
URL:https://kuopionkirjasto.fi/event/luoden-v/
LOCATION:Pääkirjasto\, Maaherrankatu 12\, Kuopio\, 70100\, Suomi
CATEGORIES:Kaikki tapahtumat,Näyttelyt
END:VEVENT
BEGIN:VEVENT
DTSTART;TZID=Europe/Helsinki:20230417T080000
DTEND;TZID=Europe/Helsinki:20230430T170000
DTSTAMP:20260420T111318
CREATED:20230419T072440Z
LAST-MODIFIED:20230419T072440Z
UID:10001170-1681718400-1682874000@kuopionkirjasto.fi
SUMMARY:kaavin kirjaston lukudiplominäyttely
DESCRIPTION:Kaavin kirjastossa on esillä Kaavin koulun 6. luokan Lentoon!-lukudiplomin kirjoitelmia ja kuvia. \nTervetuloa tutustumaan!
URL:https://kuopionkirjasto.fi/event/kaavin-kirjaston-lukudiplominayttely/
LOCATION:Kaavin kirjasto\, Kaavintie 24 B\, Kaavi\, 73600\, Suomi
CATEGORIES:Kaikki tapahtumat,Näyttelyt
END:VEVENT
END:VCALENDAR