BEGIN:VCALENDAR
VERSION:2.0
PRODID:-//Kuopion kaupunginkirjasto - ECPv6.15.20//NONSGML v1.0//EN
CALSCALE:GREGORIAN
METHOD:PUBLISH
X-ORIGINAL-URL:https://kuopionkirjasto.fi
X-WR-CALDESC:Tapahtumat Kuopion kaupunginkirjasto
REFRESH-INTERVAL;VALUE=DURATION:PT1H
X-Robots-Tag:noindex
X-PUBLISHED-TTL:PT1H
BEGIN:VTIMEZONE
TZID:Europe/Helsinki
BEGIN:DAYLIGHT
TZOFFSETFROM:+0200
TZOFFSETTO:+0300
TZNAME:EEST
DTSTART:20250330T010000
END:DAYLIGHT
BEGIN:STANDARD
TZOFFSETFROM:+0300
TZOFFSETTO:+0200
TZNAME:EET
DTSTART:20251026T010000
END:STANDARD
BEGIN:DAYLIGHT
TZOFFSETFROM:+0200
TZOFFSETTO:+0300
TZNAME:EEST
DTSTART:20260329T010000
END:DAYLIGHT
BEGIN:STANDARD
TZOFFSETFROM:+0300
TZOFFSETTO:+0200
TZNAME:EET
DTSTART:20261025T010000
END:STANDARD
BEGIN:DAYLIGHT
TZOFFSETFROM:+0200
TZOFFSETTO:+0300
TZNAME:EEST
DTSTART:20270328T010000
END:DAYLIGHT
BEGIN:STANDARD
TZOFFSETFROM:+0300
TZOFFSETTO:+0200
TZNAME:EET
DTSTART:20271031T010000
END:STANDARD
END:VTIMEZONE
BEGIN:VEVENT
DTSTART;TZID=Europe/Helsinki:20260601T130000
DTEND;TZID=Europe/Helsinki:20260727T133000
DTSTAMP:20260423T201801
CREATED:20260423T110049Z
LAST-MODIFIED:20260423T110049Z
UID:10003150-1780318800-1785159000@kuopionkirjasto.fi
SUMMARY:Lukuvartit pääkirjastolla
DESCRIPTION:Lukuvartit pääkirjastolla – tule lukemaan yhdessä!\nKaipaatko kesällä pientä lukurauhaa ja yhteistä lukuhetkeä? Pääkirjaston Lukuvartit kutsuvat kaikenikäiset lukijat kokoontumaan yhteen lukemaan omia kirjoja tai kuuntelemaan äänikirjaa omilla kuulokkeilla. \nLukuvartit kokoontuvat joka maanantai 1.6. alkaen klo 13–13.30 pääkirjaston etunurmella. Huonon sään sattuessa siirrymme lukemaan lasten- ja nuortenosaston lavalle. Kesän viimeinen Lukuvartti pidetään maanantaina 27.7. \nKokoontuminen alkaa 15 minuutin yhteisellä lukuhetkellä\, jonka jälkeen halukkaat voivat jäädä vielä juttelemaan lukemastaan rennossa porukassa. Tapahtumaan voi osallistua myös vain lukumielessä. \nLukuvartteihin osallistumalla voit samalla suorittaa kansallista kesälukukampanjaa: Lukuloikkaa. Lukuloikassa kerätään kesänaikana lukuminuutteja ja jokaisesta 10 minuutin luku- tai kuunteluhetkestä pääset etenemään kesälukupassissa yhden askeleen eteenpäin. \nKesälukukampanjan suunnitellut Seinäjoen ERTE arpoo kaikkien osallistujien kesken kolme Suomalaisen kirjakaupan 50 e arvoista lahjakorttia. \nTervetuloa lukemaan yhdessä ja omalla tavalla! \n 
URL:https://kuopionkirjasto.fi/event/lukuvartit-paakirjastolla/
LOCATION:Pääkirjasto\, Maaherrankatu 12\, Kuopio\, 70100\, Suomi
CATEGORIES:Kaikki tapahtumat,Lapset ja nuoret
END:VEVENT
END:VCALENDAR