BEGIN:VCALENDAR
VERSION:2.0
PRODID:-//Kuopion kaupunginkirjasto - ECPv6.15.20//NONSGML v1.0//EN
CALSCALE:GREGORIAN
METHOD:PUBLISH
X-ORIGINAL-URL:https://kuopionkirjasto.fi
X-WR-CALDESC:Tapahtumat Kuopion kaupunginkirjasto
REFRESH-INTERVAL;VALUE=DURATION:PT1H
X-Robots-Tag:noindex
X-PUBLISHED-TTL:PT1H
BEGIN:VTIMEZONE
TZID:Europe/Helsinki
BEGIN:DAYLIGHT
TZOFFSETFROM:+0200
TZOFFSETTO:+0300
TZNAME:EEST
DTSTART:20250330T010000
END:DAYLIGHT
BEGIN:STANDARD
TZOFFSETFROM:+0300
TZOFFSETTO:+0200
TZNAME:EET
DTSTART:20251026T010000
END:STANDARD
BEGIN:DAYLIGHT
TZOFFSETFROM:+0200
TZOFFSETTO:+0300
TZNAME:EEST
DTSTART:20260329T010000
END:DAYLIGHT
BEGIN:STANDARD
TZOFFSETFROM:+0300
TZOFFSETTO:+0200
TZNAME:EET
DTSTART:20261025T010000
END:STANDARD
BEGIN:DAYLIGHT
TZOFFSETFROM:+0200
TZOFFSETTO:+0300
TZNAME:EEST
DTSTART:20270328T010000
END:DAYLIGHT
BEGIN:STANDARD
TZOFFSETFROM:+0300
TZOFFSETTO:+0200
TZNAME:EET
DTSTART:20271031T010000
END:STANDARD
END:VTIMEZONE
BEGIN:VEVENT
DTSTART;TZID=Europe/Helsinki:20260701T100000
DTEND;TZID=Europe/Helsinki:20260701T120000
DTSTAMP:20260424T020546
CREATED:20260423T102434Z
LAST-MODIFIED:20260423T103312Z
UID:10003147-1782900000-1782907200@kuopionkirjasto.fi
SUMMARY:Pääkirjaston kesäkeskiviikot
DESCRIPTION:1.7. Omatoiminen legopaja\nklo 10–12 | lasten- ja nuortenosaston työpajatila\nMitä sinä rakentaisit? Tule luomaan legoilla oma mestariteoksesi\, jossa mielikuvitus on rajana! Paja on omatoiminen. \nIkäsuositus on 10+\, nuoremmat huoltajan seurassa. \nTervetuloa viettämään mukavia kesäpäiviä pääkirjastolle! Huomioittehan kuitenkin\, että lapsi on Kesäkeskiviikko-tapahtumien aikana kirjastossa huoltajan vastuulla ja että kirjaston leffahetkissä noudatetaan KAVI:n asettamia ikärajamerkintöjä. Ikärajan jousto on kolme vuotta\, mikäli lapsi osallistuu leffahetkeen täysi-ikäisen\, tutun huoltajan kanssa.
URL:https://kuopionkirjasto.fi/event/paakirjaston-kesakeskiviikot-5/
LOCATION:Pääkirjasto\, Maaherrankatu 12\, Kuopio\, 70100\, Suomi
CATEGORIES:Kaikki tapahtumat,Lapset ja nuoret,Muut tapahtumat
END:VEVENT
BEGIN:VEVENT
DTSTART;TZID=Europe/Helsinki:20260708T101500
DTEND;TZID=Europe/Helsinki:20260708T121500
DTSTAMP:20260424T020546
CREATED:20260423T102747Z
LAST-MODIFIED:20260423T103111Z
UID:10003148-1783505700-1783512900@kuopionkirjasto.fi
SUMMARY:Pääkirjaston kesäkeskiviikot
DESCRIPTION:8.7. Lasten leffahetki\nklo 10.15 alkaen | lasten- ja nuortenosaston koulutustila\nLeppoisa elokuvahetki lapsille.\nElokuvana: Minecraft-elokuva (ikäraja K7\, kesto 1 h 50 min). Puhuttu suomeksi. \nHUOM! leffahetki on omatoiminen.  \nTervetuloa viettämään mukavia kesäpäiviä pääkirjastolle! Huomioittehan kuitenkin\, että lapsi on Kesäkeskiviikko-tapahtumien aikana kirjastossa huoltajan vastuulla ja että kirjaston leffahetkissä noudatetaan KAVI:n asettamia ikärajamerkintöjä. Ikärajan jousto on kolme vuotta\, mikäli lapsi osallistuu leffahetkeen täysi-ikäisen\, tutun huoltajan kanssa.
URL:https://kuopionkirjasto.fi/event/paakirjaston-kesakeskiviikot-6/
LOCATION:Pääkirjasto\, Maaherrankatu 12\, Kuopio\, 70100\, Suomi
CATEGORIES:Kaikki tapahtumat,Lapset ja nuoret,Muut tapahtumat
END:VEVENT
BEGIN:VEVENT
DTSTART;TZID=Europe/Helsinki:20260715T100000
DTEND;TZID=Europe/Helsinki:20260715T120000
DTSTAMP:20260424T020546
CREATED:20260423T102936Z
LAST-MODIFIED:20260423T103016Z
UID:10003149-1784109600-1784116800@kuopionkirjasto.fi
SUMMARY:Pääkirjaston kesäkeskiviikot
DESCRIPTION:15.7. Palapelikollaasi-askartelu\nklo 10–12 | lasten- ja nuortenosaston koulutustila\nTule rakentelemaan erikoisia taidekollaaseja kirjaston poistopalapeleistä. Onnistutko luomaan vanhoista\, rikkinäisistä palapeleistä jotain uutta ja upeaa? \nAskarteluhetken ikäsuositus on 7+\, nuoremmat pääsevät mukaan täysi-ikäisen huoltajan seurassa. \nTervetuloa viettämään mukavia kesäpäiviä pääkirjastolle! Huomioittehan kuitenkin\, että lapsi on Kesäkeskiviikko-tapahtumien aikana kirjastossa huoltajan vastuulla ja että kirjaston leffahetkissä noudatetaan KAVI:n asettamia ikärajamerkintöjä. Ikärajan jousto on kolme vuotta\, mikäli lapsi osallistuu leffahetkeen täysi-ikäisen\, tutun huoltajan kanssa.
URL:https://kuopionkirjasto.fi/event/paakirjaston-kesakeskiviikot-7/
LOCATION:Pääkirjasto\, Maaherrankatu 12\, Kuopio\, 70100\, Suomi
CATEGORIES:Kaikki tapahtumat,Lapset ja nuoret,Muut tapahtumat
END:VEVENT
END:VCALENDAR