BEGIN:VCALENDAR
VERSION:2.0
PRODID:-//Kuopion kaupunginkirjasto - ECPv6.15.20//NONSGML v1.0//EN
CALSCALE:GREGORIAN
METHOD:PUBLISH
X-ORIGINAL-URL:https://kuopionkirjasto.fi
X-WR-CALDESC:Tapahtumat Kuopion kaupunginkirjasto
REFRESH-INTERVAL;VALUE=DURATION:PT1H
X-Robots-Tag:noindex
X-PUBLISHED-TTL:PT1H
BEGIN:VTIMEZONE
TZID:Europe/Helsinki
BEGIN:DAYLIGHT
TZOFFSETFROM:+0200
TZOFFSETTO:+0300
TZNAME:EEST
DTSTART:20250330T010000
END:DAYLIGHT
BEGIN:STANDARD
TZOFFSETFROM:+0300
TZOFFSETTO:+0200
TZNAME:EET
DTSTART:20251026T010000
END:STANDARD
BEGIN:DAYLIGHT
TZOFFSETFROM:+0200
TZOFFSETTO:+0300
TZNAME:EEST
DTSTART:20260329T010000
END:DAYLIGHT
BEGIN:STANDARD
TZOFFSETFROM:+0300
TZOFFSETTO:+0200
TZNAME:EET
DTSTART:20261025T010000
END:STANDARD
BEGIN:DAYLIGHT
TZOFFSETFROM:+0200
TZOFFSETTO:+0300
TZNAME:EEST
DTSTART:20270328T010000
END:DAYLIGHT
BEGIN:STANDARD
TZOFFSETFROM:+0300
TZOFFSETTO:+0200
TZNAME:EET
DTSTART:20271031T010000
END:STANDARD
END:VTIMEZONE
BEGIN:VEVENT
DTSTART;TZID=Europe/Helsinki:20260603T160000
DTEND;TZID=Europe/Helsinki:20260603T180000
DTSTAMP:20260424T001927
CREATED:20260423T101720Z
LAST-MODIFIED:20260423T103622Z
UID:10003143-1780502400-1780509600@kuopionkirjasto.fi
SUMMARY:Pääkirjaston kesäkeskiviikot
DESCRIPTION:3.6. Kivimaalauspaja\nKlo 16–18 | pääkirjaston etunurmi\nAnna kivelle uusi elämä! Tuo mukanasi oma kivi ja maalaa siitä todellinen taideteos huikein värein! Huonon sään sattuessa kiviä maalataan lasten- ja nuortenosaston työpajatilassa. \nTapahtuman ikäsuositus on 7–200 vuotta. Nuoremmat taiteilijat ovat tervetulleita mukaan täysi-ikäisen huoltajan seurassa. \nTervetuloa viettämään mukavia kesäpäiviä pääkirjastolle! Huomioittehan kuitenkin\, että lapsi on Kesäkeskiviikko-tapahtumien aikana kirjastossa huoltajan vastuulla ja että kirjaston leffahetkissä noudatetaan KAVI:n asettamia ikärajamerkintöjä. Ikärajan jousto on kolme vuotta\, mikäli lapsi osallistuu leffahetkeen täysi-ikäisen\, tutun huoltajan kanssa.
URL:https://kuopionkirjasto.fi/event/paakirjaston-kesakeskiviikot/
LOCATION:Pääkirjasto\, Maaherrankatu 12\, Kuopio\, 70100\, Suomi
CATEGORIES:Kaikki tapahtumat,Lapset ja nuoret,Muut tapahtumat
END:VEVENT
BEGIN:VEVENT
DTSTART;TZID=Europe/Helsinki:20260610T160000
DTEND;TZID=Europe/Helsinki:20260610T183000
DTSTAMP:20260424T001927
CREATED:20260423T101932Z
LAST-MODIFIED:20260423T103503Z
UID:10003144-1781107200-1781116200@kuopionkirjasto.fi
SUMMARY:Pääkirjaston kesäkeskiviikot
DESCRIPTION:10.6. Nuorten leffahetki\nklo 16–18.30 | lasten- ja nuortenosaston koulutustila\nRento elokuvahetki nuorille. Omat leffaherkut ovat tervetulleita\, mutta myös pientä naposteltavaa on tarjolla.\nElokuvana Prinsessa Mononoke (ikäraja K12\, kesto n. 2 h) \nTervetuloa viettämään mukavia kesäpäiviä pääkirjastolle! Huomioittehan kuitenkin\, että lapsi on Kesäkeskiviikko-tapahtumien aikana kirjastossa huoltajan vastuulla ja että kirjaston leffahetkissä noudatetaan KAVI:n asettamia ikärajamerkintöjä. Ikärajan jousto on kolme vuotta\, mikäli lapsi osallistuu leffahetkeen täysi-ikäisen\, tutun huoltajan kanssa.
URL:https://kuopionkirjasto.fi/event/paakirjaston-kesakeskiviikot-2/
LOCATION:Pääkirjasto\, Maaherrankatu 12\, Kuopio\, 70100\, Suomi
CATEGORIES:Kaikki tapahtumat,Lapset ja nuoret,Muut tapahtumat
END:VEVENT
BEGIN:VEVENT
DTSTART;TZID=Europe/Helsinki:20260617T100000
DTEND;TZID=Europe/Helsinki:20260617T120000
DTSTAMP:20260424T001927
CREATED:20260423T102108Z
LAST-MODIFIED:20260423T103422Z
UID:10003145-1781690400-1781697600@kuopionkirjasto.fi
SUMMARY:Pääkirjaston kesäkeskiviikot
DESCRIPTION:17.6. Kukkaketo-askartelu\nklo 10–12 | lasten- ja nuortenosaston työpajatila \nVirittäydy juhannuksen tunnelmaan askartelemalla oma värikäs kukkateos! Tule siis rohkeasti mukaan askartelemaan vesiväreillä koristelluista papereista oma kukkaketo! Millaisia kukkia siellä kasvaakaan? \nPajan ikäsuositus on 7+\, nuoremmat täysi-ikäisen huoltajan seurassa. \nTervetuloa viettämään mukavia kesäpäiviä pääkirjastolle! Huomioittehan kuitenkin\, että lapsi on Kesäkeskiviikko-tapahtumien aikana kirjastossa huoltajan vastuulla ja että kirjaston leffahetkissä noudatetaan KAVI:n asettamia ikärajamerkintöjä. Ikärajan jousto on kolme vuotta\, mikäli lapsi osallistuu leffahetkeen täysi-ikäisen\, tutun huoltajan kanssa.
URL:https://kuopionkirjasto.fi/event/paakirjaston-kesakeskiviikot-3/
LOCATION:Pääkirjasto\, Maaherrankatu 12\, Kuopio\, 70100\, Suomi
CATEGORIES:Kaikki tapahtumat,Lapset ja nuoret,Muut tapahtumat
END:VEVENT
END:VCALENDAR