BEGIN:VCALENDAR
VERSION:2.0
PRODID:-//Kuopion kaupunginkirjasto - ECPv6.15.20//NONSGML v1.0//EN
CALSCALE:GREGORIAN
METHOD:PUBLISH
X-WR-CALNAME:Kuopion kaupunginkirjasto
X-ORIGINAL-URL:https://kuopionkirjasto.fi
X-WR-CALDESC:Tapahtumat Kuopion kaupunginkirjasto
REFRESH-INTERVAL;VALUE=DURATION:PT1H
X-Robots-Tag:noindex
X-PUBLISHED-TTL:PT1H
BEGIN:VTIMEZONE
TZID:Europe/Helsinki
BEGIN:DAYLIGHT
TZOFFSETFROM:+0200
TZOFFSETTO:+0300
TZNAME:EEST
DTSTART:20250330T010000
END:DAYLIGHT
BEGIN:STANDARD
TZOFFSETFROM:+0300
TZOFFSETTO:+0200
TZNAME:EET
DTSTART:20251026T010000
END:STANDARD
BEGIN:DAYLIGHT
TZOFFSETFROM:+0200
TZOFFSETTO:+0300
TZNAME:EEST
DTSTART:20260329T010000
END:DAYLIGHT
BEGIN:STANDARD
TZOFFSETFROM:+0300
TZOFFSETTO:+0200
TZNAME:EET
DTSTART:20261025T010000
END:STANDARD
BEGIN:DAYLIGHT
TZOFFSETFROM:+0200
TZOFFSETTO:+0300
TZNAME:EEST
DTSTART:20270328T010000
END:DAYLIGHT
BEGIN:STANDARD
TZOFFSETFROM:+0300
TZOFFSETTO:+0200
TZNAME:EET
DTSTART:20271031T010000
END:STANDARD
END:VTIMEZONE
BEGIN:VEVENT
DTSTART;TZID=Europe/Helsinki:20260401T163000
DTEND;TZID=Europe/Helsinki:20260401T183000
DTSTAMP:20260423T015304
CREATED:20260302T083626Z
LAST-MODIFIED:20260330T082418Z
UID:10003102-1775061000-1775068200@kuopionkirjasto.fi
SUMMARY:Painopehmopaja Vehmersalmen kirjastossa
DESCRIPTION:Tuunaa painopehmo omasta pehmolelusta! Tuo pajaan keskikokoinen pehmolelu\, josta haluat tehdä itsellesi rauhoittavan ja keskittymistä auttavan painopehmon. Pehmolelun sisälle laitetaan painotäytettä n. 1 – 1\,5 kg verran. \nPainopehmopajassa käsitellään saksia ja neuloja\, joten lapsilla on hyvä olla oma aikuinen mukana auttamassa työskentelyssä. Paikalla on myös kirjaston henkilökuntaa ja /tai muita aikuisia ohjaamassa. Pajasta saa painopehmon tuunaamiseen tarvikkeet ja ohjeet. Paja on maksuton. \nPainopehmopaja Vehmersalmen kirjastossa ke 1.4. klo 16.30–18.30. \nTervetuloa!
URL:https://kuopionkirjasto.fi/event/painopehmopaja-vehmersalmen-kirjastossa/
LOCATION:Vehmersalmen kirjasto\, Vehmersalmenkatu 27\, Kuopio\, 71310\, Suomi
CATEGORIES:Kaikki tapahtumat,Lapset ja nuoret,Muut tapahtumat
END:VEVENT
BEGIN:VEVENT
DTSTART;TZID=Europe/Helsinki:20260401T153000
DTEND;TZID=Europe/Helsinki:20260401T183000
DTSTAMP:20260423T015304
CREATED:20260302T084135Z
LAST-MODIFIED:20260330T082309Z
UID:10003103-1775057400-1775068200@kuopionkirjasto.fi
SUMMARY:Painopehmopaja pääkirjastossa
DESCRIPTION:Tuunaa painopehmo omasta pehmolelusta! Tuo pajaan keskikokoinen pehmolelu\, josta haluat tehdä itsellesi rauhoittavan ja keskittymistä auttavan painopehmon. Pehmolelun sisälle laitetaan painotäytettä n. 1 – 1\,5 kg verran. \nPainopehmopajassa käsitellään saksia ja neuloja\, joten lapsilla on hyvä olla oma aikuinen mukana auttamassa työskentelyssä. Paikalla on myös kirjaston henkilökuntaa ja /tai muita aikuisia ohjaamassa. Pajasta saa painopehmon tuunaamiseen tarvikkeet ja ohjeet. Paja on maksuton. \nPainopehmopaja pääkirjaston lasten- ja nuortenosastolla ke 1.4. klo 15.30–18.30. \nTervetuloa!
URL:https://kuopionkirjasto.fi/event/painopehmopaja-paakirjastossa/
LOCATION:Pääkirjasto\, Maaherrankatu 12\, Kuopio\, 70100\, Suomi
CATEGORIES:Kaikki tapahtumat,Lapset ja nuoret,Muut tapahtumat
END:VEVENT
BEGIN:VEVENT
DTSTART;TZID=Europe/Helsinki:20260331T170000
DTEND;TZID=Europe/Helsinki:20260331T183000
DTSTAMP:20260423T015304
CREATED:20260302T083155Z
LAST-MODIFIED:20260330T072612Z
UID:10003100-1774976400-1774981800@kuopionkirjasto.fi
SUMMARY:Painopehmopaja Pyörön kirjastossa
DESCRIPTION:Tuunaa painopehmo omasta pehmolelusta! Tuo pajaan keskikokoinen pehmolelu\, josta haluat tehdä itsellesi rauhoittavan ja keskittymistä auttavan painopehmon. Pehmolelun sisälle laitetaan painotäytettä n. 1 – 1\,5 kg verran. \nPainopehmopajassa käsitellään saksia ja neuloja\, joten lapsilla on hyvä olla oma aikuinen mukana auttamassa työskentelyssä. Paikalla on myös kirjaston henkilökuntaa ja /tai muita aikuisia ohjaamassa. Pajasta saa painopehmon tuunaamiseen tarvikkeet ja ohjeet. Paja on maksuton. \nPainopehmopaja Pyörön kirjastossa ti 31.3. klo 17–18.30. \nTervetuloa!
URL:https://kuopionkirjasto.fi/event/painopehmopaja-pyoron-kirjastossa/
LOCATION:Pyörön kirjasto\, Jalkasenkatu 3\, Kuopio\, 70820\, Suomi
CATEGORIES:Kaikki tapahtumat,Lapset ja nuoret,Muut tapahtumat
END:VEVENT
BEGIN:VEVENT
DTSTART;TZID=Europe/Helsinki:20260325T130000
DTEND;TZID=Europe/Helsinki:20260325T160000
DTSTAMP:20260423T015304
CREATED:20260302T082937Z
LAST-MODIFIED:20260323T090830Z
UID:10003099-1774443600-1774454400@kuopionkirjasto.fi
SUMMARY:Painopehmopaja Kurkimäen kirjastossa
DESCRIPTION:Tuunaa painopehmo omasta pehmolelusta! Tuo pajaan keskikokoinen pehmolelu\, josta haluat tehdä itsellesi rauhoittavan ja keskittymistä auttavan painopehmon. Pehmolelun sisälle laitetaan painotäytettä n. 1–1\,5 kg verran. \nPainopehmopajassa käsitellään saksia ja neuloja\, joten lapsilla on hyvä olla oma aikuinen mukana auttamassa työskentelyssä. Paikalla on myös kirjaston henkilökuntaa ja /tai muita aikuisia ohjaamassa. Pajasta saa painopehmon tuunaamiseen tarvikkeet ja ohjeet. Paja on maksuton. \nPainopehmopaja Kurkimäen kirjastossa ke 25.3. klo 13–16. \nTervetuloa!
URL:https://kuopionkirjasto.fi/event/painopehmopaja-kurkimaen-kirjastossa/
LOCATION:Kurkimäen kirjasto\, Kurkimäentie 455\, Kuopio\, 71480\, Suomi
CATEGORIES:Kaikki tapahtumat,Lapset ja nuoret,Muut tapahtumat
END:VEVENT
BEGIN:VEVENT
DTSTART;TZID=Europe/Helsinki:20260221T101500
DTEND;TZID=Europe/Helsinki:20260221T150000
DTSTAMP:20260423T015304
CREATED:20260113T093844Z
LAST-MODIFIED:20260216T075946Z
UID:10003047-1771668900-1771686000@kuopionkirjasto.fi
SUMMARY:Lasten touhulauantai pääkirjastolla
DESCRIPTION:Tervetuloa touhuilemaan Kuopion pääkirjaston lasten- ja nuortenosastolle!  \nLasten touhulauantai 21.2.  \n\nLeffahetki klo 10.15 alkaen lasten- ja nuortenosaston koulutustilassa. Katsellaan yhdessä Heinähattu\, Vilttitossu ja Rubensin veljekset-elokuva (ikäraja S ja kesto n. 1h 30 min)\n”Tämä ei ole..”-piirustuspaja klo 13-15 lasten- ja nuortenosaston työpajatilassa. Pajassa pääset piirtämään valmiiksi aloitettuja kuvia\, joista ei tulekaan sitä mitä voisi luulla! Haasta itsesi piirtämään ja värittämään kuvia uudelta kantilta ja ajattelmaan ns. laatikon ulkopuolelta. Pajan suositusikäraja on 7+\, nuoremmat täysi-ikäisen huoltajan seurassa.
URL:https://kuopionkirjasto.fi/event/lasten-touhulauantai-paakirjastolla-2/
LOCATION:Pääkirjasto\, Maaherrankatu 12\, Kuopio\, 70100\, Suomi
CATEGORIES:Kaikki tapahtumat,Lapset ja nuoret
END:VEVENT
END:VCALENDAR