BEGIN:VCALENDAR
VERSION:2.0
PRODID:-//Kuopion kaupunginkirjasto - ECPv6.15.20//NONSGML v1.0//EN
CALSCALE:GREGORIAN
METHOD:PUBLISH
X-WR-CALNAME:Kuopion kaupunginkirjasto
X-ORIGINAL-URL:https://kuopionkirjasto.fi
X-WR-CALDESC:Tapahtumat Kuopion kaupunginkirjasto
REFRESH-INTERVAL;VALUE=DURATION:PT1H
X-Robots-Tag:noindex
X-PUBLISHED-TTL:PT1H
BEGIN:VTIMEZONE
TZID:Europe/Helsinki
BEGIN:DAYLIGHT
TZOFFSETFROM:+0200
TZOFFSETTO:+0300
TZNAME:EEST
DTSTART:20230326T010000
END:DAYLIGHT
BEGIN:STANDARD
TZOFFSETFROM:+0300
TZOFFSETTO:+0200
TZNAME:EET
DTSTART:20231029T010000
END:STANDARD
BEGIN:DAYLIGHT
TZOFFSETFROM:+0200
TZOFFSETTO:+0300
TZNAME:EEST
DTSTART:20240331T010000
END:DAYLIGHT
BEGIN:STANDARD
TZOFFSETFROM:+0300
TZOFFSETTO:+0200
TZNAME:EET
DTSTART:20241027T010000
END:STANDARD
BEGIN:DAYLIGHT
TZOFFSETFROM:+0200
TZOFFSETTO:+0300
TZNAME:EEST
DTSTART:20250330T010000
END:DAYLIGHT
BEGIN:STANDARD
TZOFFSETFROM:+0300
TZOFFSETTO:+0200
TZNAME:EET
DTSTART:20251026T010000
END:STANDARD
END:VTIMEZONE
BEGIN:VEVENT
DTSTART;TZID=Europe/Helsinki:20240627T100000
DTEND;TZID=Europe/Helsinki:20240627T150000
DTSTAMP:20260420T071217
CREATED:20240606T125104Z
LAST-MODIFIED:20240611T083750Z
UID:10001751-1719482400-1719500400@kuopionkirjasto.fi
SUMMARY:Legohaaste Puijonlaakson kirjastossa
DESCRIPTION:Tule testaamaan legorakentajan taitosi Puijonlaakson kirjastolle to 27.6. klo 10 – 15\, kun TV:stä tuttu mestarirakentaja Sara Riihiaho tuo kirjastoihin legorakennushaasteita! Onnistutko voittamaan haasteen ja kestääkö kantti vai vapiseeko rakennussormi liikaa? \nTapahtumaan on vapaa pääsy. Suositusikäraja 7+\, nuoremmat täysi-ikäisen huoltajan kanssa.
URL:https://kuopionkirjasto.fi/event/legohaaste-puijonlaakson-kirjastossa/
LOCATION:Puijonlaakson kirjasto\, Mailatie 2\, Kuopio\, 70200\, Suomi
CATEGORIES:Kaikki tapahtumat,Lapset ja nuoret
END:VEVENT
END:VCALENDAR