BEGIN:VCALENDAR
VERSION:2.0
PRODID:-//Kuopion kaupunginkirjasto - ECPv6.15.20//NONSGML v1.0//EN
CALSCALE:GREGORIAN
METHOD:PUBLISH
X-WR-CALNAME:Kuopion kaupunginkirjasto
X-ORIGINAL-URL:https://kuopionkirjasto.fi
X-WR-CALDESC:Tapahtumat Kuopion kaupunginkirjasto
REFRESH-INTERVAL;VALUE=DURATION:PT1H
X-Robots-Tag:noindex
X-PUBLISHED-TTL:PT1H
BEGIN:VTIMEZONE
TZID:Europe/Helsinki
BEGIN:DAYLIGHT
TZOFFSETFROM:+0200
TZOFFSETTO:+0300
TZNAME:EEST
DTSTART:20250330T010000
END:DAYLIGHT
BEGIN:STANDARD
TZOFFSETFROM:+0300
TZOFFSETTO:+0200
TZNAME:EET
DTSTART:20251026T010000
END:STANDARD
BEGIN:DAYLIGHT
TZOFFSETFROM:+0200
TZOFFSETTO:+0300
TZNAME:EEST
DTSTART:20260329T010000
END:DAYLIGHT
BEGIN:STANDARD
TZOFFSETFROM:+0300
TZOFFSETTO:+0200
TZNAME:EET
DTSTART:20261025T010000
END:STANDARD
BEGIN:DAYLIGHT
TZOFFSETFROM:+0200
TZOFFSETTO:+0300
TZNAME:EEST
DTSTART:20270328T010000
END:DAYLIGHT
BEGIN:STANDARD
TZOFFSETFROM:+0300
TZOFFSETTO:+0200
TZNAME:EET
DTSTART:20271031T010000
END:STANDARD
END:VTIMEZONE
BEGIN:VEVENT
DTSTART;TZID=Europe/Helsinki:20260429T170000
DTEND;TZID=Europe/Helsinki:20260429T180000
DTSTAMP:20260421T004018
CREATED:20260420T110055Z
LAST-MODIFIED:20260420T110321Z
UID:10003141-1777482000-1777485600@kuopionkirjasto.fi
SUMMARY:Kirjailijavieraana Ari Voutilainen
DESCRIPTION:Kirjanjulkistamistilaisuus Puijonlaakson kirjastossa ke 29.4. klo 17\nAri Voutilainen: Päivänsankari ja kuokkavieras (Momentum Kirjat\, 2026). \nAri Voutilainen (s.1974) on Tuusniemellä syntynyt ja kasvanut\, aikuisiällään kuopiolaistunut tieteentekijä\, joka on väitellyt tohtoriksi sekä biologiasta että epidemiologiasta. Hänen esikoisromaaninsa Eilispäivän haamut (Momentum Kirjat\, 2024) oli ­Savonia-palkintoehdokas. \nTilaisuuden juontaa Olavi Rytkönen. Kuulijoilla on mahdollisuus ostaa kirjailijan signeeraamia teoksia paikan päällä. \nTervetuloa! \nAri Voutilainen. – Kuva: Studio Eveliisa \n 
URL:https://kuopionkirjasto.fi/event/kirjailijavieraana-ari-voutilainen/
LOCATION:Puijonlaakson kirjasto\, Mailatie 2\, Kuopio\, 70200\, Suomi
CATEGORIES:Kaikki tapahtumat,Kaikki tapahtumat - kirjallisuus,Kirjallisuus
END:VEVENT
END:VCALENDAR