BEGIN:VCALENDAR
VERSION:2.0
PRODID:-//Kuopion kaupunginkirjasto - ECPv6.15.20//NONSGML v1.0//EN
CALSCALE:GREGORIAN
METHOD:PUBLISH
X-WR-CALNAME:Kuopion kaupunginkirjasto
X-ORIGINAL-URL:https://kuopionkirjasto.fi
X-WR-CALDESC:Tapahtumat Kuopion kaupunginkirjasto
REFRESH-INTERVAL;VALUE=DURATION:PT1H
X-Robots-Tag:noindex
X-PUBLISHED-TTL:PT1H
BEGIN:VTIMEZONE
TZID:Europe/Helsinki
BEGIN:DAYLIGHT
TZOFFSETFROM:+0200
TZOFFSETTO:+0300
TZNAME:EEST
DTSTART:20250330T010000
END:DAYLIGHT
BEGIN:STANDARD
TZOFFSETFROM:+0300
TZOFFSETTO:+0200
TZNAME:EET
DTSTART:20251026T010000
END:STANDARD
BEGIN:DAYLIGHT
TZOFFSETFROM:+0200
TZOFFSETTO:+0300
TZNAME:EEST
DTSTART:20260329T010000
END:DAYLIGHT
BEGIN:STANDARD
TZOFFSETFROM:+0300
TZOFFSETTO:+0200
TZNAME:EET
DTSTART:20261025T010000
END:STANDARD
BEGIN:DAYLIGHT
TZOFFSETFROM:+0200
TZOFFSETTO:+0300
TZNAME:EEST
DTSTART:20270328T010000
END:DAYLIGHT
BEGIN:STANDARD
TZOFFSETFROM:+0300
TZOFFSETTO:+0200
TZNAME:EET
DTSTART:20271031T010000
END:STANDARD
END:VTIMEZONE
BEGIN:VEVENT
DTSTART;TZID=Europe/Helsinki:20260416T140000
DTEND;TZID=Europe/Helsinki:20260416T170000
DTSTAMP:20260423T011825
CREATED:20260312T121422Z
LAST-MODIFIED:20260412T181745Z
UID:10003116-1776348000-1776358800@kuopionkirjasto.fi
SUMMARY:Painopehmopaja Juankosken kirjastossa
DESCRIPTION:Tuunaa painopehmo omasta pehmolelusta! Tuo pajaan keskikokoinen pehmolelu\, josta haluat tehdä itsellesi rauhoittavan ja keskittymistä auttavan painopehmon. Pehmolelun sisälle laitetaan painotäytettä n. 1–1\,5 kg verran. \nPainopehmopajassa käsitellään saksia ja neuloja\, joten lapsilla on hyvä olla oma aikuinen mukana auttamassa työskentelyssä. Paikalla on myös kirjaston henkilökuntaa ja /tai muita aikuisia ohjaamassa. Pajasta saa painopehmon tuunaamiseen tarvikkeet ja ohjeet. Paja on maksuton. \nPainopehmopaja Juankosken kirjastossa to 16.4. klo 14–17. \nTervetuloa!
URL:https://kuopionkirjasto.fi/event/painopehmopaja-juankosken-kirjastossa/
LOCATION:Juankosken kirjasto\, Juankoskentie 26\, Kuopio\, 73500\, Suomi
CATEGORIES:Kaikki tapahtumat,Lapset ja nuoret
END:VEVENT
END:VCALENDAR