BEGIN:VCALENDAR
VERSION:2.0
PRODID:-//Kuopion kaupunginkirjasto - ECPv6.15.20//NONSGML v1.0//EN
CALSCALE:GREGORIAN
METHOD:PUBLISH
X-ORIGINAL-URL:https://kuopionkirjasto.fi
X-WR-CALDESC:Tapahtumat Kuopion kaupunginkirjasto
REFRESH-INTERVAL;VALUE=DURATION:PT1H
X-Robots-Tag:noindex
X-PUBLISHED-TTL:PT1H
BEGIN:VTIMEZONE
TZID:Europe/Helsinki
BEGIN:DAYLIGHT
TZOFFSETFROM:+0200
TZOFFSETTO:+0300
TZNAME:EEST
DTSTART:20220327T010000
END:DAYLIGHT
BEGIN:STANDARD
TZOFFSETFROM:+0300
TZOFFSETTO:+0200
TZNAME:EET
DTSTART:20221030T010000
END:STANDARD
BEGIN:DAYLIGHT
TZOFFSETFROM:+0200
TZOFFSETTO:+0300
TZNAME:EEST
DTSTART:20230326T010000
END:DAYLIGHT
BEGIN:STANDARD
TZOFFSETFROM:+0300
TZOFFSETTO:+0200
TZNAME:EET
DTSTART:20231029T010000
END:STANDARD
BEGIN:DAYLIGHT
TZOFFSETFROM:+0200
TZOFFSETTO:+0300
TZNAME:EEST
DTSTART:20240331T010000
END:DAYLIGHT
BEGIN:STANDARD
TZOFFSETFROM:+0300
TZOFFSETTO:+0200
TZNAME:EET
DTSTART:20241027T010000
END:STANDARD
END:VTIMEZONE
BEGIN:VEVENT
DTSTART;TZID=Europe/Helsinki:20230417T080000
DTEND;TZID=Europe/Helsinki:20230430T170000
DTSTAMP:20260420T184311
CREATED:20230419T072440Z
LAST-MODIFIED:20230419T072440Z
UID:10001170-1681718400-1682874000@kuopionkirjasto.fi
SUMMARY:kaavin kirjaston lukudiplominäyttely
DESCRIPTION:Kaavin kirjastossa on esillä Kaavin koulun 6. luokan Lentoon!-lukudiplomin kirjoitelmia ja kuvia. \nTervetuloa tutustumaan!
URL:https://kuopionkirjasto.fi/event/kaavin-kirjaston-lukudiplominayttely/
LOCATION:Kaavin kirjasto\, Kaavintie 24 B\, Kaavi\, 73600\, Suomi
CATEGORIES:Kaikki tapahtumat,Näyttelyt
END:VEVENT
BEGIN:VEVENT
DTSTART;TZID=Europe/Helsinki:20230418T090000
DTEND;TZID=Europe/Helsinki:20230502T150000
DTSTAMP:20260420T184311
CREATED:20230413T075123Z
LAST-MODIFIED:20230425T100148Z
UID:10001157-1681808400-1683039600@kuopionkirjasto.fi
SUMMARY:Kuopion kansalaisopiston lasten käsityöpiirin töitä
DESCRIPTION:Vehmersalmen kirjastossa esillä kansalaisopiston lasten (7–12 v.) käsityöpiirin näyttely 18.–25.4. \nNäyttelyyn voi käydä vapaasti tutustumassa Vehmersalmen kirjaston aukioloaikoina.\nTervetuloa!
URL:https://kuopionkirjasto.fi/event/kuopion-kansalaisopiston-lasten-kasityopiirin-toita-esilla/
LOCATION:Vehmersalmen kirjasto\, Vehmersalmenkatu 27\, Kuopio\, 71310\, Suomi
CATEGORIES:Kaikki tapahtumat,Näyttelyt
END:VEVENT
BEGIN:VEVENT
DTSTART;TZID=Europe/Helsinki:20230424T090000
DTEND;TZID=Europe/Helsinki:20230505T150000
DTSTAMP:20260420T184311
CREATED:20230425T100031Z
LAST-MODIFIED:20230425T100217Z
UID:10001175-1682326800-1683298800@kuopionkirjasto.fi
SUMMARY:Esikoululaiset pehmoilee
DESCRIPTION:Vehmersalmen kirjastossa näytteillä esikoululaisten valmistamia pehmoystäviä  24.4.–5.5.23. \nTervetuloa ihastelemaan!
URL:https://kuopionkirjasto.fi/event/esikoululaiset-pehmoilee/
LOCATION:Vehmersalmen kirjasto\, Vehmersalmenkatu 27\, Kuopio\, 71310\, Suomi
CATEGORIES:Kaikki tapahtumat,Näyttelyt
END:VEVENT
BEGIN:VEVENT
DTSTART;TZID=Europe/Helsinki:20230426T140000
DTEND;TZID=Europe/Helsinki:20230426T183000
DTSTAMP:20260420T184311
CREATED:20230411T105305Z
LAST-MODIFIED:20230411T105305Z
UID:10001153-1682517600-1682533800@kuopionkirjasto.fi
SUMMARY:Vapputanssit
DESCRIPTION:Joraa kuin jänis\, karkeloi kuin karhu tai tanssi aivan omalla tyylilläsi! Tule laittamaan jalalla koreasti Just Dance!–pelihetkissä. Tanssikuviosi voit esitellä pääkirjaston lasten- ja nuortenosaston koulutustilassa ke 26.4 klo 14-18.30 sekä la 29.4 klo 10-12.30 ja klo 13-15.30.
URL:https://kuopionkirjasto.fi/event/vapputanssit/2023-04-26/
LOCATION:Pääkirjasto\, Maaherrankatu 12\, Kuopio\, 70100\, Suomi
CATEGORIES:Kaikki tapahtumat,Lapset ja nuoret
END:VEVENT
BEGIN:VEVENT
DTSTART;TZID=Europe/Helsinki:20230426T170000
DTEND;TZID=Europe/Helsinki:20230426T180000
DTSTAMP:20260420T184311
CREATED:20230411T111617Z
LAST-MODIFIED:20230412T073952Z
UID:10001156-1682528400-1682532000@kuopionkirjasto.fi
SUMMARY:Punnitun tiedon ilta: Venäjä-asiantuntija Arvo Tuominen puhuu Venäjästä\, Putinista ja Ukrainasta
DESCRIPTION:  \nPalkittu dokumentaristi\, tietokirjailija ja Venäjän-tuntija Arvo Tuominen vierailee pääkirjastolla ja kertoo vastauksia juuri nyt askarruttaviin kysymyksiin\, kuten miksi Venäjä hyökkäsi ja miten sota mahdollisesti päättyy. Voit seurata myös tilaisuuden live-striimiä kirjaston Facebook-kanavalla. \nTuominen on ensimmäinen puhuja Punnitun tiedon ilta -tapahtumakonseptissa\, johon kutsutaan eri alojen asiantuntijoita kertomaan kansantajuisesti ajankohtaisista aiheista. \nTervetuloa seuraamaan tilaisuutta pääkirjaston kokoussaliin tai verkkoon!
URL:https://kuopionkirjasto.fi/event/punnitun-tiedon-ilta-venaja-asiantuntija-arvo-tuominen-puhuu-venajasta-putinista-ja-ukrainasta/
LOCATION:Pääkirjasto\, Maaherrankatu 12\, Kuopio\, 70100\, Suomi
CATEGORIES:Kaikki tapahtumat,Muut tapahtumat
END:VEVENT
BEGIN:VEVENT
DTSTART;TZID=Europe/Helsinki:20230427T140000
DTEND;TZID=Europe/Helsinki:20230427T180000
DTSTAMP:20260420T184311
CREATED:20230404T074609Z
LAST-MODIFIED:20230404T074609Z
UID:10001148-1682604000-1682618400@kuopionkirjasto.fi
SUMMARY:Energiansäästöä kotitalouksissa -esitys ja energianeuvontaa Jynkän kirjastossa
DESCRIPTION:Jynkän kirjastossa on torstaina 27.4. tarjolla maksutonta ja puolueetonta energianeuvontaa klo 14-17. Neuvonnan jälkeen on Energiansäästöä kotitalouksissa -esitys klo 17-18.  \nKiinteistöjen energiansäästötoimet ovat monella mielessä ja moni miettiikin\, mitä toimia voisi tehdä juuri omassa kodissa. Energiansäästöä kotitalouksissa -esityksessä käydään läpi erilaisia energiansäästötoimenpiteitä\, joista osa vaatii investointeja ja osa ei. Esityksessä käydään läpi myös energiaremontteihin saatavilla olevia tukia.  \nEnergianeuvoja Mika Kemppainen on kirjastolla paikalla ennen esitystä klo 14-17\, jolloin voit tulla vapaasti keskustelemaan aiheesta asiantuntijan kanssa. \nKuopion kaupunki tarjoaa puolueetonta ja maksutonta energianeuvontaa asukkaille\, kunnille sekä pk-yrityksille koko Pohjois-Savon alueella. Kuluttajille ja taloyhtiöille annetaan neuvontaa mm. lämmitykseen\, uusiutuvaan energiaan\, laitteisiin\, kuluttamiseen ja liikkumiseen liittyen. \nTervetuloa!
URL:https://kuopionkirjasto.fi/event/energiansaastoa-kotitalouksissa-esitys-ja-energianeuvontaa-jynkan-kirjastossa/
LOCATION:Jynkän kirjasto\, Maitotie 2\, Kuopio\, 70780\, Suomi
CATEGORIES:Kaikki tapahtumat,Muut tapahtumat
END:VEVENT
BEGIN:VEVENT
DTSTART;TZID=Europe/Helsinki:20230427T173000
DTEND;TZID=Europe/Helsinki:20230427T180000
DTSTAMP:20260420T184311
CREATED:20230413T094631Z
LAST-MODIFIED:20230414T122740Z
UID:10001158-1682616600-1682618400@kuopionkirjasto.fi
SUMMARY:Sointuvat: Keväässä syksyn siemen
DESCRIPTION:Sointuvat-runomusiikkiesitys Keväässä syksyn siemen pääkirjaston ylälavalla torstaina 27.4. klo 17.30. \nRunoista vastaavat Leena Raveikko ja Seija Hämäläinen.\nMusiikkina suomalaisia sovituksia: Marja-Leena Paatso (huilu)\, Paula Salosaari (sello)\, Maija Väänänen (piano). \nTervetuloa!
URL:https://kuopionkirjasto.fi/event/sointuvat-kevaassa-syksyn-siemen/
LOCATION:Pääkirjasto\, Maaherrankatu 12\, Kuopio\, 70100\, Suomi
CATEGORIES:Kaikki tapahtumat,Kirjallisuus,Musiikki
END:VEVENT
BEGIN:VEVENT
DTSTART;TZID=Europe/Helsinki:20230429T100000
DTEND;TZID=Europe/Helsinki:20230429T123000
DTSTAMP:20260420T184311
CREATED:20230411T105305Z
LAST-MODIFIED:20230411T105305Z
UID:10001154-1682762400-1682771400@kuopionkirjasto.fi
SUMMARY:Vapputanssit
DESCRIPTION:Joraa kuin jänis\, karkeloi kuin karhu tai tanssi aivan omalla tyylilläsi! Tule laittamaan jalalla koreasti Just Dance!–pelihetkissä. Tanssikuviosi voit esitellä pääkirjaston lasten- ja nuortenosaston koulutustilassa ke 26.4 klo 14-18.30 sekä la 29.4 klo 10-12.30 ja klo 13-15.30.
URL:https://kuopionkirjasto.fi/event/vapputanssit/2023-04-29/1/
LOCATION:Pääkirjasto\, Maaherrankatu 12\, Kuopio\, 70100\, Suomi
CATEGORIES:Kaikki tapahtumat,Lapset ja nuoret
END:VEVENT
BEGIN:VEVENT
DTSTART;TZID=Europe/Helsinki:20230429T130000
DTEND;TZID=Europe/Helsinki:20230429T153000
DTSTAMP:20260420T184311
CREATED:20230411T105305Z
LAST-MODIFIED:20230411T105305Z
UID:10001155-1682773200-1682782200@kuopionkirjasto.fi
SUMMARY:Vapputanssit
DESCRIPTION:Joraa kuin jänis\, karkeloi kuin karhu tai tanssi aivan omalla tyylilläsi! Tule laittamaan jalalla koreasti Just Dance!–pelihetkissä. Tanssikuviosi voit esitellä pääkirjaston lasten- ja nuortenosaston koulutustilassa ke 26.4 klo 14-18.30 sekä la 29.4 klo 10-12.30 ja klo 13-15.30.
URL:https://kuopionkirjasto.fi/event/vapputanssit/2023-04-29/2/
LOCATION:Pääkirjasto\, Maaherrankatu 12\, Kuopio\, 70100\, Suomi
CATEGORIES:Kaikki tapahtumat,Lapset ja nuoret
END:VEVENT
END:VCALENDAR