BEGIN:VCALENDAR
VERSION:2.0
PRODID:-//Kuopion kaupunginkirjasto - ECPv6.15.20//NONSGML v1.0//EN
CALSCALE:GREGORIAN
METHOD:PUBLISH
X-ORIGINAL-URL:https://kuopionkirjasto.fi
X-WR-CALDESC:Tapahtumat Kuopion kaupunginkirjasto
REFRESH-INTERVAL;VALUE=DURATION:PT1H
X-Robots-Tag:noindex
X-PUBLISHED-TTL:PT1H
BEGIN:VTIMEZONE
TZID:Europe/Helsinki
BEGIN:DAYLIGHT
TZOFFSETFROM:+0200
TZOFFSETTO:+0300
TZNAME:EEST
DTSTART:20220327T010000
END:DAYLIGHT
BEGIN:STANDARD
TZOFFSETFROM:+0300
TZOFFSETTO:+0200
TZNAME:EET
DTSTART:20221030T010000
END:STANDARD
BEGIN:DAYLIGHT
TZOFFSETFROM:+0200
TZOFFSETTO:+0300
TZNAME:EEST
DTSTART:20230326T010000
END:DAYLIGHT
BEGIN:STANDARD
TZOFFSETFROM:+0300
TZOFFSETTO:+0200
TZNAME:EET
DTSTART:20231029T010000
END:STANDARD
BEGIN:DAYLIGHT
TZOFFSETFROM:+0200
TZOFFSETTO:+0300
TZNAME:EEST
DTSTART:20240331T010000
END:DAYLIGHT
BEGIN:STANDARD
TZOFFSETFROM:+0300
TZOFFSETTO:+0200
TZNAME:EET
DTSTART:20241027T010000
END:STANDARD
END:VTIMEZONE
BEGIN:VEVENT
DTSTART;TZID=Europe/Helsinki:20230605T130000
DTEND;TZID=Europe/Helsinki:20230622T160000
DTSTAMP:20260420T112720
CREATED:20230516T063656Z
LAST-MODIFIED:20230516T063656Z
UID:10001196-1685970000-1687449600@kuopionkirjasto.fi
SUMMARY:Vehmersalmen kirjaston poistokirjamyynti
DESCRIPTION:Vehmersalmen kirjastossa järjestetään poistokirjamyynti 5.–22.6.\, tai siihen asti kuin myytävää riittää. Tervetuloa tekemään löytöjä!
URL:https://kuopionkirjasto.fi/event/vehmersalmen-kirjaston-poistokirjamyynti/
LOCATION:Vehmersalmen kirjasto\, Vehmersalmenkatu 27\, Kuopio\, 71310\, Suomi
CATEGORIES:Kaikki tapahtumat,Muut tapahtumat
END:VEVENT
BEGIN:VEVENT
DTSTART;TZID=Europe/Helsinki:20230607T130000
DTEND;TZID=Europe/Helsinki:20230607T150000
DTSTAMP:20260420T112720
CREATED:20230519T101109Z
LAST-MODIFIED:20230519T101109Z
UID:10001197-1686142800-1686150000@kuopionkirjasto.fi
SUMMARY:Lasten leffahetket kesällä 2023
DESCRIPTION:Tervetuloa Kuopion pääkirjaston kesäisiin lasten leffahetkiin! Leffahetket järjestetään lastenosaston koulutustilassa ja tilaan voimme ottaa enintään 25 henkilöä – saavuthan ajoissa paikalle. \nElokuvien ikärajat ovat joko sallittu tai K -7. Ikärajalliseen näytökseen alle 7 -vuotiaat pääsevät aikuisen saattajan seurassa. Leffahetkiin on vapaa pääsy. \nTarjolla on joka kerralla myös joko elokuviin liittyvää askartelua tai aiheeseen sopivaa luettavaa kotiin lainattavaksi. \nOmat leffaherkut (esim. popcorn tai muu naposteltava) voi tuoda mukaan!
URL:https://kuopionkirjasto.fi/event/lasten-leffahetket-kesalla-2023/2023-06-07/
LOCATION:Pääkirjasto\, Maaherrankatu 12\, Kuopio\, 70100\, Suomi
CATEGORIES:Kaikki tapahtumat,Lapset ja nuoret
END:VEVENT
BEGIN:VEVENT
DTSTART;TZID=Europe/Helsinki:20230608T170000
DTEND;TZID=Europe/Helsinki:20230608T180000
DTSTAMP:20260420T112720
CREATED:20230602T104536Z
LAST-MODIFIED:20230602T104728Z
UID:10001206-1686243600-1686247200@kuopionkirjasto.fi
SUMMARY:Elämässä kiinni -konsertin ensiesitys
DESCRIPTION:  \nNilsiän kirjastossa järjestetään torstaina 8.6.2023 klo 17.00 Elämässä kiinni -konsertin ensiesitys. \n Voitto Valliuksen runokirjaan pohjautuvassa konsertissa kuullaan runouden ja musiikin vuoropuhelua Paula Tapionmäen ja Riitta Hynysen tulkitsemina. \nTilaisuuteen on vapaa pääsy.\nLämpimästi tervetuloa!
URL:https://kuopionkirjasto.fi/event/elamassa-kiinni-konsertin-ensiesitys/
LOCATION:Nilsiän kirjasto\, Ukko-Paavontie 15\, Nilsiä\, 73300\, Suomi
CATEGORIES:Kaikki tapahtumat,Kaikki tapahtumat - kirjallisuus,Kirjallisuus,Musiikki
END:VEVENT
BEGIN:VEVENT
DTSTART;TZID=Europe/Helsinki:20230609T110000
DTEND;TZID=Europe/Helsinki:20230609T120000
DTSTAMP:20260420T112720
CREATED:20230523T102201Z
LAST-MODIFIED:20230523T102201Z
UID:10001205-1686308400-1686312000@kuopionkirjasto.fi
SUMMARY:Luupin alla -keskustelutilaisuus Puijonlaakson kirjastossa
DESCRIPTION:Kaikille avoin Luupin alla -keskustelutilaisuus ajankohtaisista aiheista Puijonlaakson lähikirjastossa perjantaina 9.6.2023 klo 11–12. \nMitkä asiat Puijonlaaksossa puhuttavat? Muutamia niistä nostetaan kirjastolla luupin alle\, avoimeen keskusteluun\, jossa kaikki pääsevät ilmaisemaan näkemyksiään käsiteltävän aiheen tiimoilta. Tilaisuus alkaa lyhyellä alustuksella ja teemaan johdattelulla\, minkä jälkeen areena on kaikille vapaa. \nKeskustelua luotsaa Jukka Kervinen. Tarjolla on kahvia ja pientä purtavaa. \nTervetuloa! \nTilaisuuden järjestävät Puijonlaakson lähikirjasto ja Kuopion kaupunginkirjaston Demokratiatyön askelkuvioita kirjastossa -hanke.
URL:https://kuopionkirjasto.fi/event/luupin-alla-keskustelutilaisuus-puijonlaakson-kirjastossa-3/
LOCATION:Puijonlaakson kirjasto\, Mailatie 2\, Kuopio\, 70200\, Suomi
CATEGORIES:Kaikki tapahtumat,Muut tapahtumat
END:VEVENT
END:VCALENDAR