BEGIN:VCALENDAR
VERSION:2.0
PRODID:-//Kuopion kaupunginkirjasto - ECPv6.15.20//NONSGML v1.0//EN
CALSCALE:GREGORIAN
METHOD:PUBLISH
X-ORIGINAL-URL:https://kuopionkirjasto.fi
X-WR-CALDESC:Tapahtumat Kuopion kaupunginkirjasto
REFRESH-INTERVAL;VALUE=DURATION:PT1H
X-Robots-Tag:noindex
X-PUBLISHED-TTL:PT1H
BEGIN:VTIMEZONE
TZID:Europe/Helsinki
BEGIN:DAYLIGHT
TZOFFSETFROM:+0200
TZOFFSETTO:+0300
TZNAME:EEST
DTSTART:20220327T010000
END:DAYLIGHT
BEGIN:STANDARD
TZOFFSETFROM:+0300
TZOFFSETTO:+0200
TZNAME:EET
DTSTART:20221030T010000
END:STANDARD
BEGIN:DAYLIGHT
TZOFFSETFROM:+0200
TZOFFSETTO:+0300
TZNAME:EEST
DTSTART:20230326T010000
END:DAYLIGHT
BEGIN:STANDARD
TZOFFSETFROM:+0300
TZOFFSETTO:+0200
TZNAME:EET
DTSTART:20231029T010000
END:STANDARD
BEGIN:DAYLIGHT
TZOFFSETFROM:+0200
TZOFFSETTO:+0300
TZNAME:EEST
DTSTART:20240331T010000
END:DAYLIGHT
BEGIN:STANDARD
TZOFFSETFROM:+0300
TZOFFSETTO:+0200
TZNAME:EET
DTSTART:20241027T010000
END:STANDARD
END:VTIMEZONE
BEGIN:VEVENT
DTSTART;TZID=Europe/Helsinki:20230705T130000
DTEND;TZID=Europe/Helsinki:20230814T190000
DTSTAMP:20260420T043941
CREATED:20230705T130936Z
LAST-MODIFIED:20230705T131037Z
UID:10001220-1688562000-1692039600@kuopionkirjasto.fi
SUMMARY:Vanhojen valokuvien näyttely
DESCRIPTION:Vehmersalmen kirjastossa vanhojen valokuvien näyttely sekä henkilötunnistusta vanhoista kuvista. \nKotiseutuyhdistyksen historiaryhmän järjestämä näyttely on avoinna 14.8. saakka kirjaston aukioloaikoina ma 13-19\,  ti 9-15\, ke 13-19\, to 12-16 ja pe 9-15. \nTervetuloa! \n \n 
URL:https://kuopionkirjasto.fi/event/vanhojen-valokuvien-nayttely/
LOCATION:Vehmersalmen kirjasto\, Vehmersalmenkatu 27\, Kuopio\, 71310\, Suomi
CATEGORIES:Kaikki tapahtumat,Näyttelyt
END:VEVENT
BEGIN:VEVENT
DTSTART;TZID=Europe/Helsinki:20230807T100000
DTEND;TZID=Europe/Helsinki:20230820T160000
DTSTAMP:20260420T043941
CREATED:20230123T103114Z
LAST-MODIFIED:20230123T103114Z
UID:10000942-1691402400-1692547200@kuopionkirjasto.fi
SUMMARY:Unelmia / Kuvataideseura Arttiimi
DESCRIPTION:Kuvataideseura Arttiimin Unelmia-vuosinäyttely: Maalauksia\, grafiikkaa ja veistoksia. \n  \n  \n  \n 
URL:https://kuopionkirjasto.fi/event/unelmia-kuvataideseura-arttiimi/
LOCATION:Pääkirjasto\, Maaherrankatu 12\, Kuopio\, 70100\, Suomi
CATEGORIES:Kaikki tapahtumat,Näyttelyt
END:VEVENT
BEGIN:VEVENT
DTSTART;TZID=Europe/Helsinki:20230816T150000
DTEND;TZID=Europe/Helsinki:20230816T160000
DTSTAMP:20260420T043941
CREATED:20230719T100428Z
LAST-MODIFIED:20231110T115824Z
UID:10001251-1692198000-1692201600@kuopionkirjasto.fi
SUMMARY:Maaningan kirjaston lukupiiri
DESCRIPTION:Maaningan kirjaston lukupiiri kokoontuu alla lueteltuina päivinä Maaninkatalon kokoushuoneessa klo 15–16. \nKe 16.8.\nMinna Mikkanen: Kotijoukot \nKe 13.9.\nAbdulrazak Gurnah: Loppuelämät \nKe 11.10.\nJenni Räinä: Suo muistaa \nKe 8.11.\nMaria Turtschaninoff: Suomaa \nKe 13.12.\nFrank McCourt: Seitsemännen portaan enkeli
URL:https://kuopionkirjasto.fi/event/maaningan-kirjaston-lukupiiri-3/
LOCATION:Maaningan kirjasto\, Keskusraitti 3\, Maaninka\, 71750\, Suomi
CATEGORIES:Kaikki tapahtumat,Kaikki tapahtumat - kirjallisuus,Kirjallisuus
END:VEVENT
BEGIN:VEVENT
DTSTART;TZID=Europe/Helsinki:20230816T170000
DTEND;TZID=Europe/Helsinki:20230816T180000
DTSTAMP:20260420T043941
CREATED:20230707T103215Z
LAST-MODIFIED:20230915T064520Z
UID:10001229-1692205200-1692208800@kuopionkirjasto.fi
SUMMARY:Vehmersalmen kirjaston neulelukupiiri
DESCRIPTION:Vehmersalmen kirjaston neulelukupiiri\nkokoontuu syksyllä 2023 klo 17.00–18.00 seuraavasti: \nKe 11.10.\nJari Järvelä: Aino A. \nMa 6.11. (huom. poikkeava viikonpäivä!)\nJaana Skyttä: Huvituksen kartanon tytöt \nKe 13.12.\nEve Hietamies: Numeroruuhka \nLukupiirissä keskustellaan rennolla otteella luetusta kirjasta ja käsitöistä. Ei ennakkoilmoittautumista. \nTervetuloa!
URL:https://kuopionkirjasto.fi/event/vehmersalmen-kirjaston-neulelukupiiri-2/2023-08-16/
LOCATION:Vehmersalmen kirjasto\, Vehmersalmenkatu 27\, Kuopio\, 71310\, Suomi
CATEGORIES:Kaikki tapahtumat,Kaikki tapahtumat - kirjallisuus,Kirjallisuus
END:VEVENT
BEGIN:VEVENT
DTSTART;TZID=Europe/Helsinki:20230818T080000
DTEND;TZID=Europe/Helsinki:20230818T170000
DTSTAMP:20260420T043941
CREATED:20230804T095722Z
LAST-MODIFIED:20231126T175650Z
UID:10001371-1692345600-1692378000@kuopionkirjasto.fi
SUMMARY:Kirjastohetket Jynkän kirjastossa syksyllä 2023
DESCRIPTION:Kirjastohetket Jynkän kirjastossa pidetään: \npe 18.8. klo 9.30  \nke 27.9. klo 9.30    \nma 11.10. klo 9.30\nTeemana Tytöt pystyy mihin vaan! (Kirjaston oma tilaisuus) \npe 3.11. klo 9.30  \npe 1.12. klo 9.30  \nYhteistyössä Sanataidekoulu Aapeli  \n 
URL:https://kuopionkirjasto.fi/event/55480/2023-08-18/1/
LOCATION:Jynkän kirjasto\, Maitotie 2\, Kuopio\, 70780\, Suomi
CATEGORIES:Kaikki tapahtumat,Lapset ja nuoret
END:VEVENT
BEGIN:VEVENT
DTSTART;TZID=Europe/Helsinki:20230818T093000
DTEND;TZID=Europe/Helsinki:20230818T100000
DTSTAMP:20260420T043941
CREATED:20230804T095722Z
LAST-MODIFIED:20231126T175650Z
UID:10001330-1692351000-1692352800@kuopionkirjasto.fi
SUMMARY:Kirjastohetket Jynkän kirjastossa syksyllä 2023
DESCRIPTION:Kirjastohetket Jynkän kirjastossa pidetään: \npe 18.8. klo 9.30  \nke 27.9. klo 9.30    \nma 11.10. klo 9.30\nTeemana Tytöt pystyy mihin vaan! (Kirjaston oma tilaisuus) \npe 3.11. klo 9.30  \npe 1.12. klo 9.30  \nYhteistyössä Sanataidekoulu Aapeli  \n 
URL:https://kuopionkirjasto.fi/event/55480/2023-08-18/2/
LOCATION:Jynkän kirjasto\, Maitotie 2\, Kuopio\, 70780\, Suomi
CATEGORIES:Kaikki tapahtumat,Lapset ja nuoret
END:VEVENT
END:VCALENDAR