BEGIN:VCALENDAR
VERSION:2.0
PRODID:-//Kuopion kaupunginkirjasto - ECPv6.15.20//NONSGML v1.0//EN
CALSCALE:GREGORIAN
METHOD:PUBLISH
X-WR-CALNAME:Kuopion kaupunginkirjasto
X-ORIGINAL-URL:https://kuopionkirjasto.fi
X-WR-CALDESC:Tapahtumat Kuopion kaupunginkirjasto
REFRESH-INTERVAL;VALUE=DURATION:PT1H
X-Robots-Tag:noindex
X-PUBLISHED-TTL:PT1H
BEGIN:VTIMEZONE
TZID:Europe/Helsinki
BEGIN:DAYLIGHT
TZOFFSETFROM:+0200
TZOFFSETTO:+0300
TZNAME:EEST
DTSTART:20220327T010000
END:DAYLIGHT
BEGIN:STANDARD
TZOFFSETFROM:+0300
TZOFFSETTO:+0200
TZNAME:EET
DTSTART:20221030T010000
END:STANDARD
BEGIN:DAYLIGHT
TZOFFSETFROM:+0200
TZOFFSETTO:+0300
TZNAME:EEST
DTSTART:20230326T010000
END:DAYLIGHT
BEGIN:STANDARD
TZOFFSETFROM:+0300
TZOFFSETTO:+0200
TZNAME:EET
DTSTART:20231029T010000
END:STANDARD
BEGIN:DAYLIGHT
TZOFFSETFROM:+0200
TZOFFSETTO:+0300
TZNAME:EEST
DTSTART:20240331T010000
END:DAYLIGHT
BEGIN:STANDARD
TZOFFSETFROM:+0300
TZOFFSETTO:+0200
TZNAME:EET
DTSTART:20241027T010000
END:STANDARD
END:VTIMEZONE
BEGIN:VEVENT
DTSTART;TZID=Europe/Helsinki:20230823T160000
DTEND;TZID=Europe/Helsinki:20230823T173000
DTSTAMP:20260420T031051
CREATED:20230815T094845Z
LAST-MODIFIED:20230815T094845Z
UID:10001339-1692806400-1692811800@kuopionkirjasto.fi
SUMMARY:Luupin alla -keskustelutilaisuus Maaningalla
DESCRIPTION:Kaikille avoin Luupin alla -keskustelutilaisuus Maaningan urheilutalolla Meidän Maaninka -päivänä ke 23.8. klo 16 alkaen. \nVetäjänä Juha Jääskeläinen Kuopion kaupunginkirjastosta. \nTervetuloa mukaan! \nTapahtuma on osa Kuopion kaupunginkirjaston Demokratiatyön askelkuvioita kirjastossa -hanketta.
URL:https://kuopionkirjasto.fi/event/luupin-alla-keskustelutilaisuus-maaningalla/
LOCATION:Maaningan urheilutalo\, Maaningantie 49\, Kuopio\, 71750\, Suomi
CATEGORIES:Kaikki tapahtumat,Muut tapahtumat
END:VEVENT
BEGIN:VEVENT
DTSTART;TZID=Europe/Helsinki:20230823T170000
DTEND;TZID=Europe/Helsinki:20230823T180000
DTSTAMP:20260420T031051
CREATED:20230712T113313Z
LAST-MODIFIED:20230712T123008Z
UID:10001239-1692810000-1692813600@kuopionkirjasto.fi
SUMMARY:Luontokirjalukupiiri
DESCRIPTION:Luontokirjalukupiiri kokoontuu kerran kuukaudessa keskiviikkoisin klo 17.00–18.00. Lukupiirissä tutustutaan kiehtovan ajankohtaisiin teoksiin ja keskustellaan niiden herättämistä ajatuksista. Kirjallisuus- tai ympäristöasiantuntemusta ei tarvita\, ja mukaan voi tulla yhdelle tai useammalle kerralle. Lukupiiri toimii hyvin myös kirjavinkkauksena – keskustelun kuunteleminen on mainio tapa löytää kiinnostavaa luettavaa! \nLukupiiri järjestetään verkossa Zoom-alustalla.\nOsallistumaan pääset linkillä https://zoom.us/j/99576520794 tai QR-koodilla:\n\nEnnakkoilmoittautumista ei tarvita.\nLisätietoja saa osoitteesta aikuistenosasto.kirjasto@kuopio.fi \nKe 23.8.2023\nKunttu\, Panu: Kaikki luodon linnut\nMyös e-kirjana: Kaikki luodon linnut / E-kirja (bibliolibrary.fi) \nKe 27.9.2023\nAaltola\, Elisa: Esseitä eläimistä\nMyös e-äänikirjana: Esseitä eläimistä / Äänikirja (bibliolibrary.fi) \nKe 25.10.2023\nPowers\, Richard: Hämmästys \n 
URL:https://kuopionkirjasto.fi/event/luontokirjalukupiiri-3/2023-08-23/
LOCATION:Etäyhteydellä\, Suomi
CATEGORIES:Kaikki tapahtumat,Kaikki tapahtumat - kirjallisuus,Kirjallisuus
ATTACH;FMTTYPE=image/jpeg:https://kuopionkirjasto.fi/wp-content/uploads/2023/07/landscape-g9bfe32d9c_1280.jpg
END:VEVENT
BEGIN:VEVENT
DTSTART;TZID=Europe/Helsinki:20230824T170000
DTEND;TZID=Europe/Helsinki:20230824T180000
DTSTAMP:20260420T031051
CREATED:20230705T073030Z
LAST-MODIFIED:20230823T100706Z
UID:10001211-1692896400-1692900000@kuopionkirjasto.fi
SUMMARY:Elävä äänikirja
DESCRIPTION:Kaipaatko lepoa päivän rientojen jälkeen?\nTule kuuntelemaan ääneenluettua kirjallisuutta\, käsityön kanssa tai ilman!\nTilaisuudessa luetaan erilaisia\, lyhyitä tekstejä. \nPaikka: Pääkirjasto\, Kohtaamo (Museokadun sisäänkäynnin vieressä)\nAika: Klo 17 alkaen \nto 24.8. | ke 4.10. | ke 1.11. | ke 13.12. \nKirjasto tarjoaa osallistujille iltateen. Jos kätesi kaipaavat tekemistä\, paikan päältä löydät värityskuvia ja helppoja virkkuutöitä. \nTervetuloa! \n \n 
URL:https://kuopionkirjasto.fi/event/elava-aanikirja/2023-08-24/
LOCATION:Pääkirjasto\, Maaherrankatu 12\, Kuopio\, 70100\, Suomi
CATEGORIES:Kaikki tapahtumat,Kaikki tapahtumat - kirjallisuus,Kirjallisuus
END:VEVENT
BEGIN:VEVENT
DTSTART;TZID=Europe/Helsinki:20230825T091500
DTEND;TZID=Europe/Helsinki:20230825T094500
DTSTAMP:20260420T031051
CREATED:20230721T061436Z
LAST-MODIFIED:20230721T061436Z
UID:10001274-1692954900-1692956700@kuopionkirjasto.fi
SUMMARY:Kirjastohetket Pyörön kirjastossa
DESCRIPTION:Tervetuloa lasten kirjastohetkiin Pyörön kirjastoon! Kirjastohetket on ensisijaisesti tarkoitettu ilmoitetuille ikäryhmille. Hetket ovat maksuttomia. \nYhteistyössä Sanataidekoulu Aapeli.
URL:https://kuopionkirjasto.fi/event/kirjastohetket-pyoron-kirjastossa/2023-08-25/
LOCATION:Pyörön kirjasto\, Jalkasenkatu 3\, Kuopio\, 70820\, Suomi
CATEGORIES:Kaikki tapahtumat,Lapset ja nuoret
END:VEVENT
BEGIN:VEVENT
DTSTART;TZID=Europe/Helsinki:20230825T130000
DTEND;TZID=Europe/Helsinki:20230825T150000
DTSTAMP:20260420T031051
CREATED:20230725T071636Z
LAST-MODIFIED:20230726T094343Z
UID:10001286-1692968400-1692975600@kuopionkirjasto.fi
SUMMARY:Taiteiden yön leffat pääkirjastolla
DESCRIPTION:Pääkirjaston lasten- ja nuortenosastolla vietämme Taiteiden yötä 25.8. elokuvien parissa! \nLapsille ja lapsiperheille suunnattu esitys alkaa klo 13 ja silloin nähdään Sing 1. Leffan ikäsuositus on K7. \nKlo 16.30 alkavassa esityksessä leffana on Cruella\, jonka ikäsuositus on K12. \nMolemmat leffat katsellaan pääkirjaston kokoussalissa\, 1. krs. Tarjolla on myös elokuvien aihepiiriin liittyviä kirjavinkkejä ja pientä puuhaa. \nElokuvaesityksiin on vapaa pääsy\, tervetuloa!
URL:https://kuopionkirjasto.fi/event/taiteiden-yon-leffat-paakirjastolla/2023-08-25/1/
LOCATION:Pääkirjasto\, Maaherrankatu 12\, Kuopio\, 70100\, Suomi
CATEGORIES:Kaikki tapahtumat,Lapset ja nuoret
END:VEVENT
BEGIN:VEVENT
DTSTART;TZID=Europe/Helsinki:20230825T130000
DTEND;TZID=Europe/Helsinki:20230825T183000
DTSTAMP:20260420T031051
CREATED:20230821T081520Z
LAST-MODIFIED:20230821T081906Z
UID:10001349-1692968400-1692988200@kuopionkirjasto.fi
SUMMARY:Taiteiden yönä pe 25.8.23 pääkirjasto avoinna klo 19 saakka (ohjelmakooste)
DESCRIPTION:Taiteiden yönä pe 25.8. pääkirjasto on avoinna klo 19 asti!\nPääkirjaston Taiteiden yön ohjelmaa: (Linkeistä pääset tarkempiin tapahtumatietoihin.) \n\n17.30–18.30:\nElämäni laulut -konsertti\n13–15:\nTaiteiden yön leffat lapsille ja nuorille\n15–18.30:\nLautapeli-ilta 15-200-vuotiaille (teemana pakopelit)\n\nTervetuloa mukaan! \n \n 
URL:https://kuopionkirjasto.fi/event/taiteiden-yona-pe-25-8-23-paakirjasto-avoinna-klo-19-saakka-ohjelmakooste/
LOCATION:Pääkirjasto\, Maaherrankatu 12\, Kuopio\, 70100\, Suomi
CATEGORIES:Kaikki tapahtumat,Lapset ja nuoret,Musiikki,Muut tapahtumat
END:VEVENT
BEGIN:VEVENT
DTSTART;TZID=Europe/Helsinki:20230825T150000
DTEND;TZID=Europe/Helsinki:20230825T183000
DTSTAMP:20260420T031051
CREATED:20230720T092842Z
LAST-MODIFIED:20230725T092448Z
UID:10001269-1692975600-1692988200@kuopionkirjasto.fi
SUMMARY:Lautapeli-illat 15-200-vuotiaille
DESCRIPTION:Syksyllä pääkirjastolla lautapelaillaan yhdessä useamman kerran! Lautapeli-ilta on tarkoitettu kaikille 15-200-vuotiaille\, ja se pidetään syksyllä neljä kertaa vaihtuvin teemoin.  \nAjankohdat ja teemat:  \npe 25.8. klo 15-18.30 (2. kerroksen kirjahalli)\nPakopelit (peli-ilta osana Taiteiden yön tapahtumia) \nke 20.9. klo 15-18.30 (2. kerros\, lavan luona)\nKorttipelit\nKorteilla pelattavia pelejä laidasta laitaan. \nke 18.10. klo 15-18.30 (2. kerros\, lavan luona)\nHarry Potter- ja fantasiapelit (peli-ilta osana pääkirjaston Harry Potter -tapahtumaa) \nke 8.11. klo 15-18.30 (2. kerros\, lavan luona)\nKaikenlaiset pelit\, ei teemaa! (peli-ilta osana Peliviikon tapahtumia) \nTule viettämään hauskaa peli-iltaa kirjastoon mukavassa seurassa! Voit osallistua yksin tai yhdessä kavereiden kanssa. Tutustu teemanmukaisiin peleihin tai valitse jokin muu esillä olevista peleistä. Henkilökuntaa on mukana opastamassa ja pelailemassa. \nTervetuloa!
URL:https://kuopionkirjasto.fi/event/lautapeli-illat-15-200-vuotiaille/2023-08-25/
LOCATION:Pääkirjasto\, Maaherrankatu 12\, Kuopio\, 70100\, Suomi
CATEGORIES:Kaikki tapahtumat,Lapset ja nuoret,Muut tapahtumat
END:VEVENT
BEGIN:VEVENT
DTSTART;TZID=Europe/Helsinki:20230825T163000
DTEND;TZID=Europe/Helsinki:20230825T183000
DTSTAMP:20260420T031051
CREATED:20230725T071636Z
LAST-MODIFIED:20230726T094343Z
UID:10001287-1692981000-1692988200@kuopionkirjasto.fi
SUMMARY:Taiteiden yön leffat pääkirjastolla
DESCRIPTION:Pääkirjaston lasten- ja nuortenosastolla vietämme Taiteiden yötä 25.8. elokuvien parissa! \nLapsille ja lapsiperheille suunnattu esitys alkaa klo 13 ja silloin nähdään Sing 1. Leffan ikäsuositus on K7. \nKlo 16.30 alkavassa esityksessä leffana on Cruella\, jonka ikäsuositus on K12. \nMolemmat leffat katsellaan pääkirjaston kokoussalissa\, 1. krs. Tarjolla on myös elokuvien aihepiiriin liittyviä kirjavinkkejä ja pientä puuhaa. \nElokuvaesityksiin on vapaa pääsy\, tervetuloa!
URL:https://kuopionkirjasto.fi/event/taiteiden-yon-leffat-paakirjastolla/2023-08-25/2/
LOCATION:Pääkirjasto\, Maaherrankatu 12\, Kuopio\, 70100\, Suomi
CATEGORIES:Kaikki tapahtumat,Lapset ja nuoret
END:VEVENT
BEGIN:VEVENT
DTSTART;TZID=Europe/Helsinki:20230825T173000
DTEND;TZID=Europe/Helsinki:20230825T183000
DTSTAMP:20260420T031051
CREATED:20230703T105953Z
LAST-MODIFIED:20230703T140625Z
UID:10001210-1692984600-1692988200@kuopionkirjasto.fi
SUMMARY:Elämäni laulut -konsertti pääkirjastolla
DESCRIPTION:Satu Suhonen ja Matti Halmetvaara tutustuivat toisiinsa The Voice of Finland –ohjelman koelauluissa. Siitä alkoi ystävyys\, ja pian syntyi ajatus yhteisestä konsertista. Kun porukkaan vielä liittyi huikaisevan taitava pianovirtuoosi Tapio Nykänen\, oli paketti valmis. \nElämäni laulut -konsertti on ilahduttanut ja liikuttanut kuulijoita useilla paikkakunnilla ympäri Itä-Suomea ja nyt konsertti saapuu Kuopioon kuopiolaisille räätälöitynä versiona. Kuultavat laulut ja tarinat niiden takana on kerätty kesän aikana kuopiolaisilla. \nLuvassa on tunteikas ja elämänmakuinen ilta tuttujen pop- ja iskelmäkappaleiden siivittämänä. \nKonsertti on osa Meidän Kuopio -festivaalin Taiteiden Yö -tapahtumaa. \nVapaa pääsy!
URL:https://kuopionkirjasto.fi/event/elamani-laulut-konsertti-paakirjastolla/
LOCATION:Pääkirjasto\, Maaherrankatu 12\, Kuopio\, 70100\, Suomi
CATEGORIES:Kaikki tapahtumat,Musiikki
END:VEVENT
END:VCALENDAR