BEGIN:VCALENDAR
VERSION:2.0
PRODID:-//Kuopion kaupunginkirjasto - ECPv6.15.20//NONSGML v1.0//EN
CALSCALE:GREGORIAN
METHOD:PUBLISH
X-WR-CALNAME:Kuopion kaupunginkirjasto
X-ORIGINAL-URL:https://kuopionkirjasto.fi
X-WR-CALDESC:Tapahtumat Kuopion kaupunginkirjasto
REFRESH-INTERVAL;VALUE=DURATION:PT1H
X-Robots-Tag:noindex
X-PUBLISHED-TTL:PT1H
BEGIN:VTIMEZONE
TZID:Europe/Helsinki
BEGIN:DAYLIGHT
TZOFFSETFROM:+0200
TZOFFSETTO:+0300
TZNAME:EEST
DTSTART:20220327T010000
END:DAYLIGHT
BEGIN:STANDARD
TZOFFSETFROM:+0300
TZOFFSETTO:+0200
TZNAME:EET
DTSTART:20221030T010000
END:STANDARD
BEGIN:DAYLIGHT
TZOFFSETFROM:+0200
TZOFFSETTO:+0300
TZNAME:EEST
DTSTART:20230326T010000
END:DAYLIGHT
BEGIN:STANDARD
TZOFFSETFROM:+0300
TZOFFSETTO:+0200
TZNAME:EET
DTSTART:20231029T010000
END:STANDARD
BEGIN:DAYLIGHT
TZOFFSETFROM:+0200
TZOFFSETTO:+0300
TZNAME:EEST
DTSTART:20240331T010000
END:DAYLIGHT
BEGIN:STANDARD
TZOFFSETFROM:+0300
TZOFFSETTO:+0200
TZNAME:EET
DTSTART:20241027T010000
END:STANDARD
END:VTIMEZONE
BEGIN:VEVENT
DTSTART;TZID=Europe/Helsinki:20231006T080000
DTEND;TZID=Europe/Helsinki:20231028T150000
DTSTAMP:20260419T220236
CREATED:20231006T085904Z
LAST-MODIFIED:20231006T085904Z
UID:10001390-1696579200-1698505200@kuopionkirjasto.fi
SUMMARY:Tuusniemen kirjaston näyttelyitä lokakuussa
DESCRIPTION:Ritva Salon Veikeät virkatut koirat\nesillä 30.9.–28.10.2023.\nHahmot perustuvat Kerry Lordin samannimiseen kirjaan. \nLisäksi Tuusniemen alakoulun 3.–4.-luokkalaisten kuviskerholaisten taidetta\nnäytteillä lokakuun ajan. \nTervetuloa!
URL:https://kuopionkirjasto.fi/event/tuusniemen-kirjaston-nayttelyita-lokakuussa/
LOCATION:Tuusniemen kirjasto\, Keskitie 34-38\, Tuusniemi\, 71201\, Suomi
CATEGORIES:Kaikki tapahtumat,Näyttelyt
END:VEVENT
BEGIN:VEVENT
DTSTART;TZID=Europe/Helsinki:20231009T170000
DTEND;TZID=Europe/Helsinki:20231009T180000
DTSTAMP:20260419T220236
CREATED:20230802T093016Z
LAST-MODIFIED:20230802T093016Z
UID:10001308-1696870800-1696874400@kuopionkirjasto.fi
SUMMARY:Svenska klubben
DESCRIPTION:Haluaisitko puhua ruotsia\, mutta et tiedä\, kenen kanssa?\nKom med i Svenska klubben!\n \nKuopion kaupunginkirjaston ja Pohjola-Nordenin Svenska klubben on ruotsinkielinen keskustelukerho kaikentasoisille puhujille. Kokoonnumme noin joka toinen viikko pääkirjaston Kohtaamo-tilassa (1. kerros) klo 17. \nKokoontumiskerrat syyskaudella: \nTO 7.9. klo 17\nTO 21.9. klo 17\nMA 9.10. klo 17\nMA 23.10. klo 17\nMA 6.11. klo 17\nMA 20.11. klo 17\nMA 4.12. klo 17 \nTervetuloa mukaan!
URL:https://kuopionkirjasto.fi/event/svenska-klubben/2023-10-09/
LOCATION:Pääkirjasto\, Maaherrankatu 12\, Kuopio\, 70100\, Suomi
CATEGORIES:Kaikki tapahtumat,Muut tapahtumat
END:VEVENT
BEGIN:VEVENT
DTSTART;TZID=Europe/Helsinki:20231010T160000
DTEND;TZID=Europe/Helsinki:20231010T173000
DTSTAMP:20260419T220236
CREATED:20230719T101031Z
LAST-MODIFIED:20230719T101031Z
UID:10001262-1696953600-1696959000@kuopionkirjasto.fi
SUMMARY:Jynkän kirjaston lukupiiri
DESCRIPTION:  \nSyksyllä 2023 Jynkän kirjaston lukupiiri kokoontuu tiistaisin klo 16.00–17.30: \n12.9.\nHarper Lee: Kuin surmaisi satakielen \n10.10.\nVesa Haapala: Alexis : elämänkertomus \n7.11.  \nMaria Turtschaninoff: Suomaa \n12.12.\nJoel Haahtela: Yö Whistlerin maalauksessa
URL:https://kuopionkirjasto.fi/event/jynkan-kirjaston-lukupiiri-2/2023-10-10/
LOCATION:Jynkän kirjasto\, Maitotie 2\, Kuopio\, 70780\, Suomi
CATEGORIES:Kaikki tapahtumat,Kaikki tapahtumat - kirjallisuus,Kirjallisuus
END:VEVENT
BEGIN:VEVENT
DTSTART;TZID=Europe/Helsinki:20231011T093000
DTEND;TZID=Europe/Helsinki:20231011T100000
DTSTAMP:20260419T220236
CREATED:20230804T095722Z
LAST-MODIFIED:20231126T175650Z
UID:10001372-1697016600-1697018400@kuopionkirjasto.fi
SUMMARY:Kirjastohetket Jynkän kirjastossa syksyllä 2023
DESCRIPTION:Kirjastohetket Jynkän kirjastossa pidetään: \npe 18.8. klo 9.30  \nke 27.9. klo 9.30    \nma 11.10. klo 9.30\nTeemana Tytöt pystyy mihin vaan! (Kirjaston oma tilaisuus) \npe 3.11. klo 9.30  \npe 1.12. klo 9.30  \nYhteistyössä Sanataidekoulu Aapeli  \n 
URL:https://kuopionkirjasto.fi/event/55480/2023-10-11/
LOCATION:Jynkän kirjasto\, Maitotie 2\, Kuopio\, 70780\, Suomi
CATEGORIES:Kaikki tapahtumat,Lapset ja nuoret
END:VEVENT
BEGIN:VEVENT
DTSTART;TZID=Europe/Helsinki:20231011T100000
DTEND;TZID=Europe/Helsinki:20231011T103000
DTSTAMP:20260419T220236
CREATED:20230804T062720Z
LAST-MODIFIED:20231026T095712Z
UID:10001318-1697018400-1697020200@kuopionkirjasto.fi
SUMMARY:Pääkirjaston satutunnit syksyllä 2023
DESCRIPTION:Satutunnit pidetään lasten- ja nuortenosastolla keskiviikkoisin klo 10. Satutunti kestää n. puoli tuntia ja se sopii  3-7 -vuotiaille. Kerran kuussa satutunti on tukiviitottu. \nHUOM! Syyskuun satutunnit pidetään pääkirjaston kokoussalissa\, 1. krs. \nEi ennakkoilmoittautumista. Tervetuloa! \nLisätiedot sähköpostilla lastenosasto.kirjasto@kuopio.fi tai numerosta 044 7182 321. \n 
URL:https://kuopionkirjasto.fi/event/paakirjaston-satutunnit-syksylla-2023/2023-10-11/
LOCATION:Pääkirjasto\, Maaherrankatu 12\, Kuopio\, 70100\, Suomi
CATEGORIES:Kaikki tapahtumat,Lapset ja nuoret
END:VEVENT
BEGIN:VEVENT
DTSTART;TZID=Europe/Helsinki:20231012T130000
DTEND;TZID=Europe/Helsinki:20231012T150000
DTSTAMP:20260419T220236
CREATED:20230710T083911Z
LAST-MODIFIED:20230710T084958Z
UID:10001235-1697115600-1697122800@kuopionkirjasto.fi
SUMMARY:Kirja- ja elokuvapiiri
DESCRIPTION:Kirja- ja elokuvapiirissä keskustellaan ensin kirjasta\, minkä jälkeen seuraavalla kokoontumiskerralla katsotaan kirjaan pohjautuva elokuva. \n\n\n\n\nKokoontuminen alla ilmoitettuina päivinä klo 13 pääkirjaston koulutustilassa (lastenosaston perällä) \n\n\n\n\n\n\n\nTo 12.10.\nDelia Owens: Suon villi laulu \nTo 19.10.\nSuon villi laulu -elokuvan katsominen ja vertaileva keskustelu \n\n\n\n\n\n\nTo 30.11.\nKathryn Stockett: Piiat \n\n\n\n\n\n\nTo 7.12.\nPiiat-elokuvan katsominen ja vertaileva keskustelu
URL:https://kuopionkirjasto.fi/event/kirja-ja-elokuvapiiri/2023-10-12/
LOCATION:Pääkirjasto\, Maaherrankatu 12\, Kuopio\, 70100\, Suomi
CATEGORIES:Kaikki tapahtumat,Kaikki tapahtumat - kirjallisuus,Kirjallisuus
END:VEVENT
BEGIN:VEVENT
DTSTART;TZID=Europe/Helsinki:20231012T140000
DTEND;TZID=Europe/Helsinki:20231012T150000
DTSTAMP:20260419T220236
CREATED:20230922T100003Z
LAST-MODIFIED:20230922T101252Z
UID:10001373-1697119200-1697122800@kuopionkirjasto.fi
SUMMARY:Koululaisten lukupiiri Jynkän kirjastossa
DESCRIPTION:Koululaisten lukupiiri on aloittanut Jynkässä \nLukupiirissä luetaan\, jutellaan lukemisesta ja tehdään sanataidetta kuukausittain vaihtuvan teeman mukaisesti. Luettaviksi valitaan ikä- ja lukutaitoon sopivia kirjoja. \nLukupiiriin voi tulla joka kerta tai itselle sopivana kertana.\nKokoonnutaan Jynkän kirjastossa joka kuukauden toinen torstai klo 14. \nSyksyn päivämäärät ovat:\nto 12.10. (kauhu/jännitys)\nto 9.11.\nto 7.12.  \nLukupiirikirjoja voi tulla lukemaan läksyparkkiin iltapäivisin klo 12-14\, jolloin kiinnitämme erityisesti huomiota tunnelmaan\, jossa on hyvä lukea\, keskittyä ja tehdä läksyjä. \nTervetuloa!
URL:https://kuopionkirjasto.fi/event/koululaisten-lukupiiri-jynkan-kirjastossa/2023-10-12/
LOCATION:Jynkän kirjasto\, Maitotie 2\, Kuopio\, 70780\, Suomi
CATEGORIES:Kaikki tapahtumat,Kaikki tapahtumat - kirjallisuus,Lapset ja nuoret
END:VEVENT
BEGIN:VEVENT
DTSTART;TZID=Europe/Helsinki:20231012T170000
DTEND;TZID=Europe/Helsinki:20231012T180000
DTSTAMP:20260419T220236
CREATED:20230919T114525Z
LAST-MODIFIED:20231005T125532Z
UID:10001370-1697130000-1697133600@kuopionkirjasto.fi
SUMMARY:Syntytarinat-klubilla vieraana kirjailija Sirpa Kähkönen
DESCRIPTION:Kirjaston Syntytarinat-klubilla pääkirjaston ylälavalla vierailee kirjailija Sirpa Kähkönen aiheenaan Kadonnutta kaupunkia etsimässä. \nKähkönen kertoo uutuusteoksensa 36 uurnaa synnystä sekä Kuopio-sarjastaan. \nIstumapaikkoja on rajoitettu määrä\, mutta tilaisuutta voi seurata myös livenä kirjaston Facebook-sivulla.
URL:https://kuopionkirjasto.fi/event/syntytarinat-klubilla-vieraana-kirjailija-sirpa-kahkonen/
LOCATION:Pääkirjasto\, Maaherrankatu 12\, Kuopio\, 70100\, Suomi
CATEGORIES:Kaikki tapahtumat,Kaikki tapahtumat - kirjallisuus,Kirjallisuus
END:VEVENT
BEGIN:VEVENT
DTSTART;TZID=Europe/Helsinki:20231012T173000
DTEND;TZID=Europe/Helsinki:20231012T183000
DTSTAMP:20260419T220236
CREATED:20230816T085830Z
LAST-MODIFIED:20230816T085830Z
UID:10001346-1697131800-1697135400@kuopionkirjasto.fi
SUMMARY:Sarjakuvalukupiiri
DESCRIPTION:Kaipaatko nopeaa luettavaa? Haluaisitko jutella muiden kirjallisuudesta ja sarjakuvista kiinnostuneiden kanssa? Tule sarjakuvalukupiiriin! \nSarjispiiri kokoontuu jälleen etänä! Tapaamme syksyllä 2023 kolme kertaa torstai-iltaisin ilmaisen Zoom-palvelun välityksellä. Lukupiirissä jutellaan teoksen herättämistä ajatuksista rennosti ja matalalla kynnyksellä. \nto 7.9. klo 17.30\nJohanna Aulén: Tsernobylin koirat \nto 12.10. klo 17.30\nJupu: Koirapuistojen nainen \nto 30.11. klo 17.30\nAlice Oseman: Heartstopper 1 \nOsallistumislinkki: https://us02web.zoom.us/j/94649957647 (lyhytlinkki )\nOsallistumistunnus mobiililaitteille: 946 4995 7647. \nSarjakuva-asiantuntemusta ei tarvita\, ja mukaan voi tulla yhdelle tai useammalle kerralle. Ei ole väliä\, oletko meille jo vanha tuttu vai onko tämä ensimmäinen kertasi lukupiirissä koskaan. \nLukupiiri toimii hyvin myös kirjavinkkauksena – tule kuuntelemaan keskustelua\, jos haluat löytää uutta kiinnostavaa luettavaa! Etälukupiiriin voi osallistua kuka vain ja mistä päin maailmaa tahansa! \nTervetuloa! \n 
URL:https://kuopionkirjasto.fi/event/sarjakuvalukupiiri-2/2023-10-12/
LOCATION:Etäyhteydellä\, Suomi
CATEGORIES:Kaikki tapahtumat,Kirjallisuus
END:VEVENT
END:VCALENDAR