BEGIN:VCALENDAR
VERSION:2.0
PRODID:-//Kuopion kaupunginkirjasto - ECPv6.15.20//NONSGML v1.0//EN
CALSCALE:GREGORIAN
METHOD:PUBLISH
X-ORIGINAL-URL:https://kuopionkirjasto.fi
X-WR-CALDESC:Tapahtumat Kuopion kaupunginkirjasto
REFRESH-INTERVAL;VALUE=DURATION:PT1H
X-Robots-Tag:noindex
X-PUBLISHED-TTL:PT1H
BEGIN:VTIMEZONE
TZID:Europe/Helsinki
BEGIN:DAYLIGHT
TZOFFSETFROM:+0200
TZOFFSETTO:+0300
TZNAME:EEST
DTSTART:20220327T010000
END:DAYLIGHT
BEGIN:STANDARD
TZOFFSETFROM:+0300
TZOFFSETTO:+0200
TZNAME:EET
DTSTART:20221030T010000
END:STANDARD
BEGIN:DAYLIGHT
TZOFFSETFROM:+0200
TZOFFSETTO:+0300
TZNAME:EEST
DTSTART:20230326T010000
END:DAYLIGHT
BEGIN:STANDARD
TZOFFSETFROM:+0300
TZOFFSETTO:+0200
TZNAME:EET
DTSTART:20231029T010000
END:STANDARD
BEGIN:DAYLIGHT
TZOFFSETFROM:+0200
TZOFFSETTO:+0300
TZNAME:EEST
DTSTART:20240331T010000
END:DAYLIGHT
BEGIN:STANDARD
TZOFFSETFROM:+0300
TZOFFSETTO:+0200
TZNAME:EET
DTSTART:20241027T010000
END:STANDARD
END:VTIMEZONE
BEGIN:VEVENT
DTSTART;TZID=Europe/Helsinki:20231006T080000
DTEND;TZID=Europe/Helsinki:20231028T150000
DTSTAMP:20260420T012625
CREATED:20231006T085904Z
LAST-MODIFIED:20231006T085904Z
UID:10001390-1696579200-1698505200@kuopionkirjasto.fi
SUMMARY:Tuusniemen kirjaston näyttelyitä lokakuussa
DESCRIPTION:Ritva Salon Veikeät virkatut koirat\nesillä 30.9.–28.10.2023.\nHahmot perustuvat Kerry Lordin samannimiseen kirjaan. \nLisäksi Tuusniemen alakoulun 3.–4.-luokkalaisten kuviskerholaisten taidetta\nnäytteillä lokakuun ajan. \nTervetuloa!
URL:https://kuopionkirjasto.fi/event/tuusniemen-kirjaston-nayttelyita-lokakuussa/
LOCATION:Tuusniemen kirjasto\, Keskitie 34-38\, Tuusniemi\, 71201\, Suomi
CATEGORIES:Kaikki tapahtumat,Näyttelyt
END:VEVENT
BEGIN:VEVENT
DTSTART;TZID=Europe/Helsinki:20231016T080000
DTEND;TZID=Europe/Helsinki:20231029T160000
DTSTAMP:20260420T012625
CREATED:20230630T100855Z
LAST-MODIFIED:20230630T100855Z
UID:10001209-1697443200-1698595200@kuopionkirjasto.fi
SUMMARY:Mylly 2023 -vuosinäyttely
DESCRIPTION:MYLLY 2023 -vuosinäyttely\nLuovien alojen yhdistys Pro Mylly ry
URL:https://kuopionkirjasto.fi/event/mylly-2023-vuosinayttely/
LOCATION:Pääkirjasto\, Maaherrankatu 12\, Kuopio\, 70100\, Suomi
CATEGORIES:Kaikki tapahtumat,Näyttelyt
END:VEVENT
BEGIN:VEVENT
DTSTART;TZID=Europe/Helsinki:20231023T170000
DTEND;TZID=Europe/Helsinki:20231023T180000
DTSTAMP:20260420T012625
CREATED:20230802T093016Z
LAST-MODIFIED:20230802T093016Z
UID:10001309-1698080400-1698084000@kuopionkirjasto.fi
SUMMARY:Svenska klubben
DESCRIPTION:Haluaisitko puhua ruotsia\, mutta et tiedä\, kenen kanssa?\nKom med i Svenska klubben!\n \nKuopion kaupunginkirjaston ja Pohjola-Nordenin Svenska klubben on ruotsinkielinen keskustelukerho kaikentasoisille puhujille. Kokoonnumme noin joka toinen viikko pääkirjaston Kohtaamo-tilassa (1. kerros) klo 17. \nKokoontumiskerrat syyskaudella: \nTO 7.9. klo 17\nTO 21.9. klo 17\nMA 9.10. klo 17\nMA 23.10. klo 17\nMA 6.11. klo 17\nMA 20.11. klo 17\nMA 4.12. klo 17 \nTervetuloa mukaan!
URL:https://kuopionkirjasto.fi/event/svenska-klubben/2023-10-23/
LOCATION:Pääkirjasto\, Maaherrankatu 12\, Kuopio\, 70100\, Suomi
CATEGORIES:Kaikki tapahtumat,Muut tapahtumat
END:VEVENT
BEGIN:VEVENT
DTSTART;TZID=Europe/Helsinki:20231025T100000
DTEND;TZID=Europe/Helsinki:20231025T103000
DTSTAMP:20260420T012625
CREATED:20230804T062720Z
LAST-MODIFIED:20231026T095712Z
UID:10001320-1698228000-1698229800@kuopionkirjasto.fi
SUMMARY:Pääkirjaston satutunnit syksyllä 2023
DESCRIPTION:Satutunnit pidetään lasten- ja nuortenosastolla keskiviikkoisin klo 10. Satutunti kestää n. puoli tuntia ja se sopii  3-7 -vuotiaille. Kerran kuussa satutunti on tukiviitottu. \nHUOM! Syyskuun satutunnit pidetään pääkirjaston kokoussalissa\, 1. krs. \nEi ennakkoilmoittautumista. Tervetuloa! \nLisätiedot sähköpostilla lastenosasto.kirjasto@kuopio.fi tai numerosta 044 7182 321. \n 
URL:https://kuopionkirjasto.fi/event/paakirjaston-satutunnit-syksylla-2023/2023-10-25/
LOCATION:Pääkirjasto\, Maaherrankatu 12\, Kuopio\, 70100\, Suomi
CATEGORIES:Kaikki tapahtumat,Lapset ja nuoret
END:VEVENT
BEGIN:VEVENT
DTSTART;TZID=Europe/Helsinki:20231025T170000
DTEND;TZID=Europe/Helsinki:20231025T180000
DTSTAMP:20260420T012625
CREATED:20230712T113313Z
LAST-MODIFIED:20230712T123008Z
UID:10001241-1698253200-1698256800@kuopionkirjasto.fi
SUMMARY:Luontokirjalukupiiri
DESCRIPTION:Luontokirjalukupiiri kokoontuu kerran kuukaudessa keskiviikkoisin klo 17.00–18.00. Lukupiirissä tutustutaan kiehtovan ajankohtaisiin teoksiin ja keskustellaan niiden herättämistä ajatuksista. Kirjallisuus- tai ympäristöasiantuntemusta ei tarvita\, ja mukaan voi tulla yhdelle tai useammalle kerralle. Lukupiiri toimii hyvin myös kirjavinkkauksena – keskustelun kuunteleminen on mainio tapa löytää kiinnostavaa luettavaa! \nLukupiiri järjestetään verkossa Zoom-alustalla.\nOsallistumaan pääset linkillä https://zoom.us/j/99576520794 tai QR-koodilla:\n\nEnnakkoilmoittautumista ei tarvita.\nLisätietoja saa osoitteesta aikuistenosasto.kirjasto@kuopio.fi \nKe 23.8.2023\nKunttu\, Panu: Kaikki luodon linnut\nMyös e-kirjana: Kaikki luodon linnut / E-kirja (bibliolibrary.fi) \nKe 27.9.2023\nAaltola\, Elisa: Esseitä eläimistä\nMyös e-äänikirjana: Esseitä eläimistä / Äänikirja (bibliolibrary.fi) \nKe 25.10.2023\nPowers\, Richard: Hämmästys \n 
URL:https://kuopionkirjasto.fi/event/luontokirjalukupiiri-3/2023-10-25/
LOCATION:Etäyhteydellä\, Suomi
CATEGORIES:Kaikki tapahtumat,Kaikki tapahtumat - kirjallisuus,Kirjallisuus
ATTACH;FMTTYPE=image/jpeg:https://kuopionkirjasto.fi/wp-content/uploads/2023/07/landscape-g9bfe32d9c_1280.jpg
END:VEVENT
END:VCALENDAR