BEGIN:VCALENDAR
VERSION:2.0
PRODID:-//Kuopion kaupunginkirjasto - ECPv6.15.20//NONSGML v1.0//EN
CALSCALE:GREGORIAN
METHOD:PUBLISH
X-ORIGINAL-URL:https://kuopionkirjasto.fi
X-WR-CALDESC:Tapahtumat Kuopion kaupunginkirjasto
REFRESH-INTERVAL;VALUE=DURATION:PT1H
X-Robots-Tag:noindex
X-PUBLISHED-TTL:PT1H
BEGIN:VTIMEZONE
TZID:Europe/Helsinki
BEGIN:DAYLIGHT
TZOFFSETFROM:+0200
TZOFFSETTO:+0300
TZNAME:EEST
DTSTART:20220327T010000
END:DAYLIGHT
BEGIN:STANDARD
TZOFFSETFROM:+0300
TZOFFSETTO:+0200
TZNAME:EET
DTSTART:20221030T010000
END:STANDARD
BEGIN:DAYLIGHT
TZOFFSETFROM:+0200
TZOFFSETTO:+0300
TZNAME:EEST
DTSTART:20230326T010000
END:DAYLIGHT
BEGIN:STANDARD
TZOFFSETFROM:+0300
TZOFFSETTO:+0200
TZNAME:EET
DTSTART:20231029T010000
END:STANDARD
BEGIN:DAYLIGHT
TZOFFSETFROM:+0200
TZOFFSETTO:+0300
TZNAME:EEST
DTSTART:20240331T010000
END:DAYLIGHT
BEGIN:STANDARD
TZOFFSETFROM:+0300
TZOFFSETTO:+0200
TZNAME:EET
DTSTART:20241027T010000
END:STANDARD
END:VTIMEZONE
BEGIN:VEVENT
DTSTART;TZID=Europe/Helsinki:20231113T100000
DTEND;TZID=Europe/Helsinki:20231119T160000
DTSTAMP:20260419T201142
CREATED:20230303T094912Z
LAST-MODIFIED:20230303T094912Z
UID:10001122-1699869600-1700409600@kuopionkirjasto.fi
SUMMARY:Kirjakantti 20 vuotta
DESCRIPTION:Kirjallisuustapahtuma Kirjakantin 20-vuotisjuhlanäyttely. \nTervetuloa! \n \n 
URL:https://kuopionkirjasto.fi/event/kirjakantti-20-vuotta/
LOCATION:Pääkirjasto\, Maaherrankatu 12\, Kuopio\, 70100\, Suomi
CATEGORIES:Kaikki tapahtumat,Näyttelyt
END:VEVENT
BEGIN:VEVENT
DTSTART;TZID=Europe/Helsinki:20231114T173000
DTEND;TZID=Europe/Helsinki:20231114T183000
DTSTAMP:20260419T201142
CREATED:20230713T053255Z
LAST-MODIFIED:20231013T104522Z
UID:10001248-1699983000-1699986600@kuopionkirjasto.fi
SUMMARY:Klassikkolukupiiri
DESCRIPTION:Klassikkolukupiiri kokoontuu syksyllä kerran kuussa tiistaisin klo 17.30–18.30 pääkirjaston koulutustilassa (1.kerros\, lasten- ja nuortenosaston perällä). \nIlmoittautumista tai kirjallisuuden tuntemusta ei tarvita\, ja mukaan voit tulla useammalle tai vaikka vain yhdellekin kerralle. \nti 12.9. \nRichard Adams: Ruohometsän kansa \nti 17.10.\nWilliam Golding: Kärpästen herra \nti 14.11.\nJane Austen: Viisasteleva sydän \nti 19.12.\nGeorge Orwell: 1984
URL:https://kuopionkirjasto.fi/event/klassikkolukupiiri-3/2023-11-14/
LOCATION:Pääkirjasto\, Maaherrankatu 12\, Kuopio\, 70100\, Suomi
CATEGORIES:Kaikki tapahtumat,Kaikki tapahtumat - kirjallisuus,Kirjallisuus
END:VEVENT
BEGIN:VEVENT
DTSTART;TZID=Europe/Helsinki:20231115T100000
DTEND;TZID=Europe/Helsinki:20231115T103000
DTSTAMP:20260419T201142
CREATED:20231026T095900Z
LAST-MODIFIED:20231201T120517Z
UID:10001323-1700042400-1700044200@kuopionkirjasto.fi
SUMMARY:Pääkirjaston satutunnit syksyllä 2023
DESCRIPTION:Satutunnit pidetään lasten- ja nuortenosastolla keskiviikkoisin klo 10. Satutunti kestää n. puoli tuntia ja se sopii  3–7-vuotiaille. Kerran kuussa satutunti on myös tukiviitottu. \nHUOM! Syyskuun satutunnit pidetään pääkirjaston kokoussalissa\, 1. krs. \nEi ennakkoilmoittautumista. Tervetuloa! \nLisätiedot sähköpostilla lastenosasto.kirjasto@kuopio.fi tai numerosta 044 7182 321. \n 
URL:https://kuopionkirjasto.fi/event/paakirjaston-satutunnit-syksylla-2023-2/2023-11-15/
LOCATION:Pääkirjasto\, Maaherrankatu 12\, Kuopio\, 70100\, Suomi
CATEGORIES:Kaikki tapahtumat,Lapset ja nuoret
END:VEVENT
BEGIN:VEVENT
DTSTART;TZID=Europe/Helsinki:20231116T170000
DTEND;TZID=Europe/Helsinki:20231116T180000
DTSTAMP:20260419T201142
CREATED:20231108T110615Z
LAST-MODIFIED:20231108T110615Z
UID:10001409-1700154000-1700157600@kuopionkirjasto.fi
SUMMARY:Runokantti
DESCRIPTION:Runokantissa pääkirjaston 2. kerroksen lavalla vieraana kaksinkertainen lavarunouden Suomen mestari Juho Kuusi. Haastattelijana Jukka Kervinen. \nVierailijaosuuden jälkeen lava on vapaa\, eli open mic kutsuu esittämään omia runoja paikalle saapuneelle live-yleisölle. \nTervetuloa!
URL:https://kuopionkirjasto.fi/event/runokantti/
LOCATION:Pääkirjasto\, Maaherrankatu 12\, Kuopio\, 70100\, Suomi
CATEGORIES:Kaikki tapahtumat,Kaikki tapahtumat - kirjallisuus,Kirjallisuus
END:VEVENT
BEGIN:VEVENT
DTSTART;TZID=Europe/Helsinki:20231116T170000
DTEND;TZID=Europe/Helsinki:20231116T180000
DTSTAMP:20260419T201142
CREATED:20231110T112121Z
LAST-MODIFIED:20231110T112121Z
UID:10001414-1700154000-1700157600@kuopionkirjasto.fi
SUMMARY:Luupin alla -keskustelutilaisuus Maaningan kirjastossa
DESCRIPTION:Kaikille avoin Luupin alla -keskustelutilaisuus ajankohtaisista aiheista Maaningan lähikirjastossa to 16.11. klo 17.00 alkaen. Vetäjänä Lena Markio. \nTervetuloa mukaan vaihtamaan mielipiteitä! \nTapahtuma on osa Kuopion kaupunginkirjaston Demokratiatyön askelkuvioita kirjastossa -hanketta.
URL:https://kuopionkirjasto.fi/event/luupin-alla-keskustelutilaisuus-maaningan-kirjastossa-3/
LOCATION:Maaningan kirjasto\, Keskusraitti 3\, Maaninka\, 71750\, Suomi
CATEGORIES:Kaikki tapahtumat,Muut tapahtumat
END:VEVENT
BEGIN:VEVENT
DTSTART;TZID=Europe/Helsinki:20231117T091500
DTEND;TZID=Europe/Helsinki:20231117T094500
DTSTAMP:20260419T201142
CREATED:20230721T061436Z
LAST-MODIFIED:20230721T061436Z
UID:10001278-1700212500-1700214300@kuopionkirjasto.fi
SUMMARY:Kirjastohetket Pyörön kirjastossa
DESCRIPTION:Tervetuloa lasten kirjastohetkiin Pyörön kirjastoon! Kirjastohetket on ensisijaisesti tarkoitettu ilmoitetuille ikäryhmille. Hetket ovat maksuttomia. \nYhteistyössä Sanataidekoulu Aapeli.
URL:https://kuopionkirjasto.fi/event/kirjastohetket-pyoron-kirjastossa/2023-11-17/
LOCATION:Pyörön kirjasto\, Jalkasenkatu 3\, Kuopio\, 70820\, Suomi
CATEGORIES:Kaikki tapahtumat,Lapset ja nuoret
END:VEVENT
BEGIN:VEVENT
DTSTART;TZID=Europe/Helsinki:20231117T170000
DTEND;TZID=Europe/Helsinki:20231117T183000
DTSTAMP:20260419T201142
CREATED:20231108T115714Z
LAST-MODIFIED:20231108T120313Z
UID:10001410-1700240400-1700245800@kuopionkirjasto.fi
SUMMARY:Savonia-kirjallisuuspalkintoehdokkaiden julkistamistilaisuus
DESCRIPTION:Savonia-kirjallisuuspalkinto jaetaan vuosittain tunnustuspalkintona savolaiselle kirjailijalle kyseisenä vuonna julkaistusta merkittävästä kaunokirjallisesta teoksesta. \nSavonia-palkintoehdokkaiden julkistamistilaisuus pe 17.11. klo 17 alkaen Palkintokantin yhteydessä pääkirjaston kokoussalissa (1. krs) \nLue lisää Savonia-kirjallisuuspalkinnosta Kuopion kaupungin verkkosivuilta \nPalkintokantin sisältö Kirjakantin sivuilla \nTervetuloa tapahtumaan!
URL:https://kuopionkirjasto.fi/event/savonia-kirjallisuuspalkintoehdokkaiden-julkistamistilaisuus/
LOCATION:Pääkirjasto\, Maaherrankatu 12\, Kuopio\, 70100\, Suomi
CATEGORIES:Kaikki tapahtumat,Kaikki tapahtumat - kirjallisuus,Kirjallisuus
END:VEVENT
BEGIN:VEVENT
DTSTART;TZID=Europe/Helsinki:20231118T100000
DTEND;TZID=Europe/Helsinki:20231118T120000
DTSTAMP:20260419T201142
CREATED:20231115T104009Z
LAST-MODIFIED:20231116T122520Z
UID:10001415-1700301600-1700308800@kuopionkirjasto.fi
SUMMARY:Vauvojen hyvinvointinurkkaus
DESCRIPTION:Lauantaina 18.11. on pääkirjaston lasten- ja nuortenosaston taaperotilassa  tarjolla vauvakelluttelua Vauvojen hyvinvointinurkassa. Läsnäoloharjoitukset kestävät 10 min. ja alkavat klo 10.15\, 10.45 ja 11.45. \nLisää Lapsen oikeuksien toimintapäivän ohjelmaa Kantissa löydät täältä: Lapsen oikeuksien toimintapäivä – Kuopion museot \nTilaisuudet ovat maksuttomia ja ne järjestää ILONA -yhteistyöverkosto.
URL:https://kuopionkirjasto.fi/event/vauvojen-hyvinvointinurkkaus/
LOCATION:Pääkirjasto\, Maaherrankatu 12\, Kuopio\, 70100\, Suomi
CATEGORIES:Kaikki tapahtumat,Lapset ja nuoret
END:VEVENT
BEGIN:VEVENT
DTSTART;TZID=Europe/Helsinki:20231118T103000
DTEND;TZID=Europe/Helsinki:20231118T153000
DTSTAMP:20260419T201142
CREATED:20231108T132304Z
LAST-MODIFIED:20231108T132304Z
UID:10001411-1700303400-1700321400@kuopionkirjasto.fi
SUMMARY:Suo rauha -kirjallisuustapahtuma (Kirjakantti)
DESCRIPTION:Vuoden 2023 Kirjakanttiin liittyvän Suo Rauha -kirjallisuustapahtuman osuudet pääkirjaston kokoussalissa (1. krs) lauantaina 18.11. klo 10.30 alkaen: \n10.30–12.00\nLuontorauha\, kehohäpeä ja riitit\nKirjailija Pauliina Kainulainen\, haastattelijana Markus Finnilä.\nLoitsut/runot Mirjam Silvén\, loitsututkija Ilona Tuomi\, kolumnisti Jamie Vesterinen sekä kokemusasiantuntijoita. Keskustelua yleisön kanssa johdattelee\nfasilitaattori Tuija Raitanen.\n\n12.30–13.15\nLukurauha – Lasten ja nuorten kirjallisuus\nKirjailijat Tatu Kokko ja Anne Leinonen. Haastattelijana Solja\nKrapu-Kallio.\n\n13.30–14.15\nSuo muistaa\nKirjailijat Jenni Räinä ja Maria Turtschaninoff. Haastattelijana Aino-Maria Savolainen.\n\n14.30–15.30\nVenäjä\, Venäjä\, Venäjä\nKeskustelemassa kirjailijat Janne Saarikivi ja Jouni Tossavainen \nTervetuloa seuraamaan tilaisuutta!
URL:https://kuopionkirjasto.fi/event/suo-rauha-kirjallisuustapahtuma-kirjakantti/
LOCATION:Pääkirjasto\, Maaherrankatu 12\, Kuopio\, 70100\, Suomi
CATEGORIES:Kaikki tapahtumat,Kaikki tapahtumat - kirjallisuus,Kirjallisuus
END:VEVENT
END:VCALENDAR