BEGIN:VCALENDAR
VERSION:2.0
PRODID:-//Kuopion kaupunginkirjasto - ECPv6.15.20//NONSGML v1.0//EN
CALSCALE:GREGORIAN
METHOD:PUBLISH
X-ORIGINAL-URL:https://kuopionkirjasto.fi
X-WR-CALDESC:Tapahtumat Kuopion kaupunginkirjasto
REFRESH-INTERVAL;VALUE=DURATION:PT1H
X-Robots-Tag:noindex
X-PUBLISHED-TTL:PT1H
BEGIN:VTIMEZONE
TZID:Europe/Helsinki
BEGIN:DAYLIGHT
TZOFFSETFROM:+0200
TZOFFSETTO:+0300
TZNAME:EEST
DTSTART:20220327T010000
END:DAYLIGHT
BEGIN:STANDARD
TZOFFSETFROM:+0300
TZOFFSETTO:+0200
TZNAME:EET
DTSTART:20221030T010000
END:STANDARD
BEGIN:DAYLIGHT
TZOFFSETFROM:+0200
TZOFFSETTO:+0300
TZNAME:EEST
DTSTART:20230326T010000
END:DAYLIGHT
BEGIN:STANDARD
TZOFFSETFROM:+0300
TZOFFSETTO:+0200
TZNAME:EET
DTSTART:20231029T010000
END:STANDARD
BEGIN:DAYLIGHT
TZOFFSETFROM:+0200
TZOFFSETTO:+0300
TZNAME:EEST
DTSTART:20240331T010000
END:DAYLIGHT
BEGIN:STANDARD
TZOFFSETFROM:+0300
TZOFFSETTO:+0200
TZNAME:EET
DTSTART:20241027T010000
END:STANDARD
END:VTIMEZONE
BEGIN:VEVENT
DTSTART;TZID=Europe/Helsinki:20231201T080000
DTEND;TZID=Europe/Helsinki:20231223T160000
DTSTAMP:20260419T181152
CREATED:20231130T085044Z
LAST-MODIFIED:20231130T085424Z
UID:10001418-1701417600-1703347200@kuopionkirjasto.fi
SUMMARY:Mysteeripaketit
DESCRIPTION:Tuntuuko että joulu ei saavu ollenkaan? Ei hätää\, kirjastotontut ovat koonneet pääkirjaston lasten- ja nuortenosastolle mysteeripakettien joulukuusen\, jonka oksilta voi käydä lainaamassa mysteeriluettavaa joulunodotusta helpottamaan! Tarkista vain pakettikortin väristä minkä ikäiselle lukijalle teos on tarkoitettu ja lainaa paketti lastenosaston asiakaspalvelusta. Paketit ovat lainattavissa 1. – 23.12.2023. \nMukavaa joulunodotusta kaikille!
URL:https://kuopionkirjasto.fi/event/mysteeripaketit/
LOCATION:Pääkirjasto\, Maaherrankatu 12\, Kuopio\, 70100\, Suomi
CATEGORIES:Kaikki tapahtumat,Lapset ja nuoret
END:VEVENT
BEGIN:VEVENT
DTSTART;TZID=Europe/Helsinki:20231219T170000
DTEND;TZID=Europe/Helsinki:20231219T183000
DTSTAMP:20260419T181152
CREATED:20230515T083715Z
LAST-MODIFIED:20240510T092812Z
UID:10001294-1703005200-1703010600@kuopionkirjasto.fi
SUMMARY:Kielikahvila / Language Café\, Neulamäki
DESCRIPTION:KIELIKAHVILA\n \nNeulamäen lähikirjastossa seuraavina tiistaipäivinä klo 17.00–18.30\n30.1. | 27.2. | 26.3. | 28.5. \nLets speak suomi! Tule Neulamäen kirjaston kielikahvilaan pelaamaan lautapelejä ja harjoittelemaan suomea rennossa ilmapiirissä. \nNeulamäen kirjaston kielikahvila on kaikille avoin tapahtuma\, jossa harjoitellaan puhumaan suomea mukavassa ilmapiirissä. Vapaamuotoisen keskustelun ja pelien lomassa tutustuu myös helposti uusiin ihmisiin ja kulttuureihin\, mutta toki tilaisuuteen saa osallistua ihan vaan kuuntelijanakin. \n\nTutustu uusiin ihmisiin\nJuttele ja rupattele\nOpi puhumaan suomea rennossa porukassa pelaten hauskoja pelejä\n\nNeulamäen kirjaston työntekijät osallistuvat peleihin ja keskusteluun sekä keräävät ideoita kielikahvilan kehittämiseen. \nTule mukaan vaikka koko perheen voimin ja ota mukaan rentoa asennetta ja hymyä! Tarjolla on kahvia ja teetä. \nTapahtuma on maksuton\, eikä siihen tarvitse ilmoittautua etukäteen. \nTervetuloa! \n\n\nLANGUAGE CAFÉ\nOn following Tuesdays 5PM–6.30PM\n30 Jan | 27 Feb | 26 March | 28 May\nat NEULAMÄKI LIBRARY \nLets speak Suomi! Welcome to Neulamäki Library Language Café to play boardgames and learn Finnish.  \nNeulamäki Library Language Café is an open\, relaxed event where you can practice speaking Finnish in a comfortable atmosphere. When you strike up a conversation\, it’s easy to get to know new people and cultures.  Of course\, you can also participate just by listening! \n\nMeet new people\nChat and exchange thoughts\nLearn to speak Finnish in a casual group\, playing fun board games\n\nLibrary staff will also take part in the games and conversations to collect ideas for future gatherings. \nSo come along\, bring a relaxed attitude and a smile! You can take your whole family with you if you like! No registration needed. Coffee and tea available. \n \n 
URL:https://kuopionkirjasto.fi/event/kielikahvila-language-cafe-neulamaki-3/2023-12-19/
LOCATION:Neulamäen kirjasto\, Juontotie 6\, Kuopio\, 70150\, Suomi
CATEGORIES:Kaikki tapahtumat,Muut tapahtumat
END:VEVENT
BEGIN:VEVENT
DTSTART;TZID=Europe/Helsinki:20231219T173000
DTEND;TZID=Europe/Helsinki:20231219T183000
DTSTAMP:20260419T181152
CREATED:20230713T053255Z
LAST-MODIFIED:20231013T104522Z
UID:10001249-1703007000-1703010600@kuopionkirjasto.fi
SUMMARY:Klassikkolukupiiri
DESCRIPTION:Klassikkolukupiiri kokoontuu syksyllä kerran kuussa tiistaisin klo 17.30–18.30 pääkirjaston koulutustilassa (1.kerros\, lasten- ja nuortenosaston perällä). \nIlmoittautumista tai kirjallisuuden tuntemusta ei tarvita\, ja mukaan voit tulla useammalle tai vaikka vain yhdellekin kerralle. \nti 12.9. \nRichard Adams: Ruohometsän kansa \nti 17.10.\nWilliam Golding: Kärpästen herra \nti 14.11.\nJane Austen: Viisasteleva sydän \nti 19.12.\nGeorge Orwell: 1984
URL:https://kuopionkirjasto.fi/event/klassikkolukupiiri-3/2023-12-19/
LOCATION:Pääkirjasto\, Maaherrankatu 12\, Kuopio\, 70100\, Suomi
CATEGORIES:Kaikki tapahtumat,Kaikki tapahtumat - kirjallisuus,Kirjallisuus
END:VEVENT
BEGIN:VEVENT
DTSTART;TZID=Europe/Helsinki:20231220T100000
DTEND;TZID=Europe/Helsinki:20231220T103000
DTSTAMP:20260419T181152
CREATED:20231026T095900Z
LAST-MODIFIED:20231201T120517Z
UID:10001328-1703066400-1703068200@kuopionkirjasto.fi
SUMMARY:Pääkirjaston satutunnit syksyllä 2023
DESCRIPTION:Satutunnit pidetään lasten- ja nuortenosastolla keskiviikkoisin klo 10. Satutunti kestää n. puoli tuntia ja se sopii  3–7-vuotiaille. Kerran kuussa satutunti on myös tukiviitottu. \nHUOM! Syyskuun satutunnit pidetään pääkirjaston kokoussalissa\, 1. krs. \nEi ennakkoilmoittautumista. Tervetuloa! \nLisätiedot sähköpostilla lastenosasto.kirjasto@kuopio.fi tai numerosta 044 7182 321. \n 
URL:https://kuopionkirjasto.fi/event/paakirjaston-satutunnit-syksylla-2023-2/2023-12-20/
LOCATION:Pääkirjasto\, Maaherrankatu 12\, Kuopio\, 70100\, Suomi
CATEGORIES:Kaikki tapahtumat,Lapset ja nuoret
END:VEVENT
END:VCALENDAR