BEGIN:VCALENDAR
VERSION:2.0
PRODID:-//Kuopion kaupunginkirjasto - ECPv6.15.20//NONSGML v1.0//EN
CALSCALE:GREGORIAN
METHOD:PUBLISH
X-ORIGINAL-URL:https://kuopionkirjasto.fi
X-WR-CALDESC:Tapahtumat Kuopion kaupunginkirjasto
REFRESH-INTERVAL;VALUE=DURATION:PT1H
X-Robots-Tag:noindex
X-PUBLISHED-TTL:PT1H
BEGIN:VTIMEZONE
TZID:Europe/Helsinki
BEGIN:DAYLIGHT
TZOFFSETFROM:+0200
TZOFFSETTO:+0300
TZNAME:EEST
DTSTART:20250330T010000
END:DAYLIGHT
BEGIN:STANDARD
TZOFFSETFROM:+0300
TZOFFSETTO:+0200
TZNAME:EET
DTSTART:20251026T010000
END:STANDARD
BEGIN:DAYLIGHT
TZOFFSETFROM:+0200
TZOFFSETTO:+0300
TZNAME:EEST
DTSTART:20260329T010000
END:DAYLIGHT
BEGIN:STANDARD
TZOFFSETFROM:+0300
TZOFFSETTO:+0200
TZNAME:EET
DTSTART:20261025T010000
END:STANDARD
BEGIN:DAYLIGHT
TZOFFSETFROM:+0200
TZOFFSETTO:+0300
TZNAME:EEST
DTSTART:20270328T010000
END:DAYLIGHT
BEGIN:STANDARD
TZOFFSETFROM:+0300
TZOFFSETTO:+0200
TZNAME:EET
DTSTART:20271031T010000
END:STANDARD
END:VTIMEZONE
BEGIN:VEVENT
DTSTART;TZID=Europe/Helsinki:20260420T090000
DTEND;TZID=Europe/Helsinki:20260529T160000
DTSTAMP:20260421T010036
CREATED:20260420T100900Z
LAST-MODIFIED:20260420T100900Z
UID:10003140-1776675600-1780070400@kuopionkirjasto.fi
SUMMARY:Kuopion kansalaisopiston piirustus- ja maalausryhmän näyttely
DESCRIPTION:Tuusniemen kirjastolla esillä Kuopion kansalaisopiston piirustus- ja maalausryhmän töitä.\n\nTervetuloa tutustumaan!
URL:https://kuopionkirjasto.fi/event/kuopion-kansalaisopiston-piirustus-ja-maalausryhman-nayttely/
LOCATION:Tuusniemen kirjasto\, Keskitie 34-38\, Tuusniemi\, 71201\, Suomi
CATEGORIES:Kaikki tapahtumat,Näyttelyt
END:VEVENT
BEGIN:VEVENT
DTSTART;TZID=Europe/Helsinki:20260420T100000
DTEND;TZID=Europe/Helsinki:20260430T150000
DTSTAMP:20260421T010036
CREATED:20260114T122045Z
LAST-MODIFIED:20260127T110100Z
UID:10002991-1776679200-1777561200@kuopionkirjasto.fi
SUMMARY:Jälkihuoltonuorten kokemuksia
DESCRIPTION:Yhdessä osallisiksi – Mieliteko 2.0 -hankkeeseen liittyvä näyttely jossa esillä jälkihuollossa olevien nuorten tuottamia maalauksia\, valokuvia\, tekstejä ja videoita. \nNäyttely pyrkii tuomaan näkyväksi jälkihuoltonuorten arkea valoineen ja varjoineen sekä herättämään keskustelua lastensuojelun kehittämiseksi. \nTervetuloa! \n \n  \n 
URL:https://kuopionkirjasto.fi/event/jalkihuoltonuorten-kokemuksia/
LOCATION:Pääkirjasto\, Maaherrankatu 12\, Kuopio\, 70100\, Suomi
CATEGORIES:Kaikki tapahtumat,Näyttelyt
END:VEVENT
BEGIN:VEVENT
DTSTART;TZID=Europe/Helsinki:20260428T130000
DTEND;TZID=Europe/Helsinki:20260428T150000
DTSTAMP:20260421T010036
CREATED:20251218T103254Z
LAST-MODIFIED:20260119T100122Z
UID:10002943-1777381200-1777388400@kuopionkirjasto.fi
SUMMARY:Lego-iltapäivät pääkirjastolla
DESCRIPTION:Tervetuloa viettämään mukavaa iltapäivää Kuopion pääkirjastolle legorakentelun merkeissä! \nLegopajassa pääset rakentelemaan vapaasti omia hienoja rakennelmia tai haastamaan itsesi nostamalla rakennushaasteen kirjaston haastehatusta! \nLego-iltapäivät keväällä 2026 pääkirjaston lasten- ja nuortenosaston työpajatilassa klo 13–15 seuraavina päivinä: \nti 20.1.\nti 17.2.\nti 31.3.\nti 28.4.\nti 26.5. \n 
URL:https://kuopionkirjasto.fi/event/lego-iltapaivat-paakirjastolla/2026-04-28/
LOCATION:Pääkirjasto\, Maaherrankatu 12\, Kuopio\, 70100\, Suomi
CATEGORIES:Kaikki tapahtumat,Lapset ja nuoret,Muut tapahtumat
END:VEVENT
BEGIN:VEVENT
DTSTART;TZID=Europe/Helsinki:20260428T140000
DTEND;TZID=Europe/Helsinki:20260428T150000
DTSTAMP:20260421T010036
CREATED:20260226T082520Z
LAST-MODIFIED:20260226T082520Z
UID:10003037-1777384800-1777388400@kuopionkirjasto.fi
SUMMARY:Pulkonkosken lukupiiri
DESCRIPTION:Tervetuloa Pulkonkosken lukupiiriin!\nKokoontumispaikka: Puoti ja kahvila Pulkko \nJärjestäjä: Maaningan kirjasto\n\nKokoontumisajat ja kirjat: \nTi 27.1. klo 14–15\nToshikazu Kawaguchi: Ennen kuin kahvi jäähtyy\n\nTi 24.2. klo 14–15\nValérie Perrin: Vettä kukille\n\nTi 17.3. klo 14–15\nHUOM! Aikaistunut ja poikkeuksellisesti Kurolanlahden nuorisoseurantalolla!\nAntti Tuuri: Mies kuin pantteri\n\nTi 28.4. klo 14–15\nAndrei Kurkov: Harmaat mehiläiset \nTi 26.5. klo 14–15\nAnna Soudakova: Varjele varjoani \n 
URL:https://kuopionkirjasto.fi/event/pulkonkosken-lukupiiri-2/2026-04-28/
LOCATION:Puoti ja kahvila Pulkko\, Pulkonkoskentie 540\, 71680 Pulkonkoski
CATEGORIES:Kaikki tapahtumat,Kaikki tapahtumat - kirjallisuus,Kirjallisuus
END:VEVENT
BEGIN:VEVENT
DTSTART;TZID=Europe/Helsinki:20260428T170000
DTEND;TZID=Europe/Helsinki:20260428T180000
DTSTAMP:20260421T010036
CREATED:20240624T101940Z
LAST-MODIFIED:20260108T132241Z
UID:10003030-1777395600-1777399200@kuopionkirjasto.fi
SUMMARY:Kielikahvila / Language Café\, Neulamäki
DESCRIPTION:Let’s speak Suomi! Tule Neulamäen kirjaston kielikahvilaan harjoittelemaan suomea rennossa ilmapiirissä. \nKielikahvila on kaikille avoin\, rento tapahtuma\, jossa pelataan hauskoja pelejä ja harjoitellaan puhumaan suomea. Vapaamuotoisen keskustelun ja pelien lomassa tutustuu myös helposti uusiin ihmisiin ja kulttuureihin\, mutta toki tilaisuuteen saa osallistua ihan vain kuuntelijanakin. \nKirjaston työntekijät osallistuvat peleihin ja keskusteluun sekä keräävät ideoita kielikahvilan kehittämiseen. \nTule mukaan ja ota mukaan rentoa asennetta ja hymyä – vaikka koko perheen voimin! Tarjolla on kahvia ja teetä! \nTapahtuma on maksuton\, eikä siihen tarvitse ilmoittautua etukäteen. \nTervetuloa! \n\nLets speak Suomi! Welcome to Neulamäki Library Language Café to learn to speak Finnish in a relaxed atmosphere. \nNeulamäki Library Language Café is an open\, relaxed event where you can practice speaking Finnish while playing board games. When you strike up a conversation\, it’s easy to get to know new people and cultures.  Of course\, you can also participate just by listening! \nLibrary staff will also take part in the games and conversations to collect ideas for future gatherings. \nSo come along\, bring a relaxed attitude and a smile! You can take your whole family with you if you like! No registration needed. Coffee and tea available. \n\n  \nПоговорим по-фински! Приглашаем в языковое кафе библиотеки Нэуламяки практиковаться в финском языке в непринужденной обстановке. \nЯзыковое кафе — это свободное мероприятие\, открытое для всех\, где можно играть в различные игры и практиковаться в разговорной речи на финском языке. А также это возможность познакомиться с новыми людьми и другими культурами во время беседы и игр\, которые проходят в свободной форме. Или быть просто в качестве слушателя. \nСотрудники библиотеки участвуют в играх и дискуссиях\, а также принимают новые идеи для дальнейшего развия библиотечных услуг. \nПриходите хоть всей семьей! \nС собой хорошее настроение и улыбку – кофе и чай уже есть! \nМероприятие бесплатное\, предварительная регистрация не требуется. \nДобро пожаловать! \n27.1.\, 24.2.\, 31.3.\, 28.4.\, 26.5.
URL:https://kuopionkirjasto.fi/event/kielikahvila-language-cafe-neulamaki-4/2026-04-28/
LOCATION:Neulamäen kirjasto\, Juontotie 6\, Kuopio\, 70150\, Suomi
CATEGORIES:Kaikki tapahtumat,Muut tapahtumat
END:VEVENT
BEGIN:VEVENT
DTSTART;TZID=Europe/Helsinki:20260429T100000
DTEND;TZID=Europe/Helsinki:20260429T103000
DTSTAMP:20260421T010036
CREATED:20251211T121548Z
LAST-MODIFIED:20260227T104156Z
UID:10002893-1777456800-1777458600@kuopionkirjasto.fi
SUMMARY:Pääkirjaston satutunnit kevät 2026
DESCRIPTION:Satutunnit pidetään keskiviikkoisin klo 10 pääkirjaston lasten- ja nuortenosastolla\, Kantti-satuhetket museon monitoimitilassa. \nSatuhetki kestää n. 30 minuuttia ja se sopii parhaiten 3–7-vuotiaille. \n7.1. Pimeitä juttuja \n14.1. Lunta tupruttaa (tukiviitottu) \n21.1. Kantti-satuhetki: Karhu-satutunti lasten- ja nuortenosastolla \n28.1. Oma koti kullan kallis \n4.2. Kaverin kanssa \n11.2. Kengurun loikka \n18.2. Mitä tehtäisiin (tukiviitottu) \n25.2. Kaupungilla \n4.3. Mummolassa \n11.3. Kotiaskareita (tukiviitottu) \n18.3. Jään alla \n25.3. Terveiset kanalasta \n1.4. Aprillia! \n8.4. Hurjat hevoset \n15.4. Kantti-satuhetki: Tähtitarinoita-satutunti museon monitoimitilassa \n22.4. Pehmoiset nallekarhut (tukiviitottu) \n29.4. Melkoinen karnevaali! \n6.5. Kyllä äiti tietää \n13.5. Kukkia Kukan päivänä \n20.5. Lähdetään retkelle! (tukiviitottu) \n27.5. Kesän lämpöä \n  \n 
URL:https://kuopionkirjasto.fi/event/paakirjaston-satutunnit-kevat-2026/2026-04-29/
LOCATION:Pääkirjasto\, Maaherrankatu 12\, Kuopio\, 70100\, Suomi
CATEGORIES:Kaikki tapahtumat,Lapset ja nuoret
END:VEVENT
BEGIN:VEVENT
DTSTART;TZID=Europe/Helsinki:20260429T170000
DTEND;TZID=Europe/Helsinki:20260429T180000
DTSTAMP:20260421T010036
CREATED:20250801T080912Z
LAST-MODIFIED:20260408T062639Z
UID:10003004-1777482000-1777485600@kuopionkirjasto.fi
SUMMARY:Svenska klubben
DESCRIPTION:Haluaisitko puhua ruotsia\, mutta et tiedä kenen kanssa?\nTule mukaan matalan kynnyksen ruotsinkieliseen keskustelukerhoon pääkirjastolla. Olet tervetullut kielitaidosta riippumatta! \nKokoonnumme pääkirjaston Kohtaamo-tilassa klo 17 seuraavina päivinä: \nke 14.1. | to 5.2. | ke 25.2. | to 19.3. | to 9.4. | ke 29.4. | ke 20.5. \nYhteistyössä mukana Kuopion Pohjola-Norden.
URL:https://kuopionkirjasto.fi/event/svenska-klubben-4/2026-04-29/
LOCATION:Pääkirjasto\, Maaherrankatu 12\, Kuopio\, 70100\, Suomi
CATEGORIES:Kaikki tapahtumat,Muut tapahtumat
END:VEVENT
BEGIN:VEVENT
DTSTART;TZID=Europe/Helsinki:20260429T170000
DTEND;TZID=Europe/Helsinki:20260429T180000
DTSTAMP:20260421T010036
CREATED:20260420T110055Z
LAST-MODIFIED:20260420T110321Z
UID:10003141-1777482000-1777485600@kuopionkirjasto.fi
SUMMARY:Kirjailijavieraana Ari Voutilainen
DESCRIPTION:Kirjanjulkistamistilaisuus Puijonlaakson kirjastossa ke 29.4. klo 17\nAri Voutilainen: Päivänsankari ja kuokkavieras (Momentum Kirjat\, 2026). \nAri Voutilainen (s.1974) on Tuusniemellä syntynyt ja kasvanut\, aikuisiällään kuopiolaistunut tieteentekijä\, joka on väitellyt tohtoriksi sekä biologiasta että epidemiologiasta. Hänen esikoisromaaninsa Eilispäivän haamut (Momentum Kirjat\, 2024) oli ­Savonia-palkintoehdokas. \nTilaisuuden juontaa Olavi Rytkönen. Kuulijoilla on mahdollisuus ostaa kirjailijan signeeraamia teoksia paikan päällä. \nTervetuloa! \nAri Voutilainen. – Kuva: Studio Eveliisa \n 
URL:https://kuopionkirjasto.fi/event/kirjailijavieraana-ari-voutilainen/
LOCATION:Puijonlaakson kirjasto\, Mailatie 2\, Kuopio\, 70200\, Suomi
CATEGORIES:Kaikki tapahtumat,Kaikki tapahtumat - kirjallisuus,Kirjallisuus
END:VEVENT
BEGIN:VEVENT
DTSTART;TZID=Europe/Helsinki:20260429T173000
DTEND;TZID=Europe/Helsinki:20260429T183000
DTSTAMP:20260421T010036
CREATED:20260119T144607Z
LAST-MODIFIED:20260203T123753Z
UID:10003074-1777483800-1777487400@kuopionkirjasto.fi
SUMMARY:English Book Club
DESCRIPTION:Welcome to English Book Club! \n\nVenue: Main library learning space\, 1st floor\, at the back of children’s section (”Koulutustila”) \nWe meet once a month to chat in English about a book\, author\, or literary theme we’ve chosen together. The books can be read in any language! At our first gathering\, we’ll pick the books and themes for the spring. We are open to everyone\, no registration required. Feel free to join any sessions you like! \nOur book club is led by a volunteer who speaks English. Finnish-speaking library staff will be there to help out during the first few sessions. \nWe meet on following Wednesdays from 17:30 to 18:30: \n\n\n28.1.\nChoosing the books and planning the spring together\n\n\n25.2. \nJulian Barnes: Sense of an Ending\n\n\n25.3.\nJeanine Cummins: American Dirt (Note: This week\, we meet exceptionally in the workshop space at the back of children’s section)\n\n29.4.\nTheme to be announced later\n\n\n\n\nPlease ask about the availability of the books at the main library customer service!
URL:https://kuopionkirjasto.fi/event/61976/2026-04-29/
LOCATION:Pääkirjaston koulutustila (1. krs)\, Maaherrankatu 12\, Kuopio\, 70100\, Suomi
CATEGORIES:Kaikki tapahtumat,Kaikki tapahtumat - kirjallisuus,Kirjallisuus
END:VEVENT
BEGIN:VEVENT
DTSTART;TZID=Europe/Helsinki:20260430T093000
DTEND;TZID=Europe/Helsinki:20260430T100000
DTSTAMP:20260421T010036
CREATED:20251215T091020Z
LAST-MODIFIED:20251215T091020Z
UID:10002931-1777541400-1777543200@kuopionkirjasto.fi
SUMMARY:Satujengi Nilsiän kirjastossa
DESCRIPTION:Satujengi kokoontuu Nilsiän kirjaston lastenosastolla 8.1.2026 alkaen torstaisin klo 9.30.  \nTervetuloa!
URL:https://kuopionkirjasto.fi/event/satujengi-nilsian-kirjastossa/2026-04-30/
LOCATION:Nilsiän kirjasto\, Ukko-Paavontie 15\, Nilsiä\, 73300\, Suomi
CATEGORIES:Kaikki tapahtumat,Lapset ja nuoret
END:VEVENT
END:VCALENDAR