BEGIN:VCALENDAR
VERSION:2.0
PRODID:-//Kuopion kaupunginkirjasto - ECPv6.15.20//NONSGML v1.0//EN
CALSCALE:GREGORIAN
METHOD:PUBLISH
X-ORIGINAL-URL:https://kuopionkirjasto.fi
X-WR-CALDESC:Tapahtumat Kuopion kaupunginkirjasto
REFRESH-INTERVAL;VALUE=DURATION:PT1H
X-Robots-Tag:noindex
X-PUBLISHED-TTL:PT1H
BEGIN:VTIMEZONE
TZID:Europe/Helsinki
BEGIN:DAYLIGHT
TZOFFSETFROM:+0200
TZOFFSETTO:+0300
TZNAME:EEST
DTSTART:20250330T010000
END:DAYLIGHT
BEGIN:STANDARD
TZOFFSETFROM:+0300
TZOFFSETTO:+0200
TZNAME:EET
DTSTART:20251026T010000
END:STANDARD
BEGIN:DAYLIGHT
TZOFFSETFROM:+0200
TZOFFSETTO:+0300
TZNAME:EEST
DTSTART:20260329T010000
END:DAYLIGHT
BEGIN:STANDARD
TZOFFSETFROM:+0300
TZOFFSETTO:+0200
TZNAME:EET
DTSTART:20261025T010000
END:STANDARD
BEGIN:DAYLIGHT
TZOFFSETFROM:+0200
TZOFFSETTO:+0300
TZNAME:EEST
DTSTART:20270328T010000
END:DAYLIGHT
BEGIN:STANDARD
TZOFFSETFROM:+0300
TZOFFSETTO:+0200
TZNAME:EET
DTSTART:20271031T010000
END:STANDARD
END:VTIMEZONE
BEGIN:VEVENT
DTSTART;TZID=Europe/Helsinki:20260528T093000
DTEND;TZID=Europe/Helsinki:20260528T100000
DTSTAMP:20260423T134046
CREATED:20251215T091020Z
LAST-MODIFIED:20251215T091020Z
UID:10002934-1779960600-1779962400@kuopionkirjasto.fi
SUMMARY:Satujengi Nilsiän kirjastossa
DESCRIPTION:Satujengi kokoontuu Nilsiän kirjaston lastenosastolla 8.1.2026 alkaen torstaisin klo 9.30.  \nTervetuloa!
URL:https://kuopionkirjasto.fi/event/satujengi-nilsian-kirjastossa/2026-05-28/
LOCATION:Nilsiän kirjasto\, Ukko-Paavontie 15\, Nilsiä\, 73300\, Suomi
CATEGORIES:Kaikki tapahtumat,Lapset ja nuoret
END:VEVENT
BEGIN:VEVENT
DTSTART;TZID=Europe/Helsinki:20260528T100000
DTEND;TZID=Europe/Helsinki:20260528T183000
DTSTAMP:20260423T134046
CREATED:20260416T083032Z
LAST-MODIFIED:20260416T083156Z
UID:10003139-1779962400-1779993000@kuopionkirjasto.fi
SUMMARY:Poistobasaari pääkirjastolla
DESCRIPTION:Pääkirjastolla pidetään jälleen kerran poistobasaari eli kirjaston kokoelmista poistettujen kirjojen ja muun aineiston myyntitapahtuma! \n\n\n\nPoistobasaari on avoinna pääkirjaston 2. kerroksessa: \n\n\n\n\nti 26.5. klo 10–18.30\n\n\n\nke 27.5. klo 10–18.30\nto 28.5. klo 10–18.30\n\n\n\n\n…tai niin kauan kuin myytävää riittää! \nSaatavilla on aikuistenkirjoja sekä lasten- ja nuortenkirjoja. Myös poistettua musiikkiaineistoa ja lautapelejä on myynnissä. \nPoistoaineiston hinta on 0\,50 €/kpl ellei toisin mainita. \n\n\n\nTervetuloa tekemään löytöjä!
URL:https://kuopionkirjasto.fi/event/poistobasaari-paakirjastolla-2/2026-05-28/
LOCATION:Pääkirjasto\, Maaherrankatu 12\, Kuopio\, 70100\, Suomi
CATEGORIES:Kaikki tapahtumat,Muut tapahtumat
END:VEVENT
BEGIN:VEVENT
DTSTART;TZID=Europe/Helsinki:20260528T170000
DTEND;TZID=Europe/Helsinki:20260528T180000
DTSTAMP:20260423T134046
CREATED:20251212T112721Z
LAST-MODIFIED:20260126T103359Z
UID:10002910-1779987600-1779991200@kuopionkirjasto.fi
SUMMARY:Lukukoiran vastaanotto Maaningan kirjastossa
DESCRIPTION:Lukukoira Lumo ohjaajansa kanssa ottaa vastaan lukuharjoittelijoita Maaningan kirjastossa. Jokaisella kerralla on tarjolla 4 lukuaikaa. \nLukuaika varataan Maaningan kirjaston asiakaspalvelusta paikan päällä tai soittamalla 044 748 8401. \nLukukerrat keväällä 2026: \n8.1. klo 17–18 \n29.1. klo 17–18 \n19.2. klo 17–18 \n12.3. klo 17–18 \n9.4. klo 17–18 \n7.5. klo 17–18 \n28.5. klo 17–18
URL:https://kuopionkirjasto.fi/event/lukukoiran-vastaanotto-maaningan-kirjastossa/2026-05-28/
LOCATION:Maaningan kirjasto\, Keskusraitti 3\, Maaninka\, 71750\, Suomi
CATEGORIES:Kaikki tapahtumat,Lapset ja nuoret
END:VEVENT
BEGIN:VEVENT
DTSTART;TZID=Europe/Helsinki:20260530T100000
DTEND;TZID=Europe/Helsinki:20260530T115500
DTSTAMP:20260423T134046
CREATED:20251119T132856Z
LAST-MODIFIED:20260126T110408Z
UID:10002813-1780135200-1780142100@kuopionkirjasto.fi
SUMMARY:Lukukoira Valman vastaanotto
DESCRIPTION:Lukukoira Valma ohjaajansa kanssa ottaa vastaan lukuharjoittelijoita Kuopion pääkirjaston lukukoiratilassa (1. krs.) \nKEVÄT 2026 \nla 10.1. klo 10–11.35 (5 lukijaa) \nla 31.1. klo 10–11.35 (5 lukijaa) \nla 21.2. klo 10–11.55 (6 lukijaa) \nla 7.3. klo 10–11.55 (6 lukijaa) \nla 28.3. klo 10–11.55 (6 lukijaa) \nla 11.4. klo 10–11.55 (6 lukijaa) \nla 9.5. klo 10–11.55 (6 lukijaa) \nla 30.5. klo 10–11.55 (6 lukijaa) \nYksi lukuaika on n. 15 minuuttia. Kannustamme lukijoita varaamaan lukuaikoja peräkkäisille vastaanotoille – tämä tehostaa harjoittelua. \nLukuaika varataan pääkirjaston lasten- ja nuortenosaston asiakaspalvelusta paikan päällä tai soittamalla p. 0447182321. Aikaa varatessa annetaan lukijan nimi ja ikä sekä huoltajan yhteystieto. Ilmoitathan kirjastolle\, jos joudut perumaan lukuajan! \nTervetuloa!
URL:https://kuopionkirjasto.fi/event/lukukoira-valman-vastaanotto-2/2026-05-30/
LOCATION:Pääkirjasto\, Maaherrankatu 12\, Kuopio\, 70100\, Suomi
CATEGORIES:Kaikki tapahtumat,Lapset ja nuoret
END:VEVENT
BEGIN:VEVENT
DTSTART;TZID=Europe/Helsinki:20260601T090000
DTEND;TZID=Europe/Helsinki:20260606T150000
DTSTAMP:20260423T134046
CREATED:20260413T100805Z
LAST-MODIFIED:20260413T100805Z
UID:10003135-1780304400-1780758000@kuopionkirjasto.fi
SUMMARY:Kuopion Energian historiaa kuvina
DESCRIPTION:Kuopion Energian 120-vuotisjuhlanäyttelyssä esillä kuvia energiantuotannon ja -jakelun historiasta Kuopiossa. Tervetuloa!
URL:https://kuopionkirjasto.fi/event/kuopion-energian-historiaa-kuvina/
LOCATION:Pääkirjaston ala-aula\, Maaherrankatu 12\, Kuopio\, 70100\, Suomi
CATEGORIES:Kaikki tapahtumat,Näyttelyt
END:VEVENT
BEGIN:VEVENT
DTSTART;TZID=Europe/Helsinki:20260603T160000
DTEND;TZID=Europe/Helsinki:20260603T180000
DTSTAMP:20260423T134046
CREATED:20260423T101720Z
LAST-MODIFIED:20260423T103622Z
UID:10003143-1780502400-1780509600@kuopionkirjasto.fi
SUMMARY:Pääkirjaston kesäkeskiviikot
DESCRIPTION:3.6. Kivimaalauspaja\nKlo 16–18 | pääkirjaston etunurmi\nAnna kivelle uusi elämä! Tuo mukanasi oma kivi ja maalaa siitä todellinen taideteos huikein värein! Huonon sään sattuessa kiviä maalataan lasten- ja nuortenosaston työpajatilassa. \nTapahtuman ikäsuositus on 7–200 vuotta. Nuoremmat taiteilijat ovat tervetulleita mukaan täysi-ikäisen huoltajan seurassa. \nTervetuloa viettämään mukavia kesäpäiviä pääkirjastolle! Huomioittehan kuitenkin\, että lapsi on Kesäkeskiviikko-tapahtumien aikana kirjastossa huoltajan vastuulla ja että kirjaston leffahetkissä noudatetaan KAVI:n asettamia ikärajamerkintöjä. Ikärajan jousto on kolme vuotta\, mikäli lapsi osallistuu leffahetkeen täysi-ikäisen\, tutun huoltajan kanssa.
URL:https://kuopionkirjasto.fi/event/paakirjaston-kesakeskiviikot/
LOCATION:Pääkirjasto\, Maaherrankatu 12\, Kuopio\, 70100\, Suomi
CATEGORIES:Kaikki tapahtumat,Lapset ja nuoret,Muut tapahtumat
END:VEVENT
BEGIN:VEVENT
DTSTART;TZID=Europe/Helsinki:20260604T140000
DTEND;TZID=Europe/Helsinki:20260604T143000
DTSTAMP:20260423T134046
CREATED:20260420T132205Z
LAST-MODIFIED:20260420T132205Z
UID:10003142-1780581600-1780583400@kuopionkirjasto.fi
SUMMARY:Ääni ja kitara - Gabriele Gigliucci esiintyy
DESCRIPTION:Tervetuloa torstaina 4.6.2026 klo 14 Jynkän kirjastoon kuuntelemaan\, kun italialainen Gabriele Gigliucci laulaa kappaleita suomeksi ja säestää itseään kitaralla. Vapaa pääsy!
URL:https://kuopionkirjasto.fi/event/aani-ja-kitara-gabriele-gigliucci-esiintyy/
LOCATION:Jynkän kirjasto\, Maitotie 2\, Kuopio\, 70780\, Suomi
CATEGORIES:Kaikki tapahtumat,Musiikki
END:VEVENT
BEGIN:VEVENT
DTSTART;TZID=Europe/Helsinki:20260608T090000
DTEND;TZID=Europe/Helsinki:20260613T150000
DTSTAMP:20260423T134046
CREATED:20260311T131743Z
LAST-MODIFIED:20260312T065808Z
UID:10003115-1780909200-1781362800@kuopionkirjasto.fi
SUMMARY:Taisteluarvet
DESCRIPTION:Mielenterveysteemaisessa Taisteluarvet-näyttelyssä esillä muotokuvia nuorista sekä heidän tarinoitaan selviytymisestä. \nTervetuloa! \n \n 
URL:https://kuopionkirjasto.fi/event/taisteluarvet/
LOCATION:Pääkirjaston ala-aula\, Maaherrankatu 12\, Kuopio\, 70100\, Suomi
CATEGORIES:Kaikki tapahtumat,Näyttelyt
END:VEVENT
BEGIN:VEVENT
DTSTART;TZID=Europe/Helsinki:20260610T160000
DTEND;TZID=Europe/Helsinki:20260610T183000
DTSTAMP:20260423T134046
CREATED:20260423T101932Z
LAST-MODIFIED:20260423T103503Z
UID:10003144-1781107200-1781116200@kuopionkirjasto.fi
SUMMARY:Pääkirjaston kesäkeskiviikot
DESCRIPTION:10.6. Nuorten leffahetki\nklo 16–18.30 | lasten- ja nuortenosaston koulutustila\nRento elokuvahetki nuorille. Omat leffaherkut ovat tervetulleita\, mutta myös pientä naposteltavaa on tarjolla.\nElokuvana Prinsessa Mononoke (ikäraja K12\, kesto n. 2 h) \nTervetuloa viettämään mukavia kesäpäiviä pääkirjastolle! Huomioittehan kuitenkin\, että lapsi on Kesäkeskiviikko-tapahtumien aikana kirjastossa huoltajan vastuulla ja että kirjaston leffahetkissä noudatetaan KAVI:n asettamia ikärajamerkintöjä. Ikärajan jousto on kolme vuotta\, mikäli lapsi osallistuu leffahetkeen täysi-ikäisen\, tutun huoltajan kanssa.
URL:https://kuopionkirjasto.fi/event/paakirjaston-kesakeskiviikot-2/
LOCATION:Pääkirjasto\, Maaherrankatu 12\, Kuopio\, 70100\, Suomi
CATEGORIES:Kaikki tapahtumat,Lapset ja nuoret,Muut tapahtumat
END:VEVENT
BEGIN:VEVENT
DTSTART;TZID=Europe/Helsinki:20260617T100000
DTEND;TZID=Europe/Helsinki:20260617T120000
DTSTAMP:20260423T134046
CREATED:20260423T102108Z
LAST-MODIFIED:20260423T103422Z
UID:10003145-1781690400-1781697600@kuopionkirjasto.fi
SUMMARY:Pääkirjaston kesäkeskiviikot
DESCRIPTION:17.6. Kukkaketo-askartelu\nklo 10–12 | lasten- ja nuortenosaston työpajatila \nVirittäydy juhannuksen tunnelmaan askartelemalla oma värikäs kukkateos! Tule siis rohkeasti mukaan askartelemaan vesiväreillä koristelluista papereista oma kukkaketo! Millaisia kukkia siellä kasvaakaan? \nPajan ikäsuositus on 7+\, nuoremmat täysi-ikäisen huoltajan seurassa. \nTervetuloa viettämään mukavia kesäpäiviä pääkirjastolle! Huomioittehan kuitenkin\, että lapsi on Kesäkeskiviikko-tapahtumien aikana kirjastossa huoltajan vastuulla ja että kirjaston leffahetkissä noudatetaan KAVI:n asettamia ikärajamerkintöjä. Ikärajan jousto on kolme vuotta\, mikäli lapsi osallistuu leffahetkeen täysi-ikäisen\, tutun huoltajan kanssa.
URL:https://kuopionkirjasto.fi/event/paakirjaston-kesakeskiviikot-3/
LOCATION:Pääkirjasto\, Maaherrankatu 12\, Kuopio\, 70100\, Suomi
CATEGORIES:Kaikki tapahtumat,Lapset ja nuoret,Muut tapahtumat
END:VEVENT
BEGIN:VEVENT
DTSTART;TZID=Europe/Helsinki:20260624T101500
DTEND;TZID=Europe/Helsinki:20260624T113000
DTSTAMP:20260423T134046
CREATED:20260423T102308Z
LAST-MODIFIED:20260423T103347Z
UID:10003146-1782296100-1782300600@kuopionkirjasto.fi
SUMMARY:Pääkirjaston kesäkeskiviikot
DESCRIPTION:24.6. Lasten leffahetki\nklo 10.15 alkaen | lasten- ja nuortenosaston koulutustila\nLeppoisa elokuvahetki myös perheen pienimmille.\nElokuvana: Nalle Puh ja Möhköfantti (ikäraja S\, kesto 1 h 15 min). Puhuttu suomeksi. \nTervetuloa viettämään mukavia kesäpäiviä pääkirjastolle! Huomioittehan kuitenkin\, että lapsi on Kesäkeskiviikko-tapahtumien aikana kirjastossa huoltajan vastuulla ja että kirjaston leffahetkissä noudatetaan KAVI:n asettamia ikärajamerkintöjä. Ikärajan jousto on kolme vuotta\, mikäli lapsi osallistuu leffahetkeen täysi-ikäisen\, tutun huoltajan kanssa.
URL:https://kuopionkirjasto.fi/event/paakirjaston-kesakeskiviikot-4/
LOCATION:Pääkirjasto\, Maaherrankatu 12\, Kuopio\, 70100\, Suomi
CATEGORIES:Kaikki tapahtumat,Lapset ja nuoret,Muut tapahtumat
END:VEVENT
BEGIN:VEVENT
DTSTART;TZID=Europe/Helsinki:20260701T100000
DTEND;TZID=Europe/Helsinki:20260701T120000
DTSTAMP:20260423T134046
CREATED:20260423T102434Z
LAST-MODIFIED:20260423T103312Z
UID:10003147-1782900000-1782907200@kuopionkirjasto.fi
SUMMARY:Pääkirjaston kesäkeskiviikot
DESCRIPTION:1.7. Omatoiminen legopaja\nklo 10–12 | lasten- ja nuortenosaston työpajatila\nMitä sinä rakentaisit? Tule luomaan legoilla oma mestariteoksesi\, jossa mielikuvitus on rajana! Paja on omatoiminen. \nIkäsuositus on 10+\, nuoremmat huoltajan seurassa. \nTervetuloa viettämään mukavia kesäpäiviä pääkirjastolle! Huomioittehan kuitenkin\, että lapsi on Kesäkeskiviikko-tapahtumien aikana kirjastossa huoltajan vastuulla ja että kirjaston leffahetkissä noudatetaan KAVI:n asettamia ikärajamerkintöjä. Ikärajan jousto on kolme vuotta\, mikäli lapsi osallistuu leffahetkeen täysi-ikäisen\, tutun huoltajan kanssa.
URL:https://kuopionkirjasto.fi/event/paakirjaston-kesakeskiviikot-5/
LOCATION:Pääkirjasto\, Maaherrankatu 12\, Kuopio\, 70100\, Suomi
CATEGORIES:Kaikki tapahtumat,Lapset ja nuoret,Muut tapahtumat
END:VEVENT
BEGIN:VEVENT
DTSTART;TZID=Europe/Helsinki:20260708T101500
DTEND;TZID=Europe/Helsinki:20260708T121500
DTSTAMP:20260423T134046
CREATED:20260423T102747Z
LAST-MODIFIED:20260423T103111Z
UID:10003148-1783505700-1783512900@kuopionkirjasto.fi
SUMMARY:Pääkirjaston kesäkeskiviikot
DESCRIPTION:8.7. Lasten leffahetki\nklo 10.15 alkaen | lasten- ja nuortenosaston koulutustila\nLeppoisa elokuvahetki lapsille.\nElokuvana: Minecraft-elokuva (ikäraja K7\, kesto 1 h 50 min). Puhuttu suomeksi. \nHUOM! leffahetki on omatoiminen.  \nTervetuloa viettämään mukavia kesäpäiviä pääkirjastolle! Huomioittehan kuitenkin\, että lapsi on Kesäkeskiviikko-tapahtumien aikana kirjastossa huoltajan vastuulla ja että kirjaston leffahetkissä noudatetaan KAVI:n asettamia ikärajamerkintöjä. Ikärajan jousto on kolme vuotta\, mikäli lapsi osallistuu leffahetkeen täysi-ikäisen\, tutun huoltajan kanssa.
URL:https://kuopionkirjasto.fi/event/paakirjaston-kesakeskiviikot-6/
LOCATION:Pääkirjasto\, Maaherrankatu 12\, Kuopio\, 70100\, Suomi
CATEGORIES:Kaikki tapahtumat,Lapset ja nuoret,Muut tapahtumat
END:VEVENT
BEGIN:VEVENT
DTSTART;TZID=Europe/Helsinki:20260715T100000
DTEND;TZID=Europe/Helsinki:20260715T120000
DTSTAMP:20260423T134046
CREATED:20260423T102936Z
LAST-MODIFIED:20260423T103016Z
UID:10003149-1784109600-1784116800@kuopionkirjasto.fi
SUMMARY:Pääkirjaston kesäkeskiviikot
DESCRIPTION:15.7. Palapelikollaasi-askartelu\nklo 10–12 | lasten- ja nuortenosaston koulutustila\nTule rakentelemaan erikoisia taidekollaaseja kirjaston poistopalapeleistä. Onnistutko luomaan vanhoista\, rikkinäisistä palapeleistä jotain uutta ja upeaa? \nAskarteluhetken ikäsuositus on 7+\, nuoremmat pääsevät mukaan täysi-ikäisen huoltajan seurassa. \nTervetuloa viettämään mukavia kesäpäiviä pääkirjastolle! Huomioittehan kuitenkin\, että lapsi on Kesäkeskiviikko-tapahtumien aikana kirjastossa huoltajan vastuulla ja että kirjaston leffahetkissä noudatetaan KAVI:n asettamia ikärajamerkintöjä. Ikärajan jousto on kolme vuotta\, mikäli lapsi osallistuu leffahetkeen täysi-ikäisen\, tutun huoltajan kanssa.
URL:https://kuopionkirjasto.fi/event/paakirjaston-kesakeskiviikot-7/
LOCATION:Pääkirjasto\, Maaherrankatu 12\, Kuopio\, 70100\, Suomi
CATEGORIES:Kaikki tapahtumat,Lapset ja nuoret,Muut tapahtumat
END:VEVENT
BEGIN:VEVENT
DTSTART;TZID=Europe/Helsinki:20260810T090000
DTEND;TZID=Europe/Helsinki:20260822T150000
DTSTAMP:20260423T134046
CREATED:20260330T061037Z
LAST-MODIFIED:20260330T061037Z
UID:10003125-1786352400-1787410800@kuopionkirjasto.fi
SUMMARY:Kuopion Sirkus 40 vuotta
DESCRIPTION:Juhlanäyttelyssä valokuvia Kuopion Sirkuksen 40-vuotisen taipaleen varrelta. \nTervetuloa tutustumaan! \n 
URL:https://kuopionkirjasto.fi/event/kuopion-sirkus-40-vuotta/
LOCATION:Pääkirjaston ala-aula\, Maaherrankatu 12\, Kuopio\, 70100\, Suomi
CATEGORIES:Kaikki tapahtumat,Näyttelyt
END:VEVENT
BEGIN:VEVENT
DTSTART;TZID=Europe/Helsinki:20260824T090000
DTEND;TZID=Europe/Helsinki:20260912T150000
DTSTAMP:20260423T134046
CREATED:20250929T123613Z
LAST-MODIFIED:20250929T124256Z
UID:10002642-1787562000-1789225200@kuopionkirjasto.fi
SUMMARY:Sosiaalinen asuinarkkitehtuuri
DESCRIPTION:Arkkitehti ja tutkija Anu Kaisa Koposen näyttelyn aiheena on Rooman sosiaalisen asuinrakentamisen kultakausi 1920-luvulla. \nTervetuloa! \nKuva: Anu Kaisa Koponenhttps://anukaisakoponen.myportfolio.com/current-projet-roman-social-housing-1919-1932  \n 
URL:https://kuopionkirjasto.fi/event/sosiaalinen-asuinarkkitehtuuri/
LOCATION:Pääkirjasto\, Maaherrankatu 12\, Kuopio\, 70100\, Suomi
CATEGORIES:Kaikki tapahtumat,Näyttelyt
END:VEVENT
BEGIN:VEVENT
DTSTART;TZID=Europe/Helsinki:20260914T090000
DTEND;TZID=Europe/Helsinki:20261003T150000
DTSTAMP:20260423T134046
CREATED:20251016T074702Z
LAST-MODIFIED:20251016T074702Z
UID:10002721-1789376400-1791039600@kuopionkirjasto.fi
SUMMARY:Valokuvia / Tuomas Virtanen
DESCRIPTION:Valokuvanäyttelyssä esillä osia neljästä eri valokuvasarjasta: \n\nIn The Building\nBurned\nHoliday Resort\nFortress\n\nNäyttelyyn tulevia kuvia nähtävissä myös verkossa.\nTervetuloa tutustumaan!
URL:https://kuopionkirjasto.fi/event/valokuvia-tuomas-virtanen/
LOCATION:Pääkirjasto\, Maaherrankatu 12\, Kuopio\, 70100\, Suomi
CATEGORIES:Kaikki tapahtumat,Näyttelyt
END:VEVENT
BEGIN:VEVENT
DTSTART;TZID=Europe/Helsinki:20261005T100000
DTEND;TZID=Europe/Helsinki:20261030T150000
DTSTAMP:20260423T134046
CREATED:20260114T114103Z
LAST-MODIFIED:20260128T070324Z
UID:10002992-1791194400-1793372400@kuopionkirjasto.fi
SUMMARY:Pro Mylly -näyttely
DESCRIPTION:Esillä luovien alojen yhdistys Pro Mylly ry:n jäsenten teoksia.\n(Tiedot tarkentuvat) \nTervetuloa!
URL:https://kuopionkirjasto.fi/event/pro-mylly-ryn-nayttely/
LOCATION:Pääkirjasto\, Maaherrankatu 12\, Kuopio\, 70100\, Suomi
CATEGORIES:Kaikki tapahtumat,Näyttelyt
END:VEVENT
END:VCALENDAR